From mboxrd@z Thu Jan 1 00:00:00 1970 Return-Path: Received: from mails.dpdk.org (mails.dpdk.org [217.70.189.124]) by inbox.dpdk.org (Postfix) with ESMTP id D7FD94897F for ; Sun, 19 Oct 2025 19:09:23 +0200 (CEST) Received: from mails.dpdk.org (localhost [127.0.0.1]) by mails.dpdk.org (Postfix) with ESMTP id D351F400D5; Sun, 19 Oct 2025 19:09:23 +0200 (CEST) Received: from mail-pl1-f228.google.com (mail-pl1-f228.google.com [209.85.214.228]) by mails.dpdk.org (Postfix) with ESMTP id 39E7B400D5 for ; Sun, 19 Oct 2025 19:09:23 +0200 (CEST) Received: by mail-pl1-f228.google.com with SMTP id d9443c01a7336-290ac2ef203so34209065ad.1 for ; Sun, 19 Oct 2025 10:09:23 -0700 (PDT) DKIM-Signature: v=1; a=rsa-sha256; c=relaxed/relaxed; d=iol.unh.edu; s=unh-iol; t=1760893762; x=1761498562; darn=dpdk.org; h=references:in-reply-to:cc:to:from:subject:message-id:date:from:to :cc:subject:date:message-id:reply-to; bh=owkSW6gq8RK4GZhZ3LAGMrKRIynCt2O+RFduSnH8jY8=; b=YFjhOe9vxirPcNVXTw3gjxvSYeROz4oq+EQzMTeLRw+R548a35kInk0dBU4+NUWUA8 OACVD9fa/u2F8sa1VFNtEUOuQF66FLQZGG2zTIutSxQX1QEa/CdJuo9+0J09sqqf4E8J AHIMzy2iRdJqfx3Jb3EKi7HTc5/6sRJqf2fkI= X-Google-DKIM-Signature: v=1; a=rsa-sha256; c=relaxed/relaxed; d=1e100.net; s=20230601; t=1760893762; x=1761498562; h=references:in-reply-to:cc:to:from:subject:message-id:date :x-gm-message-state:from:to:cc:subject:date:message-id:reply-to; bh=owkSW6gq8RK4GZhZ3LAGMrKRIynCt2O+RFduSnH8jY8=; b=h6wqu3ziBULXynZP1SLl91O2Zm9LsGBVzr965M0pmSqI3hPScN8E7sKlHSdGcqn09M FwKh6j+yHc1vYWzPX57egstkG3p+k8Txfk9a74u0wA/rpsd7NWVa6PTtGG8oi5fLuXwL uM1rG3uSY//n3RHDwMQo1OKMeEQRuMWsiIR2DrvUOrcv5Tmn6SkaPe/1yzVsuRzyzAwu Ed8rDAfVyfeGXfJtDgcH67sTyMRuu2EEBb/849DkZ8ZBHIJyiKOvYAe1HVaTKsx5hKoU zJrw1xNdZTN6ldGCG1FsyJPD3FIS8juSD0qBPQfLZ+Oxf9k4cOihjN0iSpudw4JcclQg UbSg== X-Gm-Message-State: AOJu0YyKPRdfotD+dnvjPNtvZVIC94k7V9rloFBBJC8qjwFZkXHgerNr UiSFhAgxNEouUqAx9myRfI9En4ukyoiPGPxFxYWL7Fa5BMoIrtNIRnz2Nc8HfsWT6ou04l0TFh2 GdVHlI08bGKnLMyReA1ZTOfn0ws2mryFQTMCEgo4AwMXs X-Gm-Gg: ASbGncsihTZbe68eTgbtguJucSI+yWMqEuwFAuodiGXjdg+BYpcLqBSBwkGGfYDNdxI cY3vl+040HPlF5JxsXOz5KuuhsCodi1lJ8s//ZCb9e0BFIMtilsouBJRDLTKKvZNvG0uNG3trP6 ITDW2cuUqOIBTAA7INkfw9dNm/r0zSblEuSf5tEPRjdMb3tlf3K1k5TIle/dPXCuM5/RWXPT3De HJuE9i6HqTp9d1VIHQ9SuoPRHn9gZsjxybLl0+dEJivVEgQCL1BMd3P+OYzuZOBqIbNI5djS8fn y2fDmXDhdaYx9bx12rjyo8OIacTX6ZiVsXiyrt+pOEsqCB9nQp7sUNTEcMdT+LsQUowGj1Ixevu gfb98k+QoOlXUXbFY/Zoq6ebVvlLcj60= X-Google-Smtp-Source: AGHT+IEBHt8VckH0hnVpAsclN+T3G2YCQ80AAjsgaP65PgoUyqB3sIhcpZBzqArQU1HRWiSu+9oaiB4qlFm2 X-Received: by 2002:a17:903:1a70:b0:274:5030:2906 with SMTP id d9443c01a7336-290cb27bcc3mr142741675ad.46.1760893762333; Sun, 19 Oct 2025 10:09:22 -0700 (PDT) Received: from postal.iol.unh.edu (postal.iol.unh.edu. [132.177.123.84]) by smtp-relay.gmail.com with ESMTPS id d9443c01a7336-292471dd960sm7335895ad.56.2025.10.19.10.09.22 (version=TLS1_2 cipher=ECDHE-ECDSA-AES128-GCM-SHA256 bits=128/128); Sun, 19 Oct 2025 10:09:22 -0700 (PDT) X-Relaying-Domain: iol.unh.edu Date: Sun, 19 Oct 2025 10:09:22 -0700 (PDT) Message-ID: <68f51b42.170a0220.25d2a5.3df7SMTPIN_ADDED_MISSING@mx.google.com> Received: from [172.21.0.3] (unknown [172.18.0.240]) by postal.iol.unh.edu (Postfix) with ESMTP id 9E85C6051830; Sun, 19 Oct 2025 13:09:21 -0400 (EDT) Subject: |SUCCESS| pw157826 [PATCH] devtools: fix awk regular expression From: dpdklab@iol.unh.edu To: Test Report Cc: dpdk-test-reports@iol.unh.edu In-Reply-To: <20251019160511.18173-1-stephen@networkplumber.org> References: <20251019160511.18173-1-stephen@networkplumber.org> Content-Type: text/plain X-BeenThere: test-report@dpdk.org X-Mailman-Version: 2.1.29 Precedence: list List-Id: automatic DPDK test reports List-Unsubscribe: , List-Archive: List-Post: List-Help: List-Subscribe: , Errors-To: test-report-bounces@dpdk.org Test-Label: iol-unit-amd64-testing Test-Status: SUCCESS http://dpdk.org/patch/157826 _Testing PASS_ Submitter: Stephen Hemminger Date: Sunday, October 19 2025 16:05:11 DPDK git baseline: Repo:dpdk Branch: master CommitID:97e2e198b96078a4732d468bf0a4e8ec45aa5717 157826 --> testing pass Upstream job id: Generic-VM-Unit-Test-DPDK#31921 Test environment and result as below: +-------------------------------+----------------+ | Environment | dpdk_unit_test | +===============================+================+ | Ubuntu 20.04 | PASS | +-------------------------------+----------------+ | Ubuntu 24.04 | PASS | +-------------------------------+----------------+ | Fedora Linux 40 | PASS | +-------------------------------+----------------+ | Red Hat Enterprise Linux 8.10 | PASS | +-------------------------------+----------------+ | Ubuntu 22.04 | PASS | +-------------------------------+----------------+ | Fedora Linux 41 | PASS | +-------------------------------+----------------+ | CentOS Stream 9 | PASS | +-------------------------------+----------------+ | Fedora Linux 42 | PASS | +-------------------------------+----------------+ | CentOS Stream 10 | PASS | +-------------------------------+----------------+ | Red Hat Enterprise Linux 9.5 | PASS | +-------------------------------+----------------+ | Debian GNU/Linux 12 | PASS | +-------------------------------+----------------+ | Windows Server 2022 | PASS | +-------------------------------+----------------+ Ubuntu 20.04 Kernel: 5.15 Compiler: gcc gcc (Ubuntu 9.4.0-1ubuntu1~20.04.2) 9.4.0 Ubuntu 24.04 Kernel: 5.15 Compiler: gcc gcc (Ubuntu 13.3.0-6ubuntu2~24.04) 13.3.0 Fedora Linux 40 Kernel: 5.15 Compiler: clang gcc (GCC) 14.2.1 20240912 (Red Hat 14.2.1-3) Red Hat Enterprise Linux 8.10 Kernel: 5.15 Compiler: gcc gcc (GCC) 8.5.0 20210514 (Red Hat 8.5.0-22) Ubuntu 22.04 Kernel: 5.15 Compiler: gcc gcc (Ubuntu 11.4.0-1ubuntu1~22.04) 11.4.0 Fedora Linux 41 Kernel: 5.15 Compiler: gcc gcc (GCC) 14.3.1 20250523 (Red Hat 14.3.1-1) CentOS Stream 9 Kernel: 5.15 Compiler: gcc gcc (GCC) 11.5.0 20240719 (Red Hat 11.5.0-11) Fedora Linux 42 Kernel: 5.15 Compiler: clang gcc (GCC) 15.2.1 20250808 (Red Hat 15.2.1-1) CentOS Stream 10 Kernel: 5.15 Compiler: gcc gcc (GCC) 14.2.1 20250110 (Red Hat 14.2.1-8) Red Hat Enterprise Linux 9.5 Kernel: 5.15 Compiler: gcc gcc (GCC) 11.5.0 20240719 (Red Hat 11.5.0-2) Debian GNU/Linux 12 Kernel: 5.15 Compiler: gcc gcc (Debian 12.2.0-14+deb12u1) 12.2.0 Windows Server 2022 Kernel: 10.0.20348.2031 Compiler: clang 15.0.7, gcc 14.1.0 (MinGW), and MSVC VS 19.39.33521 To view detailed results, visit: https://lab.dpdk.org/results/dashboard/patchsets/34324/ UNH-IOL DPDK Community Lab To manage your email subscriptions, visit: https://lab.dpdk.org/results/dashboard/preferences/subscriptions/