From mboxrd@z Thu Jan 1 00:00:00 1970 Return-Path: Received: from mails.dpdk.org (mails.dpdk.org [217.70.189.124]) by inbox.dpdk.org (Postfix) with ESMTP id 0CB0F4897F for ; Sun, 19 Oct 2025 19:18:26 +0200 (CEST) Received: from mails.dpdk.org (localhost [127.0.0.1]) by mails.dpdk.org (Postfix) with ESMTP id C61CA400D5; Sun, 19 Oct 2025 19:18:25 +0200 (CEST) Received: from mail-il1-f227.google.com (mail-il1-f227.google.com [209.85.166.227]) by mails.dpdk.org (Postfix) with ESMTP id 3B807400D5 for ; Sun, 19 Oct 2025 19:18:25 +0200 (CEST) Received: by mail-il1-f227.google.com with SMTP id e9e14a558f8ab-430cadec5deso21747725ab.1 for ; Sun, 19 Oct 2025 10:18:25 -0700 (PDT) DKIM-Signature: v=1; a=rsa-sha256; c=relaxed/relaxed; d=iol.unh.edu; s=unh-iol; t=1760894304; x=1761499104; darn=dpdk.org; h=references:in-reply-to:cc:to:from:subject:message-id:date:from:to :cc:subject:date:message-id:reply-to; bh=c9DWvX+0s8EruEAbRDZ/6uMSOF7x6Xhh0ixI0XchE1U=; b=ROiY74//I0ICH0uLSV2Kg5M7/WBOs9VLvng15rpcbuwY8Kwi855CIoovh7EQQyo1aj SZXVuRTK0SRxdRxB9ZlD3E6yWhcRWDXOnYIe7C4ZmN2n1JcQGb8dxv8psVF+t8eNgFM6 avthfLojGZx+I5qgb/RacEK0rwiImKC6Ca9jk= X-Google-DKIM-Signature: v=1; a=rsa-sha256; c=relaxed/relaxed; d=1e100.net; s=20230601; t=1760894304; x=1761499104; h=references:in-reply-to:cc:to:from:subject:message-id:date :x-gm-message-state:from:to:cc:subject:date:message-id:reply-to; bh=c9DWvX+0s8EruEAbRDZ/6uMSOF7x6Xhh0ixI0XchE1U=; b=CwPNxKsSKU3KccgFUOI/SCBMcG75a9pVvpe+jR+XVUUzUeYK+F17Zx+CNSw8T9jarb DPYXNmcrgssWX+DLzpPEcwFxzFhqnarrp6Cu3o91wifwJg7aCBtZDWWWPY5rxb/0+3PE Epjz9/fXBjbbfJtQ/u8XZUWLN91GRvzxEVKl2j6gyptmuhlYqbdokXNhgcawDI/+HUWK wifgrek5PhbKyb2sGQ6Etl12jU1Lo2j0gaLHxACYkG5GaYHk4jf82MzkKinPVmra4+4A JFfmZFOXJso0sc8T3R7TH+On9lMBIX9I2fwLSkR+07+2xeCpitVM1RjNO711H1vFQOzS z/ig== X-Gm-Message-State: AOJu0YzIECu3s3AB5WnFzbE5aLEIczGkSVCvp5DYSQylaUJuzZ9Qj32R 5js+AY/dxmtbqQSr7+2exhpZa2ZBkDaHsWT3qWISMk7mM/bU1Fx4hZ3hX4f8TtWyxgLyfA4SLMj dCEyQHCX/vhaSGGvwD7YHMAfM6RG65fx+9WzApWRfFANenUF31Fjc7zIfyHuR X-Gm-Gg: ASbGncvFKqxAqCESS80UltZpddVK0fxFTifCCkFqEUhbYRUnLaLerP58zDropC/nxEh JQu+/ievdKA1iyoIo8UlPcj9rg3K/E/+OJXkq6ypTK9kUzF1FUMdDVeQDRogqqTYxNM7TeWggVz +lXHMDdXB1INnqI17toBqJHkw2e35HXE3RRcn74fQfz3Tj3I9J05ZiOJBUzqeexhat0sJRrKLbt 2AnUAO1KAs/kdMJGOP6lNrAeXqdGGx70YZGBSn6RlO+3CjQPcWorRl30UNenTCi8vBujzAC3fPX dxSxbmAU1a9M683fSFKwCLs9+uEK9atIZLcxoEcOaBETNV7ygT84qlZOmyzEq+54RifHzk26h3J zR4sGjXT6 X-Google-Smtp-Source: AGHT+IFt1VffaiXahSbc7sD7zse47O8oZpOErkBxZNVNl7taXmnecttZDlsaVn5SRJ3iIEfsmMdOsQ49ePnq X-Received: by 2002:a05:6e02:1a66:b0:430:bfbf:4e4a with SMTP id e9e14a558f8ab-430c527a5ddmr156295805ab.16.1760894304511; Sun, 19 Oct 2025 10:18:24 -0700 (PDT) Received: from postal.iol.unh.edu (postal.iol.unh.edu. [2606:4100:3880:1234::84]) by smtp-relay.gmail.com with ESMTPS id 8926c6da1cb9f-5a8a9745a7bsm784818173.27.2025.10.19.10.18.24 (version=TLS1_2 cipher=ECDHE-ECDSA-AES128-GCM-SHA256 bits=128/128); Sun, 19 Oct 2025 10:18:24 -0700 (PDT) X-Relaying-Domain: iol.unh.edu Date: Sun, 19 Oct 2025 10:18:24 -0700 (PDT) Message-ID: <68f51d60.050a0220.2704ed.6b02SMTPIN_ADDED_MISSING@mx.google.com> Received: from [172.21.0.2] (unknown [172.18.0.240]) by postal.iol.unh.edu (Postfix) with ESMTP id E84806051830; Sun, 19 Oct 2025 13:18:23 -0400 (EDT) Subject: |WARNING| pw157826 [PATCH] devtools: fix awk regular expression From: dpdklab@iol.unh.edu To: Test Report Cc: dpdk-test-reports@iol.unh.edu In-Reply-To: <20251019160511.18173-1-stephen@networkplumber.org> References: <20251019160511.18173-1-stephen@networkplumber.org> Content-Type: text/plain X-BeenThere: test-report@dpdk.org X-Mailman-Version: 2.1.29 Precedence: list List-Id: automatic DPDK test reports List-Unsubscribe: , List-Archive: List-Post: List-Help: List-Subscribe: , Errors-To: test-report-bounces@dpdk.org Test-Label: iol-compile-amd64-testing Test-Status: WARNING http://dpdk.org/patch/157826 _Testing issues_ Submitter: Stephen Hemminger Date: Sunday, October 19 2025 16:05:11 DPDK git baseline: Repo:dpdk Branch: master CommitID:97e2e198b96078a4732d468bf0a4e8ec45aa5717 157826 --> testing issues Upstream job id: Generic-DPDK-Compile-Meson#435939 Test environment and result as below: +-------------------------------+--------------------+-------------------+------------------+-------------------+-------------------------+----------------------+ | Environment | dpdk_meson_compile | dpdk_compile_spdk | dpdk_compile_ovs | dpdk_msvc_compile | dpdk_llvm_clang_compile | dpdk_mingw64_compile | +===============================+====================+===================+==================+===================+=========================+======================+ | Red Hat Enterprise Linux 9.5 | PASS | SKIPPED | SKIPPED | SKIPPED | SKIPPED | SKIPPED | +-------------------------------+--------------------+-------------------+------------------+-------------------+-------------------------+----------------------+ | FreeBSD 14.2 | PASS | SKIPPED | SKIPPED | SKIPPED | SKIPPED | SKIPPED | +-------------------------------+--------------------+-------------------+------------------+-------------------+-------------------------+----------------------+ | Ubuntu 20.04 | PASS | SKIPPED | SKIPPED | SKIPPED | SKIPPED | SKIPPED | +-------------------------------+--------------------+-------------------+------------------+-------------------+-------------------------+----------------------+ | Debian GNU/Linux 12 | PASS | WARN | SKIPPED | SKIPPED | SKIPPED | SKIPPED | +-------------------------------+--------------------+-------------------+------------------+-------------------+-------------------------+----------------------+ | Red Hat Enterprise Linux 8.10 | PASS | SKIPPED | SKIPPED | SKIPPED | SKIPPED | SKIPPED | +-------------------------------+--------------------+-------------------+------------------+-------------------+-------------------------+----------------------+ | CentOS Stream 10 | PASS | SKIPPED | SKIPPED | SKIPPED | SKIPPED | SKIPPED | +-------------------------------+--------------------+-------------------+------------------+-------------------+-------------------------+----------------------+ | Ubuntu 22.04 | PASS | WARN | SKIPPED | SKIPPED | SKIPPED | SKIPPED | +-------------------------------+--------------------+-------------------+------------------+-------------------+-------------------------+----------------------+ | Fedora Linux 42 | PASS | WARN | PASS | SKIPPED | SKIPPED | SKIPPED | +-------------------------------+--------------------+-------------------+------------------+-------------------+-------------------------+----------------------+ | openSUSE Leap 15.6 | PASS | SKIPPED | SKIPPED | SKIPPED | SKIPPED | SKIPPED | +-------------------------------+--------------------+-------------------+------------------+-------------------+-------------------------+----------------------+ | Ubuntu 24.04 | PASS | WARN | PASS | SKIPPED | SKIPPED | SKIPPED | +-------------------------------+--------------------+-------------------+------------------+-------------------+-------------------------+----------------------+ | Alpine Linux 3.22.0 | PASS | SKIPPED | SKIPPED | SKIPPED | SKIPPED | SKIPPED | +-------------------------------+--------------------+-------------------+------------------+-------------------+-------------------------+----------------------+ | CentOS Stream 9 | PASS | WARN | SKIPPED | SKIPPED | SKIPPED | SKIPPED | +-------------------------------+--------------------+-------------------+------------------+-------------------+-------------------------+----------------------+ | Windows Server 2022 | SKIPPED | SKIPPED | SKIPPED | PASS | PASS | PASS | +-------------------------------+--------------------+-------------------+------------------+-------------------+-------------------------+----------------------+ ==== 20 line log output for CentOS Stream 9 (dpdk_compile_spdk): ==== --- Failed to get log output --- ==== End log output ==== Red Hat Enterprise Linux 9.5 Kernel: 5.15 Compiler: gcc gcc (GCC) 11.5.0 20240719 (Red Hat 11.5.0-2) FreeBSD 14.2 Kernel: 14.2-RELEASE Compiler: clang 18.1.6 Ubuntu 20.04 Kernel: 5.15 Compiler: gcc gcc (Ubuntu 9.4.0-1ubuntu1~20.04.2) 9.4.0 Debian GNU/Linux 12 Kernel: 5.15 Compiler: gcc gcc (Debian 12.2.0-14+deb12u1) 12.2.0 Red Hat Enterprise Linux 8.10 Kernel: 5.15 Compiler: gcc gcc (GCC) 8.5.0 20210514 (Red Hat 8.5.0-22) CentOS Stream 10 Kernel: 5.15 Compiler: gcc gcc (GCC) 14.2.1 20250110 (Red Hat 14.2.1-8) Ubuntu 22.04 Kernel: 5.15 Compiler: gcc gcc (Ubuntu 11.4.0-1ubuntu1~22.04) 11.4.0 Fedora Linux 42 Kernel: 5.15 Compiler: clang gcc (GCC) 15.2.1 20250808 (Red Hat 15.2.1-1) openSUSE Leap 15.6 Kernel: 5.15 Compiler: gcc gcc (SUSE Linux) 7.5.0 Ubuntu 24.04 Kernel: 5.15 Compiler: gcc gcc (Ubuntu 13.3.0-6ubuntu2~24.04) 13.3.0 Alpine Linux 3.22.0 Kernel: 5.15 Compiler: gcc gcc (Alpine 14.2.0) 14.2.0 CentOS Stream 9 Kernel: 5.15 Compiler: gcc gcc (GCC) 11.5.0 20240719 (Red Hat 11.5.0-11) Windows Server 2022 Kernel: 10.0.20348.2031 Compiler: clang 15.0.7, gcc 14.1.0 (MinGW), and MSVC VS 19.39.33521 To view detailed results, visit: https://lab.dpdk.org/results/dashboard/patchsets/34324/ UNH-IOL DPDK Community Lab To manage your email subscriptions, visit: https://lab.dpdk.org/results/dashboard/preferences/subscriptions/