From mboxrd@z Thu Jan 1 00:00:00 1970 Return-Path: Received: from mails.dpdk.org (mails.dpdk.org [217.70.189.124]) by inbox.dpdk.org (Postfix) with ESMTP id 4D18A48980 for ; Sun, 19 Oct 2025 20:11:05 +0200 (CEST) Received: from mails.dpdk.org (localhost [127.0.0.1]) by mails.dpdk.org (Postfix) with ESMTP id 14C5E400D5; Sun, 19 Oct 2025 20:11:05 +0200 (CEST) Received: from mail-io1-f99.google.com (mail-io1-f99.google.com [209.85.166.99]) by mails.dpdk.org (Postfix) with ESMTP id 61DBB400D5 for ; Sun, 19 Oct 2025 20:11:03 +0200 (CEST) Received: by mail-io1-f99.google.com with SMTP id ca18e2360f4ac-93f11fdd538so52702039f.3 for ; Sun, 19 Oct 2025 11:11:03 -0700 (PDT) DKIM-Signature: v=1; a=rsa-sha256; c=relaxed/relaxed; d=iol.unh.edu; s=unh-iol; t=1760897463; x=1761502263; darn=dpdk.org; h=references:in-reply-to:cc:to:from:subject:message-id:date:from:to :cc:subject:date:message-id:reply-to; bh=ToQzAAF8qZGdiqpn4Or5UzE/vQHm7sdQlbskVxs698E=; b=dD7XmxxdjXTT+2QCzFCWdgtZV92olfZRs3nYDivropI21pIs1O56DaGhuXCkIDSWVs t7h6rnXbIXLkeNOJr6FibECyXIdSQ+iBmjf+Jjd6L0AUAtkB4Qk1H0Eoj4C1FGWMx2aZ BcsyC0fBAb7ZHhB8GG1qBAWXf4Dd95N2owb+Y= X-Google-DKIM-Signature: v=1; a=rsa-sha256; c=relaxed/relaxed; d=1e100.net; s=20230601; t=1760897463; x=1761502263; h=references:in-reply-to:cc:to:from:subject:message-id:date :x-gm-message-state:from:to:cc:subject:date:message-id:reply-to; bh=ToQzAAF8qZGdiqpn4Or5UzE/vQHm7sdQlbskVxs698E=; b=BMVV56/xrg2ZAnkmmHlgY9h22iPs4sQRVGKITcOa80DH0feOHi7MwgNCx5YBsM/Xkz LssjowYYO8BXvqAmN5PkF2OaVJOrc24wADJAHtr3OhmVtyNio8yX+iLgHUMQNWIp1BLn b6+al/ZVyK0TBaF8juh+cthgpY6UW+IaNLS9JAyNbLQjIeX5ltouO09YWWREmgE3w7SR zvQP4DAHnGZxv0Hq5RL3zKkqCAMulYCfBtGnooPAs/oa38Z2mP5f6SPgIFG4i9Q3kISp O9GvtG2/qXsGwdJm4YPKVkDHnr9yxh5PhL25G6RWfojTp1oh8821sqTiD7aAX/uzj82W SVYA== X-Gm-Message-State: AOJu0YxFDUuzJ0muDPRH5aXnQ2UPlucdg4ioKbECQiOQOSky2DUOPfuf cImEfn9r5taxVW3TmIKBxUQuH9C3w2s7BeMY0vv0FT26MRUYlKBx00EhjXWW+bvWD8syFmEVN/K 7An6uizNf9CUEbkSanNbERzFe15zVEyPYRq5Twl6iAYO5bYEGGSRmDuaUmS3D X-Gm-Gg: ASbGnctGVZKHpNVnIW81Z3ur9Aj9U2L/SbYjHMsY1Sbo+Z1cElrW/VXkHmFObPdAgd3 m1UykTuNgf/M8Pw4dFMGujOSvgjSPvxC+1guXurV5VdCKrpMsrK50ai4jg+zig1IoZZ5GW3DtKc qGpzNUK0QRpvSo3m7cFlfaR6+9zGC+p7rn/tyWIIjdllQScI9X6cvJmzp8BMD3uVnlGRr167C9X vKYpivSQhfhjl8Eg3gB2/+6DhbpoW5xnRx8zI8oiub7ZFAoSwx5Hz9Rc9ce7Na8WNwEptwfk4Sn gAWn5EzE9TSNbT/K+WNhaj6UG0x9jk6/L4rFrtnSiKg3V+rhQyUyWLxA56Ds2M6Jrqxs5oim9ZH N9CkW/x4r X-Google-Smtp-Source: AGHT+IHiGHUoZocVW+kHOPeK6wEp8L5J5GPmG9+pG9obllVtg4Wyf13SMuVQczwS3u6qexlASs1TzM7vxiBL X-Received: by 2002:a05:6e02:3787:b0:42d:8b25:47ed with SMTP id e9e14a558f8ab-430c51eb7d1mr168314155ab.6.1760897462685; Sun, 19 Oct 2025 11:11:02 -0700 (PDT) Received: from postal.iol.unh.edu (postal.iol.unh.edu. [2606:4100:3880:1234::84]) by smtp-relay.gmail.com with ESMTPS id e9e14a558f8ab-430d0700a79sm7011785ab.5.2025.10.19.11.11.02 (version=TLS1_2 cipher=ECDHE-ECDSA-AES128-GCM-SHA256 bits=128/128); Sun, 19 Oct 2025 11:11:02 -0700 (PDT) X-Relaying-Domain: iol.unh.edu Date: Sun, 19 Oct 2025 11:11:02 -0700 (PDT) Message-ID: <68f529b6.050a0220.18e11c.516dSMTPIN_ADDED_MISSING@mx.google.com> Received: from [172.21.0.3] (unknown [172.18.0.240]) by postal.iol.unh.edu (Postfix) with ESMTP id 3A5BF6051830; Sun, 19 Oct 2025 14:11:02 -0400 (EDT) Subject: |WARNING| pw157827-157834 [PATCH] [v3,8/8] doc: update documentation From: dpdklab@iol.unh.edu To: Test Report Cc: dpdk-test-reports@iol.unh.edu In-Reply-To: <20251019165728.164929-9-stephen@networkplumber.org> References: <20251019165728.164929-9-stephen@networkplumber.org> Content-Type: text/plain X-BeenThere: test-report@dpdk.org X-Mailman-Version: 2.1.29 Precedence: list List-Id: automatic DPDK test reports List-Unsubscribe: , List-Archive: List-Post: List-Help: List-Subscribe: , Errors-To: test-report-bounces@dpdk.org Test-Label: iol-compile-amd64-testing Test-Status: WARNING http://dpdk.org/patch/157834 _Testing issues_ Submitter: Stephen Hemminger Date: Sunday, October 19 2025 16:56:15 DPDK git baseline: Repo:dpdk Branch: master CommitID:97e2e198b96078a4732d468bf0a4e8ec45aa5717 157827-157834 --> testing issues Upstream job id: Generic-DPDK-Compile-Meson#435968 Test environment and result as below: +-------------------------------+-------------------------+-------------------+--------------------+-------------------+------------------+----------------------+ | Environment | dpdk_llvm_clang_compile | dpdk_msvc_compile | dpdk_meson_compile | dpdk_compile_spdk | dpdk_compile_ovs | dpdk_mingw64_compile | +===============================+=========================+===================+====================+===================+==================+======================+ | Windows Server 2022 | PASS | PASS | SKIPPED | SKIPPED | SKIPPED | PASS | +-------------------------------+-------------------------+-------------------+--------------------+-------------------+------------------+----------------------+ | FreeBSD 14.2 | SKIPPED | SKIPPED | PASS | SKIPPED | SKIPPED | SKIPPED | +-------------------------------+-------------------------+-------------------+--------------------+-------------------+------------------+----------------------+ | CentOS Stream 10 | SKIPPED | SKIPPED | PASS | SKIPPED | SKIPPED | SKIPPED | +-------------------------------+-------------------------+-------------------+--------------------+-------------------+------------------+----------------------+ | CentOS Stream 9 | SKIPPED | SKIPPED | PASS | WARN | SKIPPED | SKIPPED | +-------------------------------+-------------------------+-------------------+--------------------+-------------------+------------------+----------------------+ | Debian GNU/Linux 12 | SKIPPED | SKIPPED | PASS | WARN | SKIPPED | SKIPPED | +-------------------------------+-------------------------+-------------------+--------------------+-------------------+------------------+----------------------+ | Ubuntu 22.04 | SKIPPED | SKIPPED | PASS | WARN | SKIPPED | SKIPPED | +-------------------------------+-------------------------+-------------------+--------------------+-------------------+------------------+----------------------+ | Fedora Linux 42 | SKIPPED | SKIPPED | PASS | WARN | PASS | SKIPPED | +-------------------------------+-------------------------+-------------------+--------------------+-------------------+------------------+----------------------+ | Ubuntu 24.04 | SKIPPED | SKIPPED | PASS | WARN | PASS | SKIPPED | +-------------------------------+-------------------------+-------------------+--------------------+-------------------+------------------+----------------------+ | Alpine Linux 3.22.0 | SKIPPED | SKIPPED | PASS | SKIPPED | SKIPPED | SKIPPED | +-------------------------------+-------------------------+-------------------+--------------------+-------------------+------------------+----------------------+ | Red Hat Enterprise Linux 9.5 | SKIPPED | SKIPPED | PASS | SKIPPED | SKIPPED | SKIPPED | +-------------------------------+-------------------------+-------------------+--------------------+-------------------+------------------+----------------------+ | Ubuntu 20.04 | SKIPPED | SKIPPED | PASS | SKIPPED | SKIPPED | SKIPPED | +-------------------------------+-------------------------+-------------------+--------------------+-------------------+------------------+----------------------+ | Red Hat Enterprise Linux 8.10 | SKIPPED | SKIPPED | PASS | SKIPPED | SKIPPED | SKIPPED | +-------------------------------+-------------------------+-------------------+--------------------+-------------------+------------------+----------------------+ | openSUSE Leap 15.6 | SKIPPED | SKIPPED | PASS | SKIPPED | SKIPPED | SKIPPED | +-------------------------------+-------------------------+-------------------+--------------------+-------------------+------------------+----------------------+ ==== 20 line log output for Ubuntu 24.04 (dpdk_compile_spdk): ==== --- Failed to get log output --- ==== End log output ==== Windows Server 2022 Kernel: 10.0.20348.2031 Compiler: clang 15.0.7, gcc 14.1.0 (MinGW), and MSVC VS 19.39.33521 FreeBSD 14.2 Kernel: 14.2-RELEASE Compiler: clang 18.1.6 CentOS Stream 10 Kernel: 5.15 Compiler: gcc gcc (GCC) 14.2.1 20250110 (Red Hat 14.2.1-8) CentOS Stream 9 Kernel: 5.15 Compiler: gcc gcc (GCC) 11.5.0 20240719 (Red Hat 11.5.0-11) Debian GNU/Linux 12 Kernel: 5.15 Compiler: gcc gcc (Debian 12.2.0-14+deb12u1) 12.2.0 Ubuntu 22.04 Kernel: 5.15 Compiler: gcc gcc (Ubuntu 11.4.0-1ubuntu1~22.04) 11.4.0 Fedora Linux 42 Kernel: 5.15 Compiler: gcc gcc (GCC) 15.2.1 20250808 (Red Hat 15.2.1-1) Ubuntu 24.04 Kernel: 5.15 Compiler: gcc gcc (Ubuntu 13.3.0-6ubuntu2~24.04) 13.3.0 Alpine Linux 3.22.0 Kernel: 5.15 Compiler: gcc gcc (Alpine 14.2.0) 14.2.0 Red Hat Enterprise Linux 9.5 Kernel: 5.15 Compiler: gcc gcc (GCC) 11.5.0 20240719 (Red Hat 11.5.0-2) Ubuntu 20.04 Kernel: 5.15 Compiler: gcc gcc (Ubuntu 9.4.0-1ubuntu1~20.04.2) 9.4.0 Red Hat Enterprise Linux 8.10 Kernel: 5.15 Compiler: gcc gcc (GCC) 8.5.0 20210514 (Red Hat 8.5.0-22) openSUSE Leap 15.6 Kernel: 5.15 Compiler: gcc gcc (SUSE Linux) 7.5.0 To view detailed results, visit: https://lab.dpdk.org/results/dashboard/patchsets/34325/ UNH-IOL DPDK Community Lab To manage your email subscriptions, visit: https://lab.dpdk.org/results/dashboard/preferences/subscriptions/