From mboxrd@z Thu Jan 1 00:00:00 1970 Return-Path: Received: from mails.dpdk.org (mails.dpdk.org [217.70.189.124]) by inbox.dpdk.org (Postfix) with ESMTP id A689A48980 for ; Sun, 19 Oct 2025 20:15:13 +0200 (CEST) Received: from mails.dpdk.org (localhost [127.0.0.1]) by mails.dpdk.org (Postfix) with ESMTP id 91D8E400D5; Sun, 19 Oct 2025 20:15:13 +0200 (CEST) Received: from mail-qv1-f99.google.com (mail-qv1-f99.google.com [209.85.219.99]) by mails.dpdk.org (Postfix) with ESMTP id 99673400D5 for ; Sun, 19 Oct 2025 20:15:11 +0200 (CEST) Received: by mail-qv1-f99.google.com with SMTP id 6a1803df08f44-81fdd5d7b59so52545636d6.3 for ; Sun, 19 Oct 2025 11:15:11 -0700 (PDT) DKIM-Signature: v=1; a=rsa-sha256; c=relaxed/relaxed; d=iol.unh.edu; s=unh-iol; t=1760897711; x=1761502511; darn=dpdk.org; h=references:in-reply-to:cc:to:from:subject:message-id:date:from:to :cc:subject:date:message-id:reply-to; bh=bxWPBXdXT+TKes48khuJGUfUXCAZr+hO6yn8u5IDamI=; b=KhiPh9bQr+Dg+Cja03CrVziubz6P0PeKCKZrsJI1U/CHEEufXQT8GVCNs1O4VqLUBT psRMMg3BwgBmTOHMhYePgH68iiY87TL7DgCFezk2N2u+Z70zef49Kmgl5hX6bEl5WKsp AaMoA4W7AZCO2EQ7SbqYXdxZAdhdpMwB1CGsU= X-Google-DKIM-Signature: v=1; a=rsa-sha256; c=relaxed/relaxed; d=1e100.net; s=20230601; t=1760897711; x=1761502511; h=references:in-reply-to:cc:to:from:subject:message-id:date :x-gm-message-state:from:to:cc:subject:date:message-id:reply-to; bh=bxWPBXdXT+TKes48khuJGUfUXCAZr+hO6yn8u5IDamI=; b=UTcP3jbgsir4ByXTj2vpHn1IPLi1f082l/mF49IDnEky9ez3l9TKxU1G95Cp6IPlWw IF2ROdsBko/uiQ+BG04eDO5fO4PbGiX8S82AJ6ZiiQhZZ90tppKRZ7c8MY9ePchuwpmf bxCt0UAprLcdsGjkVa2L6bIokL3pd3CVQ1a8aFOOEJceO06wu+roiNsffGzjqTzFTQ9w 1IOijo9z7EtXcKjOzGlUWx1x9FIl4v2iQ9TzzaNK9evHW9D6JLBJxRzyYNGBc/MbMUnx g7zrycrEmFmzGl2FTKnJjysqM5stG3a+maGjeOZz7MOL6zuTjOF1NR3MdDLPM/DTnwsH oDdw== X-Gm-Message-State: AOJu0Yzg7AIYpbydbAH0JGXFJOMGQtdZq8sppLsDOAB8kqf9YWqskZOa 0DkoRXJ6YCHNS5/IKPHzh8XbhoqTo7v047LOlNETfcsevbRD9IFxN6DXMnl/tfjEGlm8zIjgX5C fM5ftIUVvBwPViUEvvZdt1Fb/k6oaK2/F/FeHrnof/Hfs X-Gm-Gg: ASbGncuE6cKAd9ZCVKOkAAshYJs0KO+LowhrpS2yEGyRzfZDEhOPwvX+FtuM4LDfnoi dSDZ3euvXIHFQ0aOmF6gacOBS01kDVwb23HOwFdw+wkF5G86VgaXYuxzM6/7SFgdyu2AOPTRDZD xiTO/UJFBwcIa+EZyhs6a6/V31n4hRf94deMS1vTusY4gyOBB08XHjjVC/5RNUX1yygDT5oUjZ2 Rch/TAKdnUKUH/2IQxPy1HY5jljfD14azlW2IE2j9Rn5/esU4+sA42oANAPBLPmirJUsBzmNWYK UCs7HSRrGV8ZC9hfM0jv7UMdG5avRK0URkR+M8Tnn8Wm6lawj0dvhY/VTgv0QJXjVhvKH3TDX/0 mxkfIkEMGs73/7jmC30oB9CK7942l0W4= X-Google-Smtp-Source: AGHT+IGVfee1nbavdY64dFpmsPH5hBhPn1kfAVQD+UVHG561tu5YgPUn3LqzNJqughskJC4QcGhmVYwt7u3g X-Received: by 2002:a05:6214:418e:b0:87c:2095:a505 with SMTP id 6a1803df08f44-87c2095a71cmr144702926d6.67.1760897710886; Sun, 19 Oct 2025 11:15:10 -0700 (PDT) Received: from postal.iol.unh.edu (postal.iol.unh.edu. [132.177.123.84]) by smtp-relay.gmail.com with ESMTPS id 6a1803df08f44-87ce9f5c485sm8463146d6.1.2025.10.19.11.15.10 (version=TLS1_2 cipher=ECDHE-ECDSA-AES128-GCM-SHA256 bits=128/128); Sun, 19 Oct 2025 11:15:10 -0700 (PDT) X-Relaying-Domain: iol.unh.edu Date: Sun, 19 Oct 2025 11:15:10 -0700 (PDT) Message-ID: <68f52aae.050a0220.24c12a.8cf2SMTPIN_ADDED_MISSING@mx.google.com> Received: from [172.21.0.2] (unknown [172.18.0.240]) by postal.iol.unh.edu (Postfix) with ESMTP id 945A76051830; Sun, 19 Oct 2025 14:15:10 -0400 (EDT) Subject: |SUCCESS| pw157827-157834 [PATCH] [v3,8/8] doc: update documentation From: dpdklab@iol.unh.edu To: Test Report Cc: dpdk-test-reports@iol.unh.edu In-Reply-To: <20251019165728.164929-9-stephen@networkplumber.org> References: <20251019165728.164929-9-stephen@networkplumber.org> Content-Type: text/plain X-BeenThere: test-report@dpdk.org X-Mailman-Version: 2.1.29 Precedence: list List-Id: automatic DPDK test reports List-Unsubscribe: , List-Archive: List-Post: List-Help: List-Subscribe: , Errors-To: test-report-bounces@dpdk.org Test-Label: iol-unit-amd64-testing Test-Status: SUCCESS http://dpdk.org/patch/157834 _Testing PASS_ Submitter: Stephen Hemminger Date: Sunday, October 19 2025 16:56:15 DPDK git baseline: Repo:dpdk Branch: master CommitID:97e2e198b96078a4732d468bf0a4e8ec45aa5717 157827-157834 --> testing pass Upstream job id: Generic-Unit-Test-DPDK#383293 Test environment and result as below: +-------------------------------+----------------+ | Environment | dpdk_unit_test | +===============================+================+ | Fedora Linux 41 | PASS | +-------------------------------+----------------+ | CentOS Stream 10 | PASS | +-------------------------------+----------------+ | Ubuntu 24.04 | PASS | +-------------------------------+----------------+ | CentOS Stream 9 | PASS | +-------------------------------+----------------+ | Debian GNU/Linux 12 | PASS | +-------------------------------+----------------+ | Fedora Linux 42 | PASS | +-------------------------------+----------------+ | Fedora Linux 40 | PASS | +-------------------------------+----------------+ | Ubuntu 20.04 | PASS | +-------------------------------+----------------+ | Red Hat Enterprise Linux 8.10 | PASS | +-------------------------------+----------------+ | Red Hat Enterprise Linux 9.5 | PASS | +-------------------------------+----------------+ | Ubuntu 22.04 | PASS | +-------------------------------+----------------+ | Windows Server 2022 | PASS | +-------------------------------+----------------+ Fedora Linux 41 Kernel: 5.15 Compiler: clang gcc (GCC) 14.3.1 20250523 (Red Hat 14.3.1-1) CentOS Stream 10 Kernel: 5.15 Compiler: gcc gcc (GCC) 14.2.1 20250110 (Red Hat 14.2.1-8) Ubuntu 24.04 Kernel: 5.15 Compiler: gcc gcc (Ubuntu 13.3.0-6ubuntu2~24.04) 13.3.0 CentOS Stream 9 Kernel: 5.15 Compiler: gcc gcc (GCC) 11.5.0 20240719 (Red Hat 11.5.0-11) Debian GNU/Linux 12 Kernel: 5.15 Compiler: gcc gcc (Debian 12.2.0-14+deb12u1) 12.2.0 Fedora Linux 42 Kernel: 5.15 Compiler: clang gcc (GCC) 15.2.1 20250808 (Red Hat 15.2.1-1) Fedora Linux 40 Kernel: 5.15 Compiler: clang gcc (GCC) 14.2.1 20240912 (Red Hat 14.2.1-3) Ubuntu 20.04 Kernel: 5.15 Compiler: gcc gcc (Ubuntu 9.4.0-1ubuntu1~20.04.2) 9.4.0 Red Hat Enterprise Linux 8.10 Kernel: 5.15 Compiler: gcc gcc (GCC) 8.5.0 20210514 (Red Hat 8.5.0-22) Red Hat Enterprise Linux 9.5 Kernel: 5.15 Compiler: gcc gcc (GCC) 11.5.0 20240719 (Red Hat 11.5.0-2) Ubuntu 22.04 Kernel: 5.15 Compiler: gcc gcc (Ubuntu 11.4.0-1ubuntu1~22.04) 11.4.0 Windows Server 2022 Kernel: 10.0.20348.2031 Compiler: clang 15.0.7, gcc 14.1.0 (MinGW), and MSVC VS 19.39.33521 To view detailed results, visit: https://lab.dpdk.org/results/dashboard/patchsets/34325/ UNH-IOL DPDK Community Lab To manage your email subscriptions, visit: https://lab.dpdk.org/results/dashboard/preferences/subscriptions/