From mboxrd@z Thu Jan 1 00:00:00 1970 Return-Path: Received: from mails.dpdk.org (mails.dpdk.org [217.70.189.124]) by inbox.dpdk.org (Postfix) with ESMTP id 961F948980 for ; Sun, 19 Oct 2025 20:39:48 +0200 (CEST) Received: from mails.dpdk.org (localhost [127.0.0.1]) by mails.dpdk.org (Postfix) with ESMTP id 31F1D400D5; Sun, 19 Oct 2025 20:39:48 +0200 (CEST) Received: from mail-qk1-f225.google.com (mail-qk1-f225.google.com [209.85.222.225]) by mails.dpdk.org (Postfix) with ESMTP id 94788400D5 for ; Sun, 19 Oct 2025 20:39:46 +0200 (CEST) Received: by mail-qk1-f225.google.com with SMTP id af79cd13be357-88ed6837e2eso836586285a.1 for ; Sun, 19 Oct 2025 11:39:46 -0700 (PDT) DKIM-Signature: v=1; a=rsa-sha256; c=relaxed/relaxed; d=iol.unh.edu; s=unh-iol; t=1760899186; x=1761503986; darn=dpdk.org; h=references:in-reply-to:cc:to:from:subject:message-id:date:from:to :cc:subject:date:message-id:reply-to; bh=z1RaR32dvVZTjEJ+NxyrYG/pXsjN05UndvOSpAN5o14=; b=hA0LdtDzVE/05Sb3zm11JWrDd1AR/+MU3ok2/bl0V5sahdnRId+UkNzaw/u8pKAHqL lNBqZ5JxoP0/4ByVl6dgDSN01oBN8dLOoDXv7LIaPAtv2DrjvxiNjKmbz0gLmZGo3AHo FF3EiDA++sfbTwTfZpgkuyUENuEfSs/BDuHAw= X-Google-DKIM-Signature: v=1; a=rsa-sha256; c=relaxed/relaxed; d=1e100.net; s=20230601; t=1760899186; x=1761503986; h=references:in-reply-to:cc:to:from:subject:message-id:date :x-gm-message-state:from:to:cc:subject:date:message-id:reply-to; bh=z1RaR32dvVZTjEJ+NxyrYG/pXsjN05UndvOSpAN5o14=; b=YiWwSSIPTf60F1d8HR7ezGQdKL40pKXvu4l8sYxigcmhbYAttDm35WKA/5cicLOE5T X4pbFj63jxEgMTehE6ULTmxHVMU6TSZvHByiQgnaO8DcHakWBCJxeAu1zz6KqrbdtFgk n7b9MIP2jfjnOpQNKboKp6Wp20Io+EoDU+ss5P67lKUCIn0ypxmJSJHFNc70q61Tn5T2 s0+yQ2niq1u5KNy7AkMS/4RXXWyA/DygU1qCk83n9CA0Qns2MdRL8D0Ui8y0UBj80vWZ HqUWAibNB8DdSCw4CwLxhX+Ay2wWSAvU6aonymvDqqtycbb+DEwUb8s6WW8c7Jt7uKfZ YiiA== X-Gm-Message-State: AOJu0Yz0M2MPlq2YSJ2KoTq/INF1CB1kWZXAR5Uekz0vii/9Nm86P5TF TpJLsBVVsvV/+pkqYPPJRwoKcwNFezWQTOclG9ZCl+jOsLrCV743VhDlLO7MhUqX02Bq8EeYDdy isISyToyAU6nzJ+ygpcWI2cN+2vxFFFjDe77psa2q8UNk/P2LTvOtQ7P23zFc X-Gm-Gg: ASbGnct1tDKqEMUmdgNDlByooGuVvkQQFdJn6lNXDRaxay47tGCgivzO2qh6crouSyA Ge2eT8v0bmKYwWouTMM2i/+1V9uM5VlqhK16I5AbIH3TG9JhqDsJD1uf8H8utXUqHUyM63BpWae oGB3XQk0zJxLEKlHpP9Yod8i+rjj+6WOOWH9e0ACXoWngvn2H2oeIbx6CxfhiQ46jSvohF21tPR UtierpDTdP19hS8bQCmwe5AyYY1/Ks7wL1wsrm9BFH4aMSKaWwaiDtsjFz7JLoxq3fp34NRmT0z KbrLdy3DHJgjd5MnIqS8NNRklKAxuyVVV4TpD0aJZHg3LzCI9uWPYx9ohquzzGnNXjpjWVfIX4J YMN/uWct2 X-Google-Smtp-Source: AGHT+IFYIiDcv1IPjAyCzj/aWoJsJ8j10bNUVwhVHMHQ3A0mlo0cjT75MjhcAsgH7orXUpl5453EHEeXs34M X-Received: by 2002:a05:620a:31a5:b0:891:5527:8ef9 with SMTP id af79cd13be357-89155279166mr1006031585a.20.1760899185796; Sun, 19 Oct 2025 11:39:45 -0700 (PDT) Received: from postal.iol.unh.edu (postal.iol.unh.edu. [2606:4100:3880:1234::84]) by smtp-relay.gmail.com with ESMTPS id af79cd13be357-891cfb58f23sm79216885a.7.2025.10.19.11.39.45 (version=TLS1_2 cipher=ECDHE-ECDSA-AES128-GCM-SHA256 bits=128/128); Sun, 19 Oct 2025 11:39:45 -0700 (PDT) X-Relaying-Domain: iol.unh.edu Date: Sun, 19 Oct 2025 11:39:45 -0700 (PDT) Message-ID: <68f53071.050a0220.1c481b.8191SMTPIN_ADDED_MISSING@mx.google.com> Received: from [172.21.0.3] (unknown [172.18.0.240]) by postal.iol.unh.edu (Postfix) with ESMTP id 7BF326051830; Sun, 19 Oct 2025 14:39:45 -0400 (EDT) Subject: |SUCCESS| pw157826 [PATCH] devtools: fix awk regular expression From: dpdklab@iol.unh.edu To: Test Report Cc: dpdk-test-reports@iol.unh.edu In-Reply-To: <20251019160511.18173-1-stephen@networkplumber.org> References: <20251019160511.18173-1-stephen@networkplumber.org> Content-Type: text/plain X-BeenThere: test-report@dpdk.org X-Mailman-Version: 2.1.29 Precedence: list List-Id: automatic DPDK test reports List-Unsubscribe: , List-Archive: List-Post: List-Help: List-Subscribe: , Errors-To: test-report-bounces@dpdk.org Test-Label: iol-unit-arm64-testing Test-Status: SUCCESS http://dpdk.org/patch/157826 _Testing PASS_ Submitter: Stephen Hemminger Date: Sunday, October 19 2025 16:05:11 DPDK git baseline: Repo:dpdk Branch: master CommitID:97e2e198b96078a4732d468bf0a4e8ec45aa5717 157826 --> testing pass Upstream job id: Generic-Unit-Test-DPDK#383266 Test environment and result as below: +------------------------------+----------------+--------------+------------------------------+---------------------------+ | Environment | dpdk_unit_test | lpm_autotest | cryptodev_sw_snow3g_autotest | cryptodev_sw_zuc_autotest | +==============================+================+==============+==============================+===========================+ | Fedora Linux 41 | PASS | SKIPPED | SKIPPED | SKIPPED | +------------------------------+----------------+--------------+------------------------------+---------------------------+ | CentOS Stream 10 | PASS | SKIPPED | SKIPPED | SKIPPED | +------------------------------+----------------+--------------+------------------------------+---------------------------+ | Fedora Linux 42 | PASS | SKIPPED | SKIPPED | SKIPPED | +------------------------------+----------------+--------------+------------------------------+---------------------------+ | Red Hat Enterprise Linux 9.5 | PASS | SKIPPED | SKIPPED | SKIPPED | +------------------------------+----------------+--------------+------------------------------+---------------------------+ | Debian GNU/Linux 12 | PASS | SKIPPED | SKIPPED | SKIPPED | +------------------------------+----------------+--------------+------------------------------+---------------------------+ | Fedora Linux 40 | PASS | SKIPPED | SKIPPED | SKIPPED | +------------------------------+----------------+--------------+------------------------------+---------------------------+ | Ubuntu 24.04 | PASS | SKIPPED | SKIPPED | SKIPPED | +------------------------------+----------------+--------------+------------------------------+---------------------------+ | Ubuntu 20.04 | PASS | PASS | SKIPPED | SKIPPED | +------------------------------+----------------+--------------+------------------------------+---------------------------+ | CentOS Stream 9 | PASS | SKIPPED | SKIPPED | SKIPPED | +------------------------------+----------------+--------------+------------------------------+---------------------------+ | Ubuntu 22.04 | PASS | SKIPPED | SKIPPED | SKIPPED | +------------------------------+----------------+--------------+------------------------------+---------------------------+ | Debian 12 (arm) | SKIPPED | SKIPPED | PASS | PASS | +------------------------------+----------------+--------------+------------------------------+---------------------------+ Fedora Linux 41 Kernel: 5.4 Compiler: clang gcc (GCC) 14.3.1 20250523 (Red Hat 14.3.1-1) CentOS Stream 10 Kernel: 5.4 Compiler: gcc gcc (GCC) 14.2.1 20250110 (Red Hat 14.2.1-8) Fedora Linux 42 Kernel: 5.4 Compiler: clang gcc (GCC) 15.2.1 20250808 (Red Hat 15.2.1-1) Red Hat Enterprise Linux 9.5 Kernel: 5.4 Compiler: gcc gcc (GCC) 11.5.0 20240719 (Red Hat 11.5.0-2) Debian GNU/Linux 12 Kernel: 5.4 Compiler: gcc gcc (Debian 12.2.0-14+deb12u1) 12.2.0 Fedora Linux 40 Kernel: 5.4 Compiler: gcc gcc (GCC) 14.2.1 20240912 (Red Hat 14.2.1-3) Ubuntu 24.04 Kernel: 5.4 Compiler: gcc gcc (Ubuntu 13.3.0-6ubuntu2~24.04) 13.3.0 Ubuntu 20.04 Kernel: 5.4 Compiler: gcc gcc (Ubuntu 9.4.0-1ubuntu1~20.04.2) 9.4.0 CentOS Stream 9 Kernel: 5.4 Compiler: gcc gcc (GCC) 11.5.0 20240719 (Red Hat 11.5.0-11) Ubuntu 22.04 Kernel: 5.4 Compiler: gcc gcc (Ubuntu 11.4.0-1ubuntu1~22.04) 11.4.0 Debian 12 (arm) Kernel: Depends on container host Compiler: gcc (Debian 12.2.0-14) 12.2.0 To view detailed results, visit: https://lab.dpdk.org/results/dashboard/patchsets/34324/ UNH-IOL DPDK Community Lab To manage your email subscriptions, visit: https://lab.dpdk.org/results/dashboard/preferences/subscriptions/