From mboxrd@z Thu Jan 1 00:00:00 1970 Return-Path: Received: from mails.dpdk.org (mails.dpdk.org [217.70.189.124]) by inbox.dpdk.org (Postfix) with ESMTP id 1EA1A48980 for ; Sun, 19 Oct 2025 21:50:30 +0200 (CEST) Received: from mails.dpdk.org (localhost [127.0.0.1]) by mails.dpdk.org (Postfix) with ESMTP id DC990400D5; Sun, 19 Oct 2025 21:50:29 +0200 (CEST) Received: from mail-yw1-f225.google.com (mail-yw1-f225.google.com [209.85.128.225]) by mails.dpdk.org (Postfix) with ESMTP id 58987400D5 for ; Sun, 19 Oct 2025 21:50:28 +0200 (CEST) Received: by mail-yw1-f225.google.com with SMTP id 00721157ae682-780fe73e337so46896487b3.1 for ; Sun, 19 Oct 2025 12:50:28 -0700 (PDT) DKIM-Signature: v=1; a=rsa-sha256; c=relaxed/relaxed; d=iol.unh.edu; s=unh-iol; t=1760903427; x=1761508227; darn=dpdk.org; h=references:in-reply-to:cc:to:from:subject:message-id:date:from:to :cc:subject:date:message-id:reply-to; bh=krmiU/5DekfAQ7SQ3O5uS3Z9zv/fFGE12PUmzsSMV7s=; b=bAsUrNKXnKH5mmY4z6ebnShzHu1H2eHK+UFb05nHPByvn4CgmvK3w2YSK5V+HwMwVp t38ROwcFSB8mv15vK6E13KXIGGAiUQcOoC4Uat0POkuIFFCY0KCqzLsl/3sSJS7hES1+ RHXsKPz96EDxYSEXUxgTzvONpcZ+dsmuBoeco= X-Google-DKIM-Signature: v=1; a=rsa-sha256; c=relaxed/relaxed; d=1e100.net; s=20230601; t=1760903427; x=1761508227; h=references:in-reply-to:cc:to:from:subject:message-id:date :x-gm-message-state:from:to:cc:subject:date:message-id:reply-to; bh=krmiU/5DekfAQ7SQ3O5uS3Z9zv/fFGE12PUmzsSMV7s=; b=gaEhrxcSc+hfCWPUW4TKXd0i0otfSkqd/IoSiOA8GVgDlKBApo7PbsWkM3ouDDldeb 5ql2hNiWYalTK5FgHP3NDk0yjiBbrws9FBCpqHu9DbOIE3dV8bj0wRxn9u4gOQc/Gmxo YT/UEeENxckGoWqCr1WMmgzq11AI/mCaJlCm1QHwNX6p5ESZUTzZqIudg6RDKxzNGS1q tziKJXQfRBdfLB4C4PdfEkLFzHkvnbFVToZ/jMDCJUT4KHCt3cXxKIxgN2qM7hDCb/vr +L4uYbtqUUD52/V1r0Pk2rEqrhdpE8U0tlVrDYr+NF1KNc3GtOQ2ybGFbLWe8xeQDp5p ku2w== X-Gm-Message-State: AOJu0Yy4cwc0c2djx1JAHbblgdhB/qInZp8oRR+BzaMkqt9wJj+kuj1/ hcSnEWIGrdoPjga4e01m0P0ms4A58U4q6w23/BLrZOYvATOqSbtVuzlgrdtZIy0T6MxEjj9pTaF ytM7AAVPI+tRkwkaw+zLtTh2HTGS5k/Sk3YU3dF9EHxqp X-Gm-Gg: ASbGncvM0lnKAJ3mVH+d2Owmtyv8iYWEj9IYBafWl5FullVdoODuPWp0o69665VEFeT K4JSAuOT8amG+oA0GP44dZ1svTAxssQyBl51hom8RqQnlkUnDdzUAHFN9TSlw91N4Y6A48U4eAn D9DLUk5K+pBEnEpS5fcxGfwMrHIaW5M7V01OjAiUndNA8kk3N1DaG6NOdpVX7tg8DaxeLfD0PVi R++T18MIkUDwZOXJe2qZqhpdJ9cVxmQNh33zq8e92kKy8M9jlvgjzzfsXiPCCpSTGhnvB1rmQSe PMUDeErgxCgG+1HZsJouKaRzupIb4XQdhnGHha71UfzR5S3Ys1l+nRmHBA7kNtGXzKhAoWfV2LS WUrSaF5u1+HkT+lI4MIYptv6CXB9+1j0= X-Google-Smtp-Source: AGHT+IFhi4wLPH60oPJr7mwq83HYDrEWv5hUvkYVfA+AqNjQWT41AqXMdTZ+OlupEbQypq2jX3t1oE2eq3NV X-Received: by 2002:a05:690c:670a:b0:783:1443:d3b with SMTP id 00721157ae682-783b02e8ff9mr63069567b3.35.1760903427465; Sun, 19 Oct 2025 12:50:27 -0700 (PDT) Received: from postal.iol.unh.edu (postal.iol.unh.edu. [132.177.123.84]) by smtp-relay.gmail.com with ESMTPS id 00721157ae682-78463762cb2sm5622647b3.1.2025.10.19.12.50.27 (version=TLS1_2 cipher=ECDHE-ECDSA-AES128-GCM-SHA256 bits=128/128); Sun, 19 Oct 2025 12:50:27 -0700 (PDT) X-Relaying-Domain: iol.unh.edu Date: Sun, 19 Oct 2025 12:50:27 -0700 (PDT) Message-ID: <68f54103.050a0220.2576d.145fSMTPIN_ADDED_MISSING@mx.google.com> Received: from [172.21.0.2] (unknown [172.18.0.240]) by postal.iol.unh.edu (Postfix) with ESMTP id 1CEC06051830; Sun, 19 Oct 2025 15:50:27 -0400 (EDT) Subject: |SUCCESS| pw157826 [PATCH] devtools: fix awk regular expression From: dpdklab@iol.unh.edu To: Test Report Cc: dpdk-test-reports@iol.unh.edu In-Reply-To: <20251019160511.18173-1-stephen@networkplumber.org> References: <20251019160511.18173-1-stephen@networkplumber.org> Content-Type: text/plain X-BeenThere: test-report@dpdk.org X-Mailman-Version: 2.1.29 Precedence: list List-Id: automatic DPDK test reports List-Unsubscribe: , List-Archive: List-Post: List-Help: List-Subscribe: , Errors-To: test-report-bounces@dpdk.org Test-Label: iol-compile-arm64-testing Test-Status: SUCCESS http://dpdk.org/patch/157826 _Testing PASS_ Submitter: Stephen Hemminger Date: Sunday, October 19 2025 16:05:11 DPDK git baseline: Repo:dpdk Branch: master CommitID:97e2e198b96078a4732d468bf0a4e8ec45aa5717 157826 --> testing pass Upstream job id: Generic-DPDK-Compile-Meson#435954 Test environment and result as below: +------------------------------+--------------------+ | Environment | dpdk_meson_compile | +==============================+====================+ | Ubuntu 20.04 | PASS | +------------------------------+--------------------+ | Fedora Linux 42 | PASS | +------------------------------+--------------------+ | Debian GNU/Linux 12 | PASS | +------------------------------+--------------------+ | Red Hat Enterprise Linux 9.5 | PASS | +------------------------------+--------------------+ | CentOS Stream 9 | PASS | +------------------------------+--------------------+ | Ubuntu 24.04 | PASS | +------------------------------+--------------------+ | Ubuntu 22.04 | PASS | +------------------------------+--------------------+ | CentOS Stream 10 | PASS | +------------------------------+--------------------+ Ubuntu 20.04 Kernel: 5.15 Compiler: gcc gcc (Ubuntu 9.4.0-1ubuntu1~20.04.2) 9.4.0 Fedora Linux 42 Kernel: 5.4 Compiler: gcc gcc (GCC) 15.2.1 20250808 (Red Hat 15.2.1-1) Debian GNU/Linux 12 Kernel: 5.4 Compiler: gcc gcc (Debian 12.2.0-14+deb12u1) 12.2.0 Red Hat Enterprise Linux 9.5 Kernel: 5.4 Compiler: gcc gcc (GCC) 11.5.0 20240719 (Red Hat 11.5.0-2) CentOS Stream 9 Kernel: 5.4 Compiler: gcc gcc (GCC) 11.5.0 20240719 (Red Hat 11.5.0-11) Ubuntu 24.04 Kernel: 5.4 Compiler: gcc gcc (Ubuntu 13.3.0-6ubuntu2~24.04) 13.3.0 Ubuntu 22.04 Kernel: 5.4 Compiler: gcc gcc (Ubuntu 11.4.0-1ubuntu1~22.04) 11.4.0 CentOS Stream 10 Kernel: 5.4 Compiler: gcc gcc (GCC) 14.2.1 20250110 (Red Hat 14.2.1-8) To view detailed results, visit: https://lab.dpdk.org/results/dashboard/patchsets/34324/ UNH-IOL DPDK Community Lab To manage your email subscriptions, visit: https://lab.dpdk.org/results/dashboard/preferences/subscriptions/