From mboxrd@z Thu Jan 1 00:00:00 1970 Return-Path: Received: from mails.dpdk.org (mails.dpdk.org [217.70.189.124]) by inbox.dpdk.org (Postfix) with ESMTP id 46A2048981 for ; Sun, 19 Oct 2025 22:29:19 +0200 (CEST) Received: from mails.dpdk.org (localhost [127.0.0.1]) by mails.dpdk.org (Postfix) with ESMTP id 1FD05400D5; Sun, 19 Oct 2025 22:29:19 +0200 (CEST) Received: from mail-oa1-f100.google.com (mail-oa1-f100.google.com [209.85.160.100]) by mails.dpdk.org (Postfix) with ESMTP id 890CD400D5 for ; Sun, 19 Oct 2025 22:29:17 +0200 (CEST) Received: by mail-oa1-f100.google.com with SMTP id 586e51a60fabf-3c97813e788so2154570fac.0 for ; Sun, 19 Oct 2025 13:29:17 -0700 (PDT) DKIM-Signature: v=1; a=rsa-sha256; c=relaxed/relaxed; d=iol.unh.edu; s=unh-iol; t=1760905756; x=1761510556; darn=dpdk.org; h=references:in-reply-to:cc:to:from:subject:message-id:date:from:to :cc:subject:date:message-id:reply-to; bh=P0AXfEi11dPRB4kQdbdzdn1kvWE+rWFsDNkRCAN6i10=; b=bFFfL+/qpuiKuCrZA3BIb4X0+2whPka8cC/ogAellClEEr8QbQ9g9iGavEFCYbW1m2 InGQV23KQ8JVSiHGEbCMVoz5HmCNTGzgcdt21J72fjZ3iqsqflW3XfdmPUIZw4dJgHXo NLEnC0njAtNiOde1jxc1XuWgY7BB6L/ciIvcM= X-Google-DKIM-Signature: v=1; a=rsa-sha256; c=relaxed/relaxed; d=1e100.net; s=20230601; t=1760905756; x=1761510556; h=references:in-reply-to:cc:to:from:subject:message-id:date :x-gm-message-state:from:to:cc:subject:date:message-id:reply-to; bh=P0AXfEi11dPRB4kQdbdzdn1kvWE+rWFsDNkRCAN6i10=; b=DCUsMxxJuie60Xfp5jNBWP8mSyqrvIdC68Zv1kyQ7krYQISqbXDLu9nW3QDux2vMUL E1xvltL24GwPNimMUYpOnYmpAnRr7X6alMQ8rMKZs9fsZ9opsjxINngR+3HtPN9NtgHD veA2yXyomODsz4Nw9XIfqesYOAHhvrtfZATguczs11L8ImXhHPIE8GNIga997MrTqgtU Ra3o0xujctc5IMOx2zCYLIwXnhc9uIY2moZL9XAnw6t/KZuWGKh+ZwYALQL24IX6JZ/E r1JemSP8JpUgM3ANg1ubBjMxMyfdrSo/0OwYCWKxhJHGrsEaSANrqn43ED5WuR2G/CnO hmuw== X-Gm-Message-State: AOJu0YwFcWFvrOPqshioanPx1dh4295Zi0nOkIQJHdvuWWq2wj0tLpcH Nk/5VlGbi111+bQU9Pf+Zmfyp9X1bDn+B7VgTt6eDvBWzYKR+NVg2QJyilw5RV5nG5DJCqxaLCk +dQdgRLMW3rG3Cx2wSASYf6yKl+zNGLv7Lcu9DOjoWqca X-Gm-Gg: ASbGncsrlYmd/Zq57GxDAGQ54YpmRT64EOYm/XrPA4g+ayk/TnB24zMw3G9w/dhAW0x wCFVyWw+sHORmenBty7mcjMNpAtR+ge/vtXD8dg6SHHr4cnlIy1O2egghoXmOElFlXWnvdvl4K4 djjamZiGGgxUxHNszLy1zOkpnem8iEg4ZKABcW1AAqDk5bzYl3CrHWBG8sUPwyCYj6PUcDymkTK mgmbMKycmu8JyGyi9Qq/fNeTS2nD38Wg+9woUFFUlqN0xAPsSrw0bGof2NnMfDhBbpuQC+qQ7X+ ZXlroT5EyHjntb4DVVz7+hDJbP+HKiiViOi0Hg6ut9kDnjarngWWesxA3Ki7iMC81cKf0NoKOzK Jujh/4c2AZsaI3Ihd+uZ2j5y/gwdTt1g= X-Google-Smtp-Source: AGHT+IHlBNESZB/O2SKB4LzvXukZ2dSGz+zmM9qlRr1geYxkuGbG7AjxC5Joac/yacQJDv1YY0eePyjlOMhy X-Received: by 2002:a05:6871:286:b0:345:abb7:ddc6 with SMTP id 586e51a60fabf-3c98cb9be16mr4729945fac.0.1760905756601; Sun, 19 Oct 2025 13:29:16 -0700 (PDT) Received: from postal.iol.unh.edu (postal.iol.unh.edu. [132.177.123.84]) by smtp-relay.gmail.com with ESMTPS id 586e51a60fabf-3c9af2dfcf9sm840757fac.22.2025.10.19.13.29.16 (version=TLS1_2 cipher=ECDHE-ECDSA-AES128-GCM-SHA256 bits=128/128); Sun, 19 Oct 2025 13:29:16 -0700 (PDT) X-Relaying-Domain: iol.unh.edu Date: Sun, 19 Oct 2025 13:29:16 -0700 (PDT) Message-ID: <68f54a1c.050a0220.344184.836eSMTPIN_ADDED_MISSING@mx.google.com> Received: from [172.21.0.2] (unknown [172.18.0.240]) by postal.iol.unh.edu (Postfix) with ESMTP id B0CD46051830; Sun, 19 Oct 2025 16:29:15 -0400 (EDT) Subject: |SUCCESS| pw157827-157834 [PATCH] [v3,8/8] doc: update documentation From: dpdklab@iol.unh.edu To: Test Report Cc: dpdk-test-reports@iol.unh.edu In-Reply-To: <20251019165728.164929-9-stephen@networkplumber.org> References: <20251019165728.164929-9-stephen@networkplumber.org> Content-Type: text/plain X-BeenThere: test-report@dpdk.org X-Mailman-Version: 2.1.29 Precedence: list List-Id: automatic DPDK test reports List-Unsubscribe: , List-Archive: List-Post: List-Help: List-Subscribe: , Errors-To: test-report-bounces@dpdk.org Test-Label: iol-unit-arm64-testing Test-Status: SUCCESS http://dpdk.org/patch/157834 _Testing PASS_ Submitter: Stephen Hemminger Date: Sunday, October 19 2025 16:56:15 DPDK git baseline: Repo:dpdk Branch: master CommitID:97e2e198b96078a4732d468bf0a4e8ec45aa5717 157827-157834 --> testing pass Upstream job id: Generic-Unit-Test-DPDK#383313 Test environment and result as below: +------------------------------+----------------+---------------------------+------------------------------+--------------+ | Environment | dpdk_unit_test | cryptodev_sw_zuc_autotest | cryptodev_sw_snow3g_autotest | lpm_autotest | +==============================+================+===========================+==============================+==============+ | CentOS Stream 10 | PASS | SKIPPED | SKIPPED | SKIPPED | +------------------------------+----------------+---------------------------+------------------------------+--------------+ | Fedora Linux 41 | PASS | SKIPPED | SKIPPED | SKIPPED | +------------------------------+----------------+---------------------------+------------------------------+--------------+ | Fedora Linux 42 | PASS | SKIPPED | SKIPPED | SKIPPED | +------------------------------+----------------+---------------------------+------------------------------+--------------+ | Fedora Linux 40 | PASS | SKIPPED | SKIPPED | SKIPPED | +------------------------------+----------------+---------------------------+------------------------------+--------------+ | Debian GNU/Linux 12 | PASS | SKIPPED | SKIPPED | SKIPPED | +------------------------------+----------------+---------------------------+------------------------------+--------------+ | Ubuntu 22.04 | PASS | SKIPPED | SKIPPED | SKIPPED | +------------------------------+----------------+---------------------------+------------------------------+--------------+ | Ubuntu 20.04 | PASS | SKIPPED | SKIPPED | PASS | +------------------------------+----------------+---------------------------+------------------------------+--------------+ | CentOS Stream 9 | PASS | SKIPPED | SKIPPED | SKIPPED | +------------------------------+----------------+---------------------------+------------------------------+--------------+ | Red Hat Enterprise Linux 9.5 | PASS | SKIPPED | SKIPPED | SKIPPED | +------------------------------+----------------+---------------------------+------------------------------+--------------+ | Ubuntu 24.04 | PASS | SKIPPED | SKIPPED | SKIPPED | +------------------------------+----------------+---------------------------+------------------------------+--------------+ | Debian 12 (arm) | SKIPPED | PASS | PASS | SKIPPED | +------------------------------+----------------+---------------------------+------------------------------+--------------+ CentOS Stream 10 Kernel: 5.4 Compiler: gcc gcc (GCC) 14.2.1 20250110 (Red Hat 14.2.1-8) Fedora Linux 41 Kernel: 5.4 Compiler: clang gcc (GCC) 14.3.1 20250523 (Red Hat 14.3.1-1) Fedora Linux 42 Kernel: 5.4 Compiler: gcc gcc (GCC) 15.2.1 20250808 (Red Hat 15.2.1-1) Fedora Linux 40 Kernel: 5.4 Compiler: clang gcc (GCC) 14.2.1 20240912 (Red Hat 14.2.1-3) Debian GNU/Linux 12 Kernel: 5.4 Compiler: gcc gcc (Debian 12.2.0-14+deb12u1) 12.2.0 Ubuntu 22.04 Kernel: 5.4 Compiler: gcc gcc (Ubuntu 11.4.0-1ubuntu1~22.04) 11.4.0 Ubuntu 20.04 Kernel: 5.4 Compiler: gcc gcc (Ubuntu 9.4.0-1ubuntu1~20.04.2) 9.4.0 CentOS Stream 9 Kernel: 5.4 Compiler: gcc gcc (GCC) 11.5.0 20240719 (Red Hat 11.5.0-11) Red Hat Enterprise Linux 9.5 Kernel: 5.4 Compiler: gcc gcc (GCC) 11.5.0 20240719 (Red Hat 11.5.0-2) Ubuntu 24.04 Kernel: 5.4 Compiler: gcc gcc (Ubuntu 13.3.0-6ubuntu2~24.04) 13.3.0 Debian 12 (arm) Kernel: Depends on container host Compiler: gcc (Debian 12.2.0-14) 12.2.0 To view detailed results, visit: https://lab.dpdk.org/results/dashboard/patchsets/34325/ UNH-IOL DPDK Community Lab To manage your email subscriptions, visit: https://lab.dpdk.org/results/dashboard/preferences/subscriptions/