From mboxrd@z Thu Jan 1 00:00:00 1970 Return-Path: Received: from mails.dpdk.org (mails.dpdk.org [217.70.189.124]) by inbox.dpdk.org (Postfix) with ESMTP id 1D9AD48981 for ; Sun, 19 Oct 2025 22:37:55 +0200 (CEST) Received: from mails.dpdk.org (localhost [127.0.0.1]) by mails.dpdk.org (Postfix) with ESMTP id E5D82400D5; Sun, 19 Oct 2025 22:37:54 +0200 (CEST) Received: from mail-pj1-f99.google.com (mail-pj1-f99.google.com [209.85.216.99]) by mails.dpdk.org (Postfix) with ESMTP id 22F50400D5 for ; Sun, 19 Oct 2025 22:37:53 +0200 (CEST) Received: by mail-pj1-f99.google.com with SMTP id 98e67ed59e1d1-33292adb180so3685797a91.3 for ; Sun, 19 Oct 2025 13:37:53 -0700 (PDT) DKIM-Signature: v=1; a=rsa-sha256; c=relaxed/relaxed; d=iol.unh.edu; s=unh-iol; t=1760906272; x=1761511072; darn=dpdk.org; h=references:in-reply-to:cc:to:from:subject:message-id:date:from:to :cc:subject:date:message-id:reply-to; bh=+fwO8AZOWWTNOK+wM+ogUXUcyp10tTUN/IAlXvF4fDE=; b=jmFxvzpe6dFBGuxrAENAH+JYB+E10PHlAtHRjM5+P0Od2xdB6RfVA9p7bwx7W2Sc2L DTUU7qqaJCrEp8jHk07PeIyDYEmOATLhcaZ5vAex2W3Gx5S5tOCz4AyhV9P1z6o8OmXY PpIF1bdrbIK5Dm68PTBbbFblCBNr351M+0mgU= X-Google-DKIM-Signature: v=1; a=rsa-sha256; c=relaxed/relaxed; d=1e100.net; s=20230601; t=1760906272; x=1761511072; h=references:in-reply-to:cc:to:from:subject:message-id:date :x-gm-message-state:from:to:cc:subject:date:message-id:reply-to; bh=+fwO8AZOWWTNOK+wM+ogUXUcyp10tTUN/IAlXvF4fDE=; b=USHFDpTuxhQeYbYkZeoV3Dsf5jRDOlDma4I0n53uaIi90YW3jV+q1En+83+TrqHavT ZDH0cvCbDjlXVkm/BIXI7urWmhe1fSoYjKtPy9J3xMPHIlv4s/5y2ICU6FXEsZ5+5Eir w4/11laEi/Hxw8ClPnoonPSfUHb5/jIkspJPb4d+A1tqqnW6c+WYQi2upeiX5hr8WZyn Zb8XMlhx+swQvhupNkjydnp4o6FYRmM21AzdN+D3Ol6GBkIxq47unsIhhwgiXZD1Nl0N JTSWD8BFhGxCmroWGrbrEwazBZYiMfYI8810J7vE98N/xVujHdXe9eDoAD9ni27r/uF7 0Skg== X-Gm-Message-State: AOJu0YzZQEgYmBXP3UsRSejNNTk5dXsp0QLDrL++ChrF7s6bDh+OxRAU E3HBEXW6wP/OcRFx1mCEH6ELrhy5tF6rleYbK3dwT9UGkDe45ODdDkStRT2fF99CAdh9iqlC+QG hgQsecmMgWo9xKPLMVY6ycHaLQscno+HRjxEpbqCxqWCjbimVxfMI62aKZ7LP X-Gm-Gg: ASbGncswCk25JW1bVvOhvPG1k4zTCL012W2aK0gmumwDTq/i18F0eMD273V6CTdkQ10 GN7gyK8j5FLZCR2DDYI012pDU6vklkmD0IUoK8bpuBpJmleXTpbOGeVG10jx6/TTdHE95xxdJ6X xWC2oOchAeGAs0QsVqvq/jSJP7jnSH4G3Vd3PQWe1osUa2G4wfUJaNkvLvp/JKdpZs9iXmRSs+Q Mqx761pO7DW3AkrReMqnQ9Z9iG97M6DMwDngcpYW4/iw5Po/gjYjuDdRHBzXYsdFHrez9gE4Nhi T/KF30HlDu5Z2dGRBa6obu44oAHCqBHm/jDCPe7+pI+8y1UCX3zHAMKn112Z9UOcdCwlj97C9pu Y358VcC5J X-Google-Smtp-Source: AGHT+IGkNIBCW2LPYHiG3hPbv55OcKCP5eDIQq5RrFWDLRZ8dN0YJpMb4nl2zmVfPUOK58xlB96jUD8lJzRw X-Received: by 2002:a17:90b:5386:b0:32e:749d:fcb6 with SMTP id 98e67ed59e1d1-33bcf86b5c6mr15869325a91.12.1760906272270; Sun, 19 Oct 2025 13:37:52 -0700 (PDT) Received: from postal.iol.unh.edu (postal.iol.unh.edu. [2606:4100:3880:1234::84]) by smtp-relay.gmail.com with ESMTPS id 98e67ed59e1d1-33d5dfa2924sm756573a91.8.2025.10.19.13.37.52 (version=TLS1_2 cipher=ECDHE-ECDSA-AES128-GCM-SHA256 bits=128/128); Sun, 19 Oct 2025 13:37:52 -0700 (PDT) X-Relaying-Domain: iol.unh.edu Date: Sun, 19 Oct 2025 13:37:52 -0700 (PDT) Message-ID: <68f54c20.170a0220.30e3c3.58c6SMTPIN_ADDED_MISSING@mx.google.com> Received: from [172.21.0.2] (unknown [172.18.0.240]) by postal.iol.unh.edu (Postfix) with ESMTP id 815E16051830; Sun, 19 Oct 2025 16:37:51 -0400 (EDT) Subject: |SUCCESS| pw157827-157834 [PATCH] [v3,8/8] doc: update documentation From: dpdklab@iol.unh.edu To: Test Report Cc: dpdk-test-reports@iol.unh.edu In-Reply-To: <20251019165728.164929-9-stephen@networkplumber.org> References: <20251019165728.164929-9-stephen@networkplumber.org> Content-Type: text/plain X-BeenThere: test-report@dpdk.org X-Mailman-Version: 2.1.29 Precedence: list List-Id: automatic DPDK test reports List-Unsubscribe: , List-Archive: List-Post: List-Help: List-Subscribe: , Errors-To: test-report-bounces@dpdk.org Test-Label: iol-compile-arm64-testing Test-Status: SUCCESS http://dpdk.org/patch/157834 _Testing PASS_ Submitter: Stephen Hemminger Date: Sunday, October 19 2025 16:56:15 DPDK git baseline: Repo:dpdk Branch: master CommitID:97e2e198b96078a4732d468bf0a4e8ec45aa5717 157827-157834 --> testing pass Upstream job id: Generic-DPDK-Compile-Meson#435981 Test environment and result as below: +------------------------------+--------------------+ | Environment | dpdk_meson_compile | +==============================+====================+ | Ubuntu 20.04 | PASS | +------------------------------+--------------------+ | Debian GNU/Linux 12 | PASS | +------------------------------+--------------------+ | Ubuntu 22.04 | PASS | +------------------------------+--------------------+ | Fedora Linux 42 | PASS | +------------------------------+--------------------+ | CentOS Stream 9 | PASS | +------------------------------+--------------------+ | Red Hat Enterprise Linux 9.5 | PASS | +------------------------------+--------------------+ | Ubuntu 24.04 | PASS | +------------------------------+--------------------+ | CentOS Stream 10 | PASS | +------------------------------+--------------------+ Ubuntu 20.04 Kernel: 5.15 Compiler: aarch64-linux-gnu-gcc gcc (Ubuntu 9.4.0-1ubuntu1~20.04.2) 9.4.0 Debian GNU/Linux 12 Kernel: 5.4 Compiler: gcc gcc (Debian 12.2.0-14+deb12u1) 12.2.0 Ubuntu 22.04 Kernel: 5.4 Compiler: gcc gcc (Ubuntu 11.4.0-1ubuntu1~22.04) 11.4.0 Fedora Linux 42 Kernel: 5.4 Compiler: gcc gcc (GCC) 15.2.1 20250808 (Red Hat 15.2.1-1) CentOS Stream 9 Kernel: 5.4 Compiler: gcc gcc (GCC) 11.5.0 20240719 (Red Hat 11.5.0-11) Red Hat Enterprise Linux 9.5 Kernel: 5.4 Compiler: gcc gcc (GCC) 11.5.0 20240719 (Red Hat 11.5.0-2) Ubuntu 24.04 Kernel: 5.4 Compiler: gcc gcc (Ubuntu 13.3.0-6ubuntu2~24.04) 13.3.0 CentOS Stream 10 Kernel: 5.4 Compiler: gcc gcc (GCC) 14.2.1 20250110 (Red Hat 14.2.1-8) To view detailed results, visit: https://lab.dpdk.org/results/dashboard/patchsets/34325/ UNH-IOL DPDK Community Lab To manage your email subscriptions, visit: https://lab.dpdk.org/results/dashboard/preferences/subscriptions/