From mboxrd@z Thu Jan 1 00:00:00 1970 Return-Path: Received: from mails.dpdk.org (mails.dpdk.org [217.70.189.124]) by inbox.dpdk.org (Postfix) with ESMTP id DCD1248981 for ; Sun, 19 Oct 2025 22:57:04 +0200 (CEST) Received: from mails.dpdk.org (localhost [127.0.0.1]) by mails.dpdk.org (Postfix) with ESMTP id AB40440DD2; Sun, 19 Oct 2025 22:57:04 +0200 (CEST) Received: from mail-il1-f228.google.com (mail-il1-f228.google.com [209.85.166.228]) by mails.dpdk.org (Postfix) with ESMTP id A3E2A40DD2 for ; Sun, 19 Oct 2025 22:57:03 +0200 (CEST) Received: by mail-il1-f228.google.com with SMTP id e9e14a558f8ab-430d78a15b1so9761365ab.3 for ; Sun, 19 Oct 2025 13:57:03 -0700 (PDT) DKIM-Signature: v=1; a=rsa-sha256; c=relaxed/relaxed; d=iol.unh.edu; s=unh-iol; t=1760907423; x=1761512223; darn=dpdk.org; h=references:in-reply-to:cc:to:from:subject:message-id:date:from:to :cc:subject:date:message-id:reply-to; bh=j06J/BqQkoUgL1oyG29zyEe8mdd60Q6nXq/qI21Ytig=; b=iMmbU3T551SwoFXZYBbKYdRZ1yRUaTexxCoDkhued8C3fpLfcivuX0cZmGy7/h7QWK UNFHGWSl1dZdWT9Qt9X0uuY/FSzYwJvese3Y3N6+FhU1ilBRE+9bb0afHw6ZMjFBaLzq fxDSJKeJcxZq+yuk91fsEJnyjgv6IsbOaqQNE= X-Google-DKIM-Signature: v=1; a=rsa-sha256; c=relaxed/relaxed; d=1e100.net; s=20230601; t=1760907423; x=1761512223; h=references:in-reply-to:cc:to:from:subject:message-id:date :x-gm-message-state:from:to:cc:subject:date:message-id:reply-to; bh=j06J/BqQkoUgL1oyG29zyEe8mdd60Q6nXq/qI21Ytig=; b=B0qCf2efluT0mCuweUgljBdopL0m8OiwFBBQJ4jj545PK2G+Vivt5zwK6NV15RGmD1 iInTHEWsn+B/MUEaMtGvxTQUegT1pwaCMnUJzYQEEX7YO9W8hUMPRPVJuk2quMMU4hCW BXWqdLlG1ZyokqIEyZ/5rbJkJmz79qu4eNjb4SVdYQTgPxPnP35YirM9fSUi4Bc87nbc 9fZ/ed7ybMdllLQQ7ygsapNKVhhDYGp5ProStETi37EnfgCNg7qn40hss1ALWgC3jx9G vDR6RSpVa/El6Yw469p0DItkTBRbrYSeDfzLRooOSdBhEv2v+Tus6QD5R/Ec8x4mU8QC xaQg== X-Gm-Message-State: AOJu0Yw/rms3A1pSW+1So4oimACyTuZ1qOeTiRQ0PSaI3IXFpQ7AzZdR FyIkzZfP1pPCv38j5CRFT0Z6Woy3FFMAswhcNpfx6FF9iTBjRopyEzmxe2CzUjT6Tkw9iR1xBLb KvOPytdci2I2lvghssv4ndk9dJhl+HsPwh+xCufQSINcF X-Gm-Gg: ASbGncuGThv1SnhBEr3rRR13RbPqgBq8qpgFvkoXADcWhDzJL2TYt2t9QC97TZnmInq jCep8azWT+YGprQeKowf14W5z3vfIYXBJAuZ9Mm99NjTPP/rH/S2cEeut5qYpK4sYrbtn/47hnJ 7H6ow1Lb1CH6Cj7fkXuGSNTK7DGkv/pslYzUOEQV2MMUEsbnnAfsUEYCiYZ8hd/aSirzh1+tbxZ 5kKJIs20+/zPgrPraAwNuAsTx5AmOYvOd8uNy0Afngrd2E0GFqAeT5p4F5lkqxx96ykWmx2qmPI hCg0g17O+wgcJwhJnXDIm8GK16kUYHdS001HppOXmAerw2yfQlVuScVdLCpjrKySXZkdlz8yrr+ 0WE3DBE+2eHM1SvUtcigIwZtOSkNvPWs= X-Google-Smtp-Source: AGHT+IHk/WLYrOTg097sL586QZOb6hvgEFeUsWDba+JBpgjauPxqiFbnRduvCTOXOg1ATAyHLYjhAVAZ/p7z X-Received: by 2002:a05:6e02:2301:b0:430:c046:5428 with SMTP id e9e14a558f8ab-430c5268df2mr184937505ab.17.1760907422919; Sun, 19 Oct 2025 13:57:02 -0700 (PDT) Received: from postal.iol.unh.edu (postal.iol.unh.edu. [132.177.123.84]) by smtp-relay.gmail.com with ESMTPS id e9e14a558f8ab-430d0700a79sm7363505ab.5.2025.10.19.13.57.02 (version=TLS1_2 cipher=ECDHE-ECDSA-AES128-GCM-SHA256 bits=128/128); Sun, 19 Oct 2025 13:57:02 -0700 (PDT) X-Relaying-Domain: iol.unh.edu Date: Sun, 19 Oct 2025 13:57:02 -0700 (PDT) Message-ID: <68f5509e.050a0220.18e11c.60b4SMTPIN_ADDED_MISSING@mx.google.com> Received: from [172.21.0.2] (unknown [172.18.0.240]) by postal.iol.unh.edu (Postfix) with ESMTP id 6BB056051830; Sun, 19 Oct 2025 16:57:02 -0400 (EDT) Subject: |SUCCESS| pw157835-157836 [PATCH] [2/2] bpf: remove dependency on vl From: dpdklab@iol.unh.edu To: Test Report Cc: dpdk-test-reports@iol.unh.edu In-Reply-To: <20251019170040.166372-3-stephen@networkplumber.org> References: <20251019170040.166372-3-stephen@networkplumber.org> Content-Type: text/plain X-BeenThere: test-report@dpdk.org X-Mailman-Version: 2.1.29 Precedence: list List-Id: automatic DPDK test reports List-Unsubscribe: , List-Archive: List-Post: List-Help: List-Subscribe: , Errors-To: test-report-bounces@dpdk.org Test-Label: iol-compile-arm64-testing Test-Status: SUCCESS http://dpdk.org/patch/157836 _Testing PASS_ Submitter: Stephen Hemminger Date: Sunday, October 19 2025 16:59:47 DPDK git baseline: Repo:dpdk Branch: master CommitID:97e2e198b96078a4732d468bf0a4e8ec45aa5717 157835-157836 --> testing pass Upstream job id: Generic-DPDK-Compile-Meson#435995 Test environment and result as below: +------------------------------+--------------------+ | Environment | dpdk_meson_compile | +==============================+====================+ | Ubuntu 20.04 | PASS | +------------------------------+--------------------+ | Red Hat Enterprise Linux 9.5 | PASS | +------------------------------+--------------------+ | Debian GNU/Linux 12 | PASS | +------------------------------+--------------------+ | Fedora Linux 42 | PASS | +------------------------------+--------------------+ | Ubuntu 22.04 | PASS | +------------------------------+--------------------+ | CentOS Stream 9 | PASS | +------------------------------+--------------------+ | Ubuntu 24.04 | PASS | +------------------------------+--------------------+ | CentOS Stream 10 | PASS | +------------------------------+--------------------+ Ubuntu 20.04 Kernel: 5.15 Compiler: aarch64-linux-gnu-gcc gcc (Ubuntu 9.4.0-1ubuntu1~20.04.2) 9.4.0 Red Hat Enterprise Linux 9.5 Kernel: 5.4 Compiler: gcc gcc (GCC) 11.5.0 20240719 (Red Hat 11.5.0-2) Debian GNU/Linux 12 Kernel: 5.4 Compiler: gcc gcc (Debian 12.2.0-14+deb12u1) 12.2.0 Fedora Linux 42 Kernel: 5.4 Compiler: gcc gcc (GCC) 15.2.1 20250808 (Red Hat 15.2.1-1) Ubuntu 22.04 Kernel: 5.4 Compiler: gcc gcc (Ubuntu 11.4.0-1ubuntu1~22.04) 11.4.0 CentOS Stream 9 Kernel: 5.4 Compiler: gcc gcc (GCC) 11.5.0 20240719 (Red Hat 11.5.0-11) Ubuntu 24.04 Kernel: 5.4 Compiler: gcc gcc (Ubuntu 13.3.0-6ubuntu2~24.04) 13.3.0 CentOS Stream 10 Kernel: 5.4 Compiler: gcc gcc (GCC) 14.2.1 20250110 (Red Hat 14.2.1-8) To view detailed results, visit: https://lab.dpdk.org/results/dashboard/patchsets/34326/ UNH-IOL DPDK Community Lab To manage your email subscriptions, visit: https://lab.dpdk.org/results/dashboard/preferences/subscriptions/