From mboxrd@z Thu Jan 1 00:00:00 1970 Return-Path: Received: from mails.dpdk.org (mails.dpdk.org [217.70.189.124]) by inbox.dpdk.org (Postfix) with ESMTP id 8AB0248981 for ; Sun, 19 Oct 2025 23:27:31 +0200 (CEST) Received: from mails.dpdk.org (localhost [127.0.0.1]) by mails.dpdk.org (Postfix) with ESMTP id 63D35400D5; Sun, 19 Oct 2025 23:27:31 +0200 (CEST) Received: from mail-il1-f227.google.com (mail-il1-f227.google.com [209.85.166.227]) by mails.dpdk.org (Postfix) with ESMTP id 6D9D9400D5 for ; Sun, 19 Oct 2025 23:27:30 +0200 (CEST) Received: by mail-il1-f227.google.com with SMTP id e9e14a558f8ab-430cd27de3eso8990155ab.1 for ; Sun, 19 Oct 2025 14:27:30 -0700 (PDT) DKIM-Signature: v=1; a=rsa-sha256; c=relaxed/relaxed; d=iol.unh.edu; s=unh-iol; t=1760909249; x=1761514049; darn=dpdk.org; h=references:in-reply-to:cc:to:from:subject:message-id:date:from:to :cc:subject:date:message-id:reply-to; bh=UQ+pCwA0cND7qgHuCavu9yyiB9dY7Shujeg7P/BD7a4=; b=cFeKRfNASN5lkfFGJEcAuaxzJBXz1bICgIYzoVrwDQfYPc1ZJMFdePDKO37jp+ybCo 92vhdo531U4RKoic6OZE8fnunxuJqy2Z4Ur2d0fLfq05TP+cg3EMXPxokzl9oO8qIWRG xnCalRfVV0+VoZxPeDmdE1TKbCnVR/em9CE4A= X-Google-DKIM-Signature: v=1; a=rsa-sha256; c=relaxed/relaxed; d=1e100.net; s=20230601; t=1760909249; x=1761514049; h=references:in-reply-to:cc:to:from:subject:message-id:date :x-gm-message-state:from:to:cc:subject:date:message-id:reply-to; bh=UQ+pCwA0cND7qgHuCavu9yyiB9dY7Shujeg7P/BD7a4=; b=rpf2Ggo1cE8kTi6/NrBqDRRDA5mZnN4BZtA54qDvkPCJM0brCerrLswMxLNaLQC7zo xdIHL80YgNbuwvV27g2mq1Vn4uBXjDgvw/q67jHqTD7Bzn4xNvwQxKEO14/QXVMxpSmr J8yI/6zkM4kpjaaWoe6oiGXSciURe5xjhCefEhLuWDxIqzPi2JzY20Li6oOhZ0wzhQuQ 3GJE1MXihiVPaRZiL/aSWq8r7NqL0SyFyDNzyC1VcQ/vVKmge/s7Bq8tl4Cau0aCg0f4 YCrYZ+o6BZCQAnTrVsJ1j92ARxIv/nZ2jSxrca3QSLBWahGlyJ6WtHyllsSFNoxjGIcu wIpg== X-Gm-Message-State: AOJu0Yxj2f/umcAbldhHS575sICzSadsCBnGHlGOww6KNTFxV6yqxi0E 2KzmMV/7EyJfv1RgDDZWuj6YF7XBP29NJcFfgd6YerZSzcY2ZRFYbZ2OTzdui0ZBfW93DyEnq9c uRrG8PEF2WtViqlidDcT1ckxX4vMEsB3/hPcD7WL/3XRF X-Gm-Gg: ASbGncs+dgkOadpvNovyCvGzkKIFyDj8c09zaQ2Tdi7IxMjdCP68x3I2suTKwsbth4t e4cXXY1PBB/JQJK63QhdAL4CXI0USaYYyyCQgYM6vGx1Me9mnmOXDUhIJq6tuJB1JjxpMT/xkk1 BkSrRPiO14nbuPXx891BkCGzm/XYjTB33243dhpwc4stFhYhVeJHdHKkSaAgncDslNpEYfiSKuN e/LepUzLofizZzrLwaQG9pJQg7WejBjwlLyXDZ8Am1bQrUJpcl5lcfudn4trv8GcLRfGgSxepiU k4pKz7bt3vGTq4WHhXk7qv5DbdOrtayDjgw9uW7QJIqeVlZASfV+SpP//fjLherHkQJfyR19EIR 89bt+EKAyy19fTR5JEL044gQNKNYvNSU= X-Google-Smtp-Source: AGHT+IGHL/kL85UWDTZzN+g6HcqgRqQUoJSRsv/DwQVD7l2NE0Bn3ZmMvdVeQppr33cjVK/dDd0pbPTf2F7k X-Received: by 2002:a05:6e02:2702:b0:42f:9574:7c1e with SMTP id e9e14a558f8ab-430c52a253amr162322965ab.27.1760909249716; Sun, 19 Oct 2025 14:27:29 -0700 (PDT) Received: from postal.iol.unh.edu (postal.iol.unh.edu. [132.177.123.84]) by smtp-relay.gmail.com with ESMTPS id 8926c6da1cb9f-5a8a9745d77sm839273173.22.2025.10.19.14.27.29 (version=TLS1_2 cipher=ECDHE-ECDSA-AES128-GCM-SHA256 bits=128/128); Sun, 19 Oct 2025 14:27:29 -0700 (PDT) X-Relaying-Domain: iol.unh.edu Date: Sun, 19 Oct 2025 14:27:29 -0700 (PDT) Message-ID: <68f557c1.050a0220.34670a.8c87SMTPIN_ADDED_MISSING@mx.google.com> Received: from [172.21.0.2] (unknown [172.18.0.240]) by postal.iol.unh.edu (Postfix) with ESMTP id 549F06051830; Sun, 19 Oct 2025 17:27:29 -0400 (EDT) Subject: |SUCCESS| pw157835-157836 [PATCH] [2/2] bpf: remove dependency on vl From: dpdklab@iol.unh.edu To: Test Report Cc: dpdk-test-reports@iol.unh.edu In-Reply-To: <20251019170040.166372-3-stephen@networkplumber.org> References: <20251019170040.166372-3-stephen@networkplumber.org> Content-Type: text/plain X-BeenThere: test-report@dpdk.org X-Mailman-Version: 2.1.29 Precedence: list List-Id: automatic DPDK test reports List-Unsubscribe: , List-Archive: List-Post: List-Help: List-Subscribe: , Errors-To: test-report-bounces@dpdk.org Test-Label: iol-unit-arm64-testing Test-Status: SUCCESS http://dpdk.org/patch/157836 _Testing PASS_ Submitter: Stephen Hemminger Date: Sunday, October 19 2025 16:59:47 DPDK git baseline: Repo:dpdk Branch: master CommitID:97e2e198b96078a4732d468bf0a4e8ec45aa5717 157835-157836 --> testing pass Upstream job id: Generic-Unit-Test-DPDK#383346 Test environment and result as below: +------------------------------+----------------+---------------------------+------------------------------+--------------+ | Environment | dpdk_unit_test | cryptodev_sw_zuc_autotest | cryptodev_sw_snow3g_autotest | lpm_autotest | +==============================+================+===========================+==============================+==============+ | Fedora Linux 41 | PASS | SKIPPED | SKIPPED | SKIPPED | +------------------------------+----------------+---------------------------+------------------------------+--------------+ | Ubuntu 22.04 | PASS | SKIPPED | SKIPPED | SKIPPED | +------------------------------+----------------+---------------------------+------------------------------+--------------+ | Fedora Linux 42 | PASS | SKIPPED | SKIPPED | SKIPPED | +------------------------------+----------------+---------------------------+------------------------------+--------------+ | Fedora Linux 40 | PASS | SKIPPED | SKIPPED | SKIPPED | +------------------------------+----------------+---------------------------+------------------------------+--------------+ | CentOS Stream 9 | PASS | SKIPPED | SKIPPED | SKIPPED | +------------------------------+----------------+---------------------------+------------------------------+--------------+ | Debian GNU/Linux 12 | PASS | SKIPPED | SKIPPED | SKIPPED | +------------------------------+----------------+---------------------------+------------------------------+--------------+ | Red Hat Enterprise Linux 9.5 | PASS | SKIPPED | SKIPPED | SKIPPED | +------------------------------+----------------+---------------------------+------------------------------+--------------+ | CentOS Stream 10 | PASS | SKIPPED | SKIPPED | SKIPPED | +------------------------------+----------------+---------------------------+------------------------------+--------------+ | Ubuntu 24.04 | PASS | SKIPPED | SKIPPED | SKIPPED | +------------------------------+----------------+---------------------------+------------------------------+--------------+ | Ubuntu 20.04 | PASS | SKIPPED | SKIPPED | PASS | +------------------------------+----------------+---------------------------+------------------------------+--------------+ | Debian 12 (arm) | SKIPPED | PASS | PASS | SKIPPED | +------------------------------+----------------+---------------------------+------------------------------+--------------+ Fedora Linux 41 Kernel: 5.4 Compiler: gcc gcc (GCC) 14.3.1 20250523 (Red Hat 14.3.1-1) Ubuntu 22.04 Kernel: 5.4 Compiler: gcc gcc (Ubuntu 11.4.0-1ubuntu1~22.04) 11.4.0 Fedora Linux 42 Kernel: 5.4 Compiler: clang gcc (GCC) 15.2.1 20250808 (Red Hat 15.2.1-1) Fedora Linux 40 Kernel: 5.4 Compiler: clang gcc (GCC) 14.2.1 20240912 (Red Hat 14.2.1-3) CentOS Stream 9 Kernel: 5.4 Compiler: gcc gcc (GCC) 11.5.0 20240719 (Red Hat 11.5.0-11) Debian GNU/Linux 12 Kernel: 5.4 Compiler: gcc gcc (Debian 12.2.0-14+deb12u1) 12.2.0 Red Hat Enterprise Linux 9.5 Kernel: 5.4 Compiler: gcc gcc (GCC) 11.5.0 20240719 (Red Hat 11.5.0-2) CentOS Stream 10 Kernel: 5.4 Compiler: gcc gcc (GCC) 14.2.1 20250110 (Red Hat 14.2.1-8) Ubuntu 24.04 Kernel: 5.4 Compiler: gcc gcc (Ubuntu 13.3.0-6ubuntu2~24.04) 13.3.0 Ubuntu 20.04 Kernel: 5.4 Compiler: gcc gcc (Ubuntu 9.4.0-1ubuntu1~20.04.2) 9.4.0 Debian 12 (arm) Kernel: Depends on container host Compiler: gcc (Debian 12.2.0-14) 12.2.0 To view detailed results, visit: https://lab.dpdk.org/results/dashboard/patchsets/34326/ UNH-IOL DPDK Community Lab To manage your email subscriptions, visit: https://lab.dpdk.org/results/dashboard/preferences/subscriptions/