From mboxrd@z Thu Jan 1 00:00:00 1970 Return-Path: Received: from mails.dpdk.org (mails.dpdk.org [217.70.189.124]) by inbox.dpdk.org (Postfix) with ESMTP id 4581C48981 for ; Mon, 20 Oct 2025 00:19:04 +0200 (CEST) Received: from mails.dpdk.org (localhost [127.0.0.1]) by mails.dpdk.org (Postfix) with ESMTP id 3FD7B400D5; Mon, 20 Oct 2025 00:19:04 +0200 (CEST) Received: from mail-il1-f226.google.com (mail-il1-f226.google.com [209.85.166.226]) by mails.dpdk.org (Postfix) with ESMTP id B7B94400D5 for ; Mon, 20 Oct 2025 00:19:03 +0200 (CEST) Received: by mail-il1-f226.google.com with SMTP id e9e14a558f8ab-430ca464785so23715895ab.0 for ; Sun, 19 Oct 2025 15:19:03 -0700 (PDT) DKIM-Signature: v=1; a=rsa-sha256; c=relaxed/relaxed; d=iol.unh.edu; s=unh-iol; t=1760912343; x=1761517143; darn=dpdk.org; h=references:in-reply-to:cc:to:from:subject:message-id:date:from:to :cc:subject:date:message-id:reply-to; bh=vy1z4/IOZ3wBJH3hGYTM7EDPotsz/alJkjiQEmkSe80=; b=VQECjpQfDfLL4KXUbOnuXLRlG35Pb+lj0b93K1uSRqU8DlBsB+lFFtszfpLhDx/LFB DErsxP0d+CS25bowst5NMyL5LWitEDwB4NiAh/eEk1qZ9teCKb7zqXIrG0u4QtmHZNNp FagV68fCYJwdYOUg2uLpTLvDzuWqq6ltkfjuM= X-Google-DKIM-Signature: v=1; a=rsa-sha256; c=relaxed/relaxed; d=1e100.net; s=20230601; t=1760912343; x=1761517143; h=references:in-reply-to:cc:to:from:subject:message-id:date :x-gm-message-state:from:to:cc:subject:date:message-id:reply-to; bh=vy1z4/IOZ3wBJH3hGYTM7EDPotsz/alJkjiQEmkSe80=; b=Cyspb2MyomDRqed2Q6ncsNMd++DTXdQgyHqVUXA+ixdSvvRoLN6R7gZfvx8vnXUTho 5oqU9cVPabYHqLXkz8CNDWvbsbQMLCMVjXCMFpdepWexEY534XCfCyu5NcCBSvTbaJtz /GF0wYrhS8fGd39qb0GGCX8j7LOBctQSzONON2RlPIHpdZnsWvCr7li9g7lFF/M2uFwV KEGuspRSeOem6P+FIK5whC7RmUUtDSpK55b0bK1xF/nJfb12hS4vFRw3LD7e+CIkaaii oa9j0o1nNZZBnNJyq7OVrsKn6YsABuTAwCwz/yc3An8a2TTAdSkp5LPidXpDhVc464JE mJWg== X-Gm-Message-State: AOJu0YzIBeNpTw58RmF/vw/dX4B45XMeUONpUBMXXN+ZzbnuVZHZv82p Mt55zCC9mmp51QGfYsx9NRKYoJsEfQ6XT3YfxVJpRxehibIdUNgTdRvYGaZ9twDlc4033E55czn +ExPeVHLDIbFbKJwyUubh3uDBJt29GYyc8DW+wTBsUKOA1is7aOr/V1K+BsA9 X-Gm-Gg: ASbGncvADv4OSs7ih8YLubz6eaBmlINesmLfGn9VeW8FCKE8jbH9EaitPAHj9Lnq9tq RwGnjbxDa9x048kJeNRJreupq6tpJd/tBEjef+gmBMtq29WcYdXvLuRUIXPh9gBvxUZG/GB1ysf uuHk8gEnRrspSMkvFjMYype7BzA87Bc3H6nCmC2A4SAk+G1wh8V1iZhywESeaXspxtI+LPrtAaN c/LH1upOKk3ubPV6t5K2XT2PDuZuDdEf8s7IRWVUVcnzWigBDNvN8QriLTyMAU1vRAO3eyASJDd FPodYL2RTY0dn366D6hLxLmve0/uEE9mRWqvTUsQduLxxMu993zLtcl/Hd1vyoYHusviqzl3Uwm wOpCY4ZiM X-Google-Smtp-Source: AGHT+IE9N6YcMDdgV8H94FSya5C+dEWjhSc+zbFCSue7BEd68/YMNLXon0W62KjAM2GPo/d2AVxvT/Xqm2/1 X-Received: by 2002:a05:6e02:190c:b0:430:b2e3:8fb with SMTP id e9e14a558f8ab-430c5263db1mr173322995ab.9.1760912343058; Sun, 19 Oct 2025 15:19:03 -0700 (PDT) Received: from postal.iol.unh.edu (postal.iol.unh.edu. [2606:4100:3880:1234::84]) by smtp-relay.gmail.com with ESMTPS id 8926c6da1cb9f-5a8a9778692sm827079173.35.2025.10.19.15.19.02 (version=TLS1_2 cipher=ECDHE-ECDSA-AES128-GCM-SHA256 bits=128/128); Sun, 19 Oct 2025 15:19:03 -0700 (PDT) X-Relaying-Domain: iol.unh.edu Date: Sun, 19 Oct 2025 15:19:03 -0700 (PDT) Message-ID: <68f563d7.050a0220.25964a.7c11SMTPIN_ADDED_MISSING@mx.google.com> Received: from [172.21.0.2] (unknown [172.18.0.240]) by postal.iol.unh.edu (Postfix) with ESMTP id BA5DC6051830; Sun, 19 Oct 2025 18:19:02 -0400 (EDT) Subject: |SUCCESS| pw157837-157838 [PATCH] [v2,2/2] bpf: remove dependency on From: dpdklab@iol.unh.edu To: Test Report Cc: dpdk-test-reports@iol.unh.edu In-Reply-To: <20251019204106.29043-3-stephen@networkplumber.org> References: <20251019204106.29043-3-stephen@networkplumber.org> Content-Type: text/plain X-BeenThere: test-report@dpdk.org X-Mailman-Version: 2.1.29 Precedence: list List-Id: automatic DPDK test reports List-Unsubscribe: , List-Archive: List-Post: List-Help: List-Subscribe: , Errors-To: test-report-bounces@dpdk.org Test-Label: iol-unit-amd64-testing Test-Status: SUCCESS http://dpdk.org/patch/157838 _Testing PASS_ Submitter: Stephen Hemminger Date: Sunday, October 19 2025 20:39:59 DPDK git baseline: Repo:dpdk Branch: master CommitID:508d60b518bd6870f906285c689c9508c57e9dd4 157837-157838 --> testing pass Upstream job id: Generic-Unit-Test-DPDK#383370 Test environment and result as below: +-------------------------------+----------------+ | Environment | dpdk_unit_test | +===============================+================+ | Fedora Linux 40 | PASS | +-------------------------------+----------------+ | CentOS Stream 10 | PASS | +-------------------------------+----------------+ | Ubuntu 20.04 | PASS | +-------------------------------+----------------+ | Debian GNU/Linux 12 | PASS | +-------------------------------+----------------+ | Fedora Linux 41 | PASS | +-------------------------------+----------------+ | Red Hat Enterprise Linux 8.10 | PASS | +-------------------------------+----------------+ | Fedora Linux 42 | PASS | +-------------------------------+----------------+ | Red Hat Enterprise Linux 9.5 | PASS | +-------------------------------+----------------+ | CentOS Stream 9 | PASS | +-------------------------------+----------------+ | Ubuntu 24.04 | PASS | +-------------------------------+----------------+ | Ubuntu 22.04 | PASS | +-------------------------------+----------------+ | Windows Server 2022 | PASS | +-------------------------------+----------------+ Fedora Linux 40 Kernel: 5.15 Compiler: clang gcc (GCC) 14.2.1 20240912 (Red Hat 14.2.1-3) CentOS Stream 10 Kernel: 5.15 Compiler: gcc gcc (GCC) 14.2.1 20250110 (Red Hat 14.2.1-8) Ubuntu 20.04 Kernel: 5.15 Compiler: gcc gcc (Ubuntu 9.4.0-1ubuntu1~20.04.2) 9.4.0 Debian GNU/Linux 12 Kernel: 5.15 Compiler: gcc gcc (Debian 12.2.0-14+deb12u1) 12.2.0 Fedora Linux 41 Kernel: 5.15 Compiler: clang gcc (GCC) 14.3.1 20250523 (Red Hat 14.3.1-1) Red Hat Enterprise Linux 8.10 Kernel: 5.15 Compiler: gcc gcc (GCC) 8.5.0 20210514 (Red Hat 8.5.0-22) Fedora Linux 42 Kernel: 5.15 Compiler: gcc gcc (GCC) 15.2.1 20250808 (Red Hat 15.2.1-1) Red Hat Enterprise Linux 9.5 Kernel: 5.15 Compiler: gcc gcc (GCC) 11.5.0 20240719 (Red Hat 11.5.0-2) CentOS Stream 9 Kernel: 5.15 Compiler: gcc gcc (GCC) 11.5.0 20240719 (Red Hat 11.5.0-11) Ubuntu 24.04 Kernel: 5.15 Compiler: gcc gcc (Ubuntu 13.3.0-6ubuntu2~24.04) 13.3.0 Ubuntu 22.04 Kernel: 5.15 Compiler: gcc gcc (Ubuntu 11.4.0-1ubuntu1~22.04) 11.4.0 Windows Server 2022 Kernel: 10.0.20348.2031 Compiler: clang 15.0.7, gcc 14.1.0 (MinGW), and MSVC VS 19.39.33521 To view detailed results, visit: https://lab.dpdk.org/results/dashboard/patchsets/34327/ UNH-IOL DPDK Community Lab To manage your email subscriptions, visit: https://lab.dpdk.org/results/dashboard/preferences/subscriptions/