From mboxrd@z Thu Jan 1 00:00:00 1970 Return-Path: Received: from mails.dpdk.org (mails.dpdk.org [217.70.189.124]) by inbox.dpdk.org (Postfix) with ESMTP id D292A48981 for ; Mon, 20 Oct 2025 03:15:24 +0200 (CEST) Received: from mails.dpdk.org (localhost [127.0.0.1]) by mails.dpdk.org (Postfix) with ESMTP id A834D400D5; Mon, 20 Oct 2025 03:15:24 +0200 (CEST) Received: from mail-oo1-f97.google.com (mail-oo1-f97.google.com [209.85.161.97]) by mails.dpdk.org (Postfix) with ESMTP id 7901C400D5 for ; Mon, 20 Oct 2025 03:15:23 +0200 (CEST) Received: by mail-oo1-f97.google.com with SMTP id 006d021491bc7-651ca14a092so1366817eaf.1 for ; Sun, 19 Oct 2025 18:15:23 -0700 (PDT) DKIM-Signature: v=1; a=rsa-sha256; c=relaxed/relaxed; d=iol.unh.edu; s=unh-iol; t=1760922922; x=1761527722; darn=dpdk.org; h=cc:to:from:subject:message-id:date:from:to:cc:subject:date :message-id:reply-to; bh=3lHMq7hOwiaEQG9avZQfmwq8GY9DCfYSkBzeZPk7beY=; b=QKj7JdJirclk6NDSZowyiNoK1+ys859OI03RNV/s2U7k7Zda0xyQpwLcM4utYdjwZZ dhMgcup/lzhEKBJks8EvRRps0s9+PA0t5gK7KzTuzasYqsi2TQ5t9B1BJm04OoQDT+ff r9VDOtBB/8FVZhhnDE75k3ebb3udC04frGRRY= X-Google-DKIM-Signature: v=1; a=rsa-sha256; c=relaxed/relaxed; d=1e100.net; s=20230601; t=1760922922; x=1761527722; h=cc:to:from:subject:message-id:date:x-gm-message-state:from:to:cc :subject:date:message-id:reply-to; bh=3lHMq7hOwiaEQG9avZQfmwq8GY9DCfYSkBzeZPk7beY=; b=PUzFggksOmU0AYLPqaBXwiDbL7+i0eInrrOYXbmGwYXxQNCjm32nO4QolKP5apgZWi 9BawdMP72O8LMvSMTk6jKmTtKqk9r5VpLfZ/ejS3Ya20gKfUueEBCnLdvuo1V9Z49Kzm LcuaWErRvcXZm81TNO0ugrz+YnCaU6ZuWO2/Hkd+y/FGVBi/yISB2vw/LzobXnDedyNM ZUvvbmRbWf4hjFyk7NGfEvHRZoDWikWPxx49h0/RJTap+2R+IFMi5dX9Hkr3ANjc4uf9 +Zy5vGhyHhZ3QiED+vCmGIewSCeKx5JJEji0V0kLXzlrRWCVlUhV9LIBXTSDTSR/S90C XIyQ== X-Gm-Message-State: AOJu0Yw4Bwwp7j12b6JKUi4rxOX7uvdZIxHD56xAWrNq1BIW0pdiNtGp +eYOZObAVdhTKLoP1mHztAs+Tfw4vp+kmmQYwO3yWPRaNoMv8J49CKLnIulRrAQziOXOWpwS6Sm 6BHv3h3iVCJw9hmqB89l9TQEEm6DB0nq1ldOEnrvin+vm9iT36h+x91H5rjvh X-Gm-Gg: ASbGncvscAxFNn3dDd3P4xyRmnUDPMBBzsaY1B4ye+AljseXORGO0qiyVzbNtMEAhPT 0ZCZfla28Ns3pA0S9306RRhMTwacmQcvZ6D7A/pvk+huGpPEet5LhSk0QHO/oRTiThBW/gMREYp t6Ofet8b9KUlMDnJ00q/NaffVgF3uFA2Sx6K6Uqg/XL7obp9RmyN1EFzXs4POrOMwRiRAZvPDY0 D0paqRkYyKbouJlVgbzQT4sUl1weKfU7xlSf/qmKa2dRvUoBOx86CjIeXh9ZKaM+TCBY+ia388V SEIIA+IBiiu0hk+TqziL1TovxezUjSEUyvOU0Lks+JlRcMm6w3m4vvrbKWt67/HB70Kkg7PRxmi R/rVvbizk X-Google-Smtp-Source: AGHT+IFmUd3xGMch/Yrmndp0qwnLbXzq5Dj5WuFLhq8hHdf21o1RwvxFuyocWhxfE1CHUDmwY72qbd1xXESV X-Received: by 2002:a05:6870:9707:b0:3c9:84b5:b9 with SMTP id 586e51a60fabf-3c98d171533mr4719212fac.46.1760922922623; Sun, 19 Oct 2025 18:15:22 -0700 (PDT) Received: from postal.iol.unh.edu (postal.iol.unh.edu. [2606:4100:3880:1234::84]) by smtp-relay.gmail.com with ESMTPS id 586e51a60fabf-3c9af2f53c6sm995060fac.23.2025.10.19.18.15.22 (version=TLS1_2 cipher=ECDHE-ECDSA-AES128-GCM-SHA256 bits=128/128); Sun, 19 Oct 2025 18:15:22 -0700 (PDT) X-Relaying-Domain: iol.unh.edu Date: Sun, 19 Oct 2025 18:15:22 -0700 (PDT) Message-ID: <68f58d2a.050a0220.216969.e7a0SMTPIN_ADDED_MISSING@mx.google.com> Received: from [172.21.0.2] (unknown [172.18.0.240]) by postal.iol.unh.edu (Postfix) with ESMTP id B36E96051830; Sun, 19 Oct 2025 21:15:21 -0400 (EDT) Subject: |WARNING| [GIT MASTER] f0db0f659a1f4192a4aca7ce2a298f272aa3af8f From: dpdklab@iol.unh.edu To: Test Report Cc: dpdk-test-reports@iol.unh.edu Content-Type: text/plain X-BeenThere: test-report@dpdk.org X-Mailman-Version: 2.1.29 Precedence: list List-Id: automatic DPDK test reports List-Unsubscribe: , List-Archive: List-Post: List-Help: List-Subscribe: , Errors-To: test-report-bounces@dpdk.org _Testing issues_ Branch: dpdk f0db0f659a1f4192a4aca7ce2a298f272aa3af8f --> testing issues Upstream job id: Generic-DPDK-Compile-Meson#436070 Test environment and result as below: +-------------------------------+-------------------+--------------------+-------------------+------------------+-------------------------+----------------------+ | Environment | dpdk_msvc_compile | dpdk_meson_compile | dpdk_compile_spdk | dpdk_compile_ovs | dpdk_llvm_clang_compile | dpdk_mingw64_compile | +===============================+===================+====================+===================+==================+=========================+======================+ | Windows Server 2022 | PASS | SKIPPED | SKIPPED | SKIPPED | PASS | PASS | +-------------------------------+-------------------+--------------------+-------------------+------------------+-------------------------+----------------------+ | CentOS Stream 9 | SKIPPED | PASS | WARN | SKIPPED | SKIPPED | SKIPPED | +-------------------------------+-------------------+--------------------+-------------------+------------------+-------------------------+----------------------+ | Debian GNU/Linux 12 | SKIPPED | PASS | WARN | SKIPPED | SKIPPED | SKIPPED | +-------------------------------+-------------------+--------------------+-------------------+------------------+-------------------------+----------------------+ | CentOS Stream 10 | SKIPPED | PASS | SKIPPED | SKIPPED | SKIPPED | SKIPPED | +-------------------------------+-------------------+--------------------+-------------------+------------------+-------------------------+----------------------+ | Fedora Linux 42 | SKIPPED | PASS | WARN | PASS | SKIPPED | SKIPPED | +-------------------------------+-------------------+--------------------+-------------------+------------------+-------------------------+----------------------+ | Ubuntu 20.04 | SKIPPED | PASS | SKIPPED | SKIPPED | SKIPPED | SKIPPED | +-------------------------------+-------------------+--------------------+-------------------+------------------+-------------------------+----------------------+ | Red Hat Enterprise Linux 8.10 | SKIPPED | PASS | SKIPPED | SKIPPED | SKIPPED | SKIPPED | +-------------------------------+-------------------+--------------------+-------------------+------------------+-------------------------+----------------------+ | openSUSE Leap 15.6 | SKIPPED | PASS | SKIPPED | SKIPPED | SKIPPED | SKIPPED | +-------------------------------+-------------------+--------------------+-------------------+------------------+-------------------------+----------------------+ | Ubuntu 24.04 | SKIPPED | PASS | WARN | PASS | SKIPPED | SKIPPED | +-------------------------------+-------------------+--------------------+-------------------+------------------+-------------------------+----------------------+ | Red Hat Enterprise Linux 9.5 | SKIPPED | PASS | SKIPPED | SKIPPED | SKIPPED | SKIPPED | +-------------------------------+-------------------+--------------------+-------------------+------------------+-------------------------+----------------------+ | Ubuntu 22.04 | SKIPPED | PASS | WARN | SKIPPED | SKIPPED | SKIPPED | +-------------------------------+-------------------+--------------------+-------------------+------------------+-------------------------+----------------------+ | FreeBSD 14.2 | SKIPPED | PASS | SKIPPED | SKIPPED | SKIPPED | SKIPPED | +-------------------------------+-------------------+--------------------+-------------------+------------------+-------------------------+----------------------+ | Alpine Linux 3.22.0 | SKIPPED | PASS | SKIPPED | SKIPPED | SKIPPED | SKIPPED | +-------------------------------+-------------------+--------------------+-------------------+------------------+-------------------------+----------------------+ | Arch Linux 20250613.0.365270 | SKIPPED | PASS | SKIPPED | SKIPPED | SKIPPED | SKIPPED | +-------------------------------+-------------------+--------------------+-------------------+------------------+-------------------------+----------------------+ ==== 20 line log output for Ubuntu 22.04 (dpdk_compile_spdk): ==== --- Failed to get log output --- ==== End log output ==== Windows Server 2022 Kernel: 10.0.20348.2031 Compiler: clang 15.0.7, gcc 14.1.0 (MinGW), and MSVC VS 19.39.33521 CentOS Stream 9 Kernel: 5.15 Compiler: gcc gcc (GCC) 11.5.0 20240719 (Red Hat 11.5.0-11) Debian GNU/Linux 12 Kernel: 5.15 Compiler: gcc gcc (Debian 12.2.0-14+deb12u1) 12.2.0 CentOS Stream 10 Kernel: 5.15 Compiler: gcc gcc (GCC) 14.2.1 20250110 (Red Hat 14.2.1-8) Fedora Linux 42 Kernel: 5.15 Compiler: clang gcc (GCC) 15.2.1 20250808 (Red Hat 15.2.1-1) Ubuntu 20.04 Kernel: 4.19 Compiler: gcc gcc (Ubuntu 9.4.0-1ubuntu1~20.04.2) 9.4.0 Red Hat Enterprise Linux 8.10 Kernel: 5.15 Compiler: gcc gcc (GCC) 8.5.0 20210514 (Red Hat 8.5.0-22) openSUSE Leap 15.6 Kernel: 5.15 Compiler: gcc gcc (SUSE Linux) 7.5.0 Ubuntu 24.04 Kernel: 5.15 Compiler: gcc gcc (Ubuntu 13.3.0-6ubuntu2~24.04) 13.3.0 Red Hat Enterprise Linux 9.5 Kernel: 5.15 Compiler: gcc gcc (GCC) 11.5.0 20240719 (Red Hat 11.5.0-2) Ubuntu 22.04 Kernel: 5.15 Compiler: gcc gcc (Ubuntu 11.4.0-1ubuntu1~22.04) 11.4.0 FreeBSD 14.2 Kernel: 14.2-RELEASE Compiler: clang 18.1.6 Alpine Linux 3.22.0 Kernel: 5.15 Compiler: gcc gcc (Alpine 14.2.0) 14.2.0 Arch Linux 20250613.0.365270 Kernel: 5.15 Compiler: gcc gcc (GCC) 15.1.1 20250425 To view detailed results, visit: https://lab.dpdk.org/results/dashboard/tarballs/35276/ UNH-IOL DPDK Community Lab To manage your email subscriptions, visit: https://lab.dpdk.org/results/dashboard/preferences/subscriptions/