From mboxrd@z Thu Jan 1 00:00:00 1970 Return-Path: Received: from mails.dpdk.org (mails.dpdk.org [217.70.189.124]) by inbox.dpdk.org (Postfix) with ESMTP id 3564B48983 for ; Mon, 20 Oct 2025 05:01:28 +0200 (CEST) Received: from mails.dpdk.org (localhost [127.0.0.1]) by mails.dpdk.org (Postfix) with ESMTP id 1B245400D5; Mon, 20 Oct 2025 05:01:28 +0200 (CEST) Received: from mail-vs1-f97.google.com (mail-vs1-f97.google.com [209.85.217.97]) by mails.dpdk.org (Postfix) with ESMTP id 43C4E400D5 for ; Mon, 20 Oct 2025 05:01:26 +0200 (CEST) Received: by mail-vs1-f97.google.com with SMTP id ada2fe7eead31-59d576379b9so1272701137.1 for ; Sun, 19 Oct 2025 20:01:26 -0700 (PDT) DKIM-Signature: v=1; a=rsa-sha256; c=relaxed/relaxed; d=iol.unh.edu; s=unh-iol; t=1760929285; x=1761534085; darn=dpdk.org; h=references:in-reply-to:cc:to:from:subject:message-id:date:from:to :cc:subject:date:message-id:reply-to; bh=mGucdcu4U/LsTkjsPgm8ZhMxTi2BrOp22pNTEUXYoJ0=; b=QA9VOlGFcR5dw3WjH85x+Pmg5sykteBRN9rSjryIKnLWv2ow/XaXXM0xmeXTGpMBLn pJbAE2Uyvw4fuRrBaFM7VtEtCDuUWS2rcYLYXU+O1KgwYv6QhDJdQJ4KHnLvXPOjwjwW Ur6Hb4Hye+dVYjC38l5hNUwxdaJ3DZGO4c58M= X-Google-DKIM-Signature: v=1; a=rsa-sha256; c=relaxed/relaxed; d=1e100.net; s=20230601; t=1760929285; x=1761534085; h=references:in-reply-to:cc:to:from:subject:message-id:date :x-gm-message-state:from:to:cc:subject:date:message-id:reply-to; bh=mGucdcu4U/LsTkjsPgm8ZhMxTi2BrOp22pNTEUXYoJ0=; b=lyFbMIITuC0+fuJlmISWq7vVKwPmznZ4guAlk6w7nZ9oF60SUA4U/B48vok3K9eUxh FO8SQ7M3Ut49g3ZI9gpwE266enaUW3TsQiaA9pKwdKww4LI599IyVqQ1sOmOJPxa4G+F 4Ai3hrLM87GgknsDIZxg0k0QZo2cl+sNp7tqgi2MP1iLI6TSPEpbMwehr8jL2hwppQl2 //Wxeg9W3aoxAncAetWAgdahlWmBqbVrP9DX5F/LLeAXwQQsXQ+1dmwddLR/hBnK1eH9 yKmZXD/9Zo8t5PwJ6RJ0EnDUiO5lVtdE3l0tPZIJnKQCGDcfO5k3emPhDmfMDirdNAT8 Ey5Q== X-Gm-Message-State: AOJu0YwmEEaN1uSW7Yw+ExZwKATmqNlcB0WEXcxl8GaThP4QvGMBDjYB I3/1Kw+FYpJiAjrWJcq0RipOqASx/j6QSPna9LNkLbabAubC3MrFDGK5s9Ua2PgEwPiZmTgZ0xt lNQrugdNdCBDbRQdobyO72Xz3Pe7EM1JT0dOElGEs13C0DwjQgtY2XMpDB/Ok X-Gm-Gg: ASbGncuMhP4QRC8niBXINii+KkYEuUl1clhWOJiV/RZ8K8OkfIUjq4ZbMrfHTPdE5Kv MJFU/ObaVWBWdrLSLoJD8G7RuF1TtlXrrLTzsWJb41nEPsQIdZ2+h5p/1dbgXSTN/Ef08GXeMcr JSt7JhrqHi7rakrnxQRdkn7bml59Da2/W77vv67+0cRh3LjgBWxVIAevKDI92gUGVL5iOYkeZCk G+HSqxA7H1v6AQPssnW/oCdcTHiY5wMylgPf5WNnue6pw1jktGJpx7uzQxytvb1psgG5bctUNw/ HPPBXercMcaj9lOoQ3la9PHaZQgncOOsCUk7KQL1Kb8AM/MdCPU3kq2u907Ao1C8CYwx/k/QL+k VJuBbWX0Q X-Google-Smtp-Source: AGHT+IE8yUeJ5XD6Bme3GwN2Q90XDN7ihE1vP29U/E+ZFjokTPWnuVPX2T0K0a4eGyVowDqOmTD+YsVrvr6/ X-Received: by 2002:a05:6102:41a2:b0:525:33a9:c71 with SMTP id ada2fe7eead31-5d7dd5b9dc5mr3383174137.24.1760929285520; Sun, 19 Oct 2025 20:01:25 -0700 (PDT) Received: from postal.iol.unh.edu (postal.iol.unh.edu. [2606:4100:3880:1234::84]) by smtp-relay.gmail.com with ESMTPS id ada2fe7eead31-5d96c0ec098sm1128676137.2.2025.10.19.20.01.25 (version=TLS1_2 cipher=ECDHE-ECDSA-AES128-GCM-SHA256 bits=128/128); Sun, 19 Oct 2025 20:01:25 -0700 (PDT) X-Relaying-Domain: iol.unh.edu Date: Sun, 19 Oct 2025 20:01:25 -0700 (PDT) Message-ID: <68f5a605.050a0220.1cb0ac.0a92SMTPIN_ADDED_MISSING@mx.google.com> Received: from [172.21.0.4] (unknown [172.18.0.240]) by postal.iol.unh.edu (Postfix) with ESMTP id 2A23A60003F7; Sun, 19 Oct 2025 23:01:25 -0400 (EDT) Subject: |SUCCESS| pw157837-157838 [PATCH] [v2,2/2] bpf: remove dependency on From: dpdklab@iol.unh.edu To: Test Report Cc: dpdk-test-reports@iol.unh.edu In-Reply-To: <20251019204106.29043-3-stephen@networkplumber.org> References: <20251019204106.29043-3-stephen@networkplumber.org> Content-Type: text/plain X-BeenThere: test-report@dpdk.org X-Mailman-Version: 2.1.29 Precedence: list List-Id: automatic DPDK test reports List-Unsubscribe: , List-Archive: List-Post: List-Help: List-Subscribe: , Errors-To: test-report-bounces@dpdk.org Test-Label: iol-unit-arm64-testing Test-Status: SUCCESS http://dpdk.org/patch/157838 _Testing PASS_ Submitter: Stephen Hemminger Date: Sunday, October 19 2025 20:39:59 DPDK git baseline: Repo:dpdk Branch: master CommitID:508d60b518bd6870f906285c689c9508c57e9dd4 157837-157838 --> testing pass Upstream job id: Generic-Unit-Test-DPDK#383376 Test environment and result as below: +------------------------------+----------------+--------------+---------------------------+------------------------------+ | Environment | dpdk_unit_test | lpm_autotest | cryptodev_sw_zuc_autotest | cryptodev_sw_snow3g_autotest | +==============================+================+==============+===========================+==============================+ | CentOS Stream 9 | PASS | SKIPPED | SKIPPED | SKIPPED | +------------------------------+----------------+--------------+---------------------------+------------------------------+ | Fedora Linux 41 | PASS | SKIPPED | SKIPPED | SKIPPED | +------------------------------+----------------+--------------+---------------------------+------------------------------+ | Red Hat Enterprise Linux 9.5 | PASS | SKIPPED | SKIPPED | SKIPPED | +------------------------------+----------------+--------------+---------------------------+------------------------------+ | Ubuntu 24.04 | PASS | SKIPPED | SKIPPED | SKIPPED | +------------------------------+----------------+--------------+---------------------------+------------------------------+ | Fedora Linux 42 | PASS | SKIPPED | SKIPPED | SKIPPED | +------------------------------+----------------+--------------+---------------------------+------------------------------+ | Ubuntu 22.04 | PASS | SKIPPED | SKIPPED | SKIPPED | +------------------------------+----------------+--------------+---------------------------+------------------------------+ | Debian GNU/Linux 12 | PASS | SKIPPED | SKIPPED | SKIPPED | +------------------------------+----------------+--------------+---------------------------+------------------------------+ | Fedora Linux 40 | PASS | SKIPPED | SKIPPED | SKIPPED | +------------------------------+----------------+--------------+---------------------------+------------------------------+ | Ubuntu 20.04 | PASS | PASS | SKIPPED | SKIPPED | +------------------------------+----------------+--------------+---------------------------+------------------------------+ | CentOS Stream 10 | PASS | SKIPPED | SKIPPED | SKIPPED | +------------------------------+----------------+--------------+---------------------------+------------------------------+ | Debian 12 (arm) | SKIPPED | SKIPPED | PASS | PASS | +------------------------------+----------------+--------------+---------------------------+------------------------------+ CentOS Stream 9 Kernel: 5.4 Compiler: gcc gcc (GCC) 11.5.0 20240719 (Red Hat 11.5.0-11) Fedora Linux 41 Kernel: 5.4 Compiler: gcc gcc (GCC) 14.3.1 20250523 (Red Hat 14.3.1-1) Red Hat Enterprise Linux 9.5 Kernel: 5.4 Compiler: gcc gcc (GCC) 11.5.0 20240719 (Red Hat 11.5.0-2) Ubuntu 24.04 Kernel: 5.4 Compiler: gcc gcc (Ubuntu 13.3.0-6ubuntu2~24.04) 13.3.0 Fedora Linux 42 Kernel: 5.4 Compiler: gcc gcc (GCC) 15.2.1 20250808 (Red Hat 15.2.1-1) Ubuntu 22.04 Kernel: 5.4 Compiler: gcc gcc (Ubuntu 11.4.0-1ubuntu1~22.04) 11.4.0 Debian GNU/Linux 12 Kernel: 5.4 Compiler: gcc gcc (Debian 12.2.0-14+deb12u1) 12.2.0 Fedora Linux 40 Kernel: 5.4 Compiler: gcc gcc (GCC) 14.2.1 20240912 (Red Hat 14.2.1-3) Ubuntu 20.04 Kernel: 5.4 Compiler: gcc gcc (Ubuntu 9.4.0-1ubuntu1~20.04.2) 9.4.0 CentOS Stream 10 Kernel: 5.4 Compiler: gcc gcc (GCC) 14.2.1 20250110 (Red Hat 14.2.1-8) Debian 12 (arm) Kernel: Depends on container host Compiler: gcc (Debian 12.2.0-14) 12.2.0 To view detailed results, visit: https://lab.dpdk.org/results/dashboard/patchsets/34327/ UNH-IOL DPDK Community Lab To manage your email subscriptions, visit: https://lab.dpdk.org/results/dashboard/preferences/subscriptions/