From mboxrd@z Thu Jan 1 00:00:00 1970 Return-Path: Received: from mails.dpdk.org (mails.dpdk.org [217.70.189.124]) by inbox.dpdk.org (Postfix) with ESMTP id E5F2A48983 for ; Mon, 20 Oct 2025 05:20:44 +0200 (CEST) Received: from mails.dpdk.org (localhost [127.0.0.1]) by mails.dpdk.org (Postfix) with ESMTP id AC413400D5; Mon, 20 Oct 2025 05:20:44 +0200 (CEST) Received: from mail-pj1-f99.google.com (mail-pj1-f99.google.com [209.85.216.99]) by mails.dpdk.org (Postfix) with ESMTP id 07F16400D5 for ; Mon, 20 Oct 2025 05:20:43 +0200 (CEST) Received: by mail-pj1-f99.google.com with SMTP id 98e67ed59e1d1-33bda2306c5so2632640a91.0 for ; Sun, 19 Oct 2025 20:20:42 -0700 (PDT) DKIM-Signature: v=1; a=rsa-sha256; c=relaxed/relaxed; d=iol.unh.edu; s=unh-iol; t=1760930442; x=1761535242; darn=dpdk.org; h=references:in-reply-to:cc:to:from:subject:message-id:date:from:to :cc:subject:date:message-id:reply-to; bh=P0z+GnmfX384aoJtIC80mLim6Oo8YeR+mfoip9fuwmU=; b=ZxnebUhfp+CX+nCyrq6FyqafU9JAyoaxIGx96eaSQc2l5nraO9HI11b9QDz6ncPmRs qb5eWfRBB4pnuJxRHjmuzlgvUFV0IK1nEIkOczFmjBWoGQI01ZmcvQO5Olt2SioStXiA a05NWsokVJyTMu4mb4xPsn7Gyu9DduWndSuJw= X-Google-DKIM-Signature: v=1; a=rsa-sha256; c=relaxed/relaxed; d=1e100.net; s=20230601; t=1760930442; x=1761535242; h=references:in-reply-to:cc:to:from:subject:message-id:date :x-gm-message-state:from:to:cc:subject:date:message-id:reply-to; bh=P0z+GnmfX384aoJtIC80mLim6Oo8YeR+mfoip9fuwmU=; b=bkX+zZJuME+1qTNRdU2n4TIA1fBgkGB18GD74QTXOIf8aOmQnbIJF5TQmuFpgYeLxk 4D2eiVTSsfo4QvMFP3DwumGkWwzL9oiIUwzGwxkSot63BOR4BpZgR219Ma1eDVy6hIbH knuxfFtnBtnnOmjPR2QEAgtfUc+zWKKP1cle/jWjJsoQmjORhBnc8f3LqmoZ6ide5xfx K+s4shTod9gYTJQA/0YbzViX7UjIZkmIcrm5fDMpA7ESIePtm0No6VyQpAPtEeanu/Rm HJZ/IyPIdmRaP9D00gDIQDw7vlUAq01DAcKW8JsUyW6X/N64JavaVnnF3tihOppKntl7 erAA== X-Gm-Message-State: AOJu0YzaWvsYdSYavTX82hcu+hoU361ecGn1E859DRxU7rshxc5+xJiX gvx6p7BlbvWZGNlAhe+CbqcKk1byV+Yy/mUc+3GymRHE1ItIjzdYggFtG+N/gcDEjiXKK1plhq7 CqFVZF+TKJ6eKtmLZJRT3dzISHfYKkc1ev+fFnimNUaMe X-Gm-Gg: ASbGncs5drlOQ9p1SJXi8SDYxk7Ypqju9wsTyui47vb3mvC6DkiRoSiO/+k2HPkUTPT sw9PWu58ABWi6gSE0olFmRrHr75v0cR3acRY7N0LOFa0B1DSbzejexTY5PNzjK+VB2nGNOtH1Rc Yi5FOiDQEB/Wznfinc6pPJtJWCwWRJw0kjn3IZOeBCyyLig8K/2m+fd6hH/hPleIBAZVBreYEux hHUeBEKV/caIeE7eVWu/gVj0vJbUrIyrbSz65XJi1rJbXkPxSBrJW1n45L8jAivX+y5rHagKMmr n0OpojsThq7gzZAypvVFw1VOFcxcAUUP4MzP5IMAzOV++3s2rggGehmAHiqsbYWHhWSIRgOO1kr wKDMuBuL5lM5nHRm9BKiGLk4e8bPC2iU= X-Google-Smtp-Source: AGHT+IF6wzHvDQI1xXwR4BwNux/0QlUeIBiVyIzU3+SEjXHGTR3I+x8cuerkOvTgaxaYVOhbXKkAQDRKrXWQ X-Received: by 2002:a17:90b:5383:b0:33b:b0d6:6bc2 with SMTP id 98e67ed59e1d1-33bcf90923amr14059726a91.30.1760930442007; Sun, 19 Oct 2025 20:20:42 -0700 (PDT) Received: from postal.iol.unh.edu (postal.iol.unh.edu. [132.177.123.84]) by smtp-relay.gmail.com with ESMTPS id 98e67ed59e1d1-33d5de76ec3sm829723a91.6.2025.10.19.20.20.41 (version=TLS1_2 cipher=ECDHE-ECDSA-AES128-GCM-SHA256 bits=128/128); Sun, 19 Oct 2025 20:20:41 -0700 (PDT) X-Relaying-Domain: iol.unh.edu Date: Sun, 19 Oct 2025 20:20:42 -0700 (PDT) Message-ID: <68f5aa89.170a0220.1570c0.870cSMTPIN_ADDED_MISSING@mx.google.com> Received: from [172.21.0.2] (unknown [172.18.0.240]) by postal.iol.unh.edu (Postfix) with ESMTP id D78BB6051830; Sun, 19 Oct 2025 23:20:40 -0400 (EDT) Subject: |SUCCESS| pw157837-157838 [PATCH] [v2,2/2] bpf: remove dependency on From: dpdklab@iol.unh.edu To: Test Report Cc: dpdk-test-reports@iol.unh.edu In-Reply-To: <20251019204106.29043-3-stephen@networkplumber.org> References: <20251019204106.29043-3-stephen@networkplumber.org> Content-Type: text/plain X-BeenThere: test-report@dpdk.org X-Mailman-Version: 2.1.29 Precedence: list List-Id: automatic DPDK test reports List-Unsubscribe: , List-Archive: List-Post: List-Help: List-Subscribe: , Errors-To: test-report-bounces@dpdk.org Test-Label: iol-compile-arm64-testing Test-Status: SUCCESS http://dpdk.org/patch/157838 _Testing PASS_ Submitter: Stephen Hemminger Date: Sunday, October 19 2025 20:39:59 DPDK git baseline: Repo:dpdk Branch: master CommitID:508d60b518bd6870f906285c689c9508c57e9dd4 157837-157838 --> testing pass Upstream job id: Generic-DPDK-Compile-Meson#436021 Test environment and result as below: +------------------------------+--------------------+ | Environment | dpdk_meson_compile | +==============================+====================+ | Red Hat Enterprise Linux 9.5 | PASS | +------------------------------+--------------------+ | Debian GNU/Linux 12 | PASS | +------------------------------+--------------------+ | Ubuntu 20.04 | PASS | +------------------------------+--------------------+ | Fedora Linux 42 | PASS | +------------------------------+--------------------+ | Ubuntu 22.04 | PASS | +------------------------------+--------------------+ | Ubuntu 24.04 | PASS | +------------------------------+--------------------+ | CentOS Stream 9 | PASS | +------------------------------+--------------------+ | CentOS Stream 10 | PASS | +------------------------------+--------------------+ Red Hat Enterprise Linux 9.5 Kernel: 5.4 Compiler: gcc gcc (GCC) 11.5.0 20240719 (Red Hat 11.5.0-2) Debian GNU/Linux 12 Kernel: 5.4 Compiler: gcc gcc (Debian 12.2.0-14+deb12u1) 12.2.0 Ubuntu 20.04 Kernel: 5.15 Compiler: aarch64-linux-gnu-gcc gcc (Ubuntu 9.4.0-1ubuntu1~20.04.2) 9.4.0 Fedora Linux 42 Kernel: 5.4 Compiler: gcc gcc (GCC) 15.2.1 20250808 (Red Hat 15.2.1-1) Ubuntu 22.04 Kernel: 5.4 Compiler: gcc gcc (Ubuntu 11.4.0-1ubuntu1~22.04) 11.4.0 Ubuntu 24.04 Kernel: 5.4 Compiler: gcc gcc (Ubuntu 13.3.0-6ubuntu2~24.04) 13.3.0 CentOS Stream 9 Kernel: 5.4 Compiler: gcc gcc (GCC) 11.5.0 20240719 (Red Hat 11.5.0-11) CentOS Stream 10 Kernel: 5.4 Compiler: gcc gcc (GCC) 14.2.1 20250110 (Red Hat 14.2.1-8) To view detailed results, visit: https://lab.dpdk.org/results/dashboard/patchsets/34327/ UNH-IOL DPDK Community Lab To manage your email subscriptions, visit: https://lab.dpdk.org/results/dashboard/preferences/subscriptions/