automatic DPDK test reports
 help / color / mirror / Atom feed
From: dpdklab@iol.unh.edu
To: Test Report <test-report@dpdk.org>
Cc: dpdk-test-reports@iol.unh.edu
Subject: |SUCCESS| pw157839-157852 [PATCH] [v4,14/14] app/dma-perf: refactor
Date: Sun, 19 Oct 2025 21:56:49 -0700 (PDT)	[thread overview]
Message-ID: <68f5c111.050a0220.1f79dd.6959SMTPIN_ADDED_MISSING@mx.google.com> (raw)
In-Reply-To: <20251020041105.1590-15-fengchengwen@huawei.com>

Test-Label: iol-sample-apps-testing
Test-Status: SUCCESS
http://dpdk.org/patch/157852

_Testing PASS_

Submitter: Chengwen Feng <fengchengwen@huawei.com>
Date: Monday, October 20 2025 04:11:05 
DPDK git baseline: Repo:dpdk
  Branch: master
  CommitID:f0db0f659a1f4192a4aca7ce2a298f272aa3af8f

157839-157852 --> testing pass

Upstream job id: Template-DTS-Pipeline#250386

Test environment and result as below:

+--------------+----------------------+
| Environment  | compressdev_zlib_pmd |
+==============+======================+
| Ubuntu 22.04 | PASS                 |
+--------------+----------------------+


Ubuntu 22.04
	Kernel: 5.15
	Compiler: gcc gcc (Ubuntu 11.4.0-1ubuntu1~22.04.2) 11.4.0

To view detailed results, visit:
https://lab.dpdk.org/results/dashboard/patchsets/34328/

UNH-IOL DPDK Community Lab

To manage your email subscriptions, visit: 
https://lab.dpdk.org/results/dashboard/preferences/subscriptions/

  parent reply	other threads:[~2025-10-20  4:56 UTC|newest]

Thread overview: 24+ messages / expand[flat|nested]  mbox.gz  Atom feed  top
     [not found] <20251020041105.1590-15-fengchengwen@huawei.com>
2025-10-20  3:37 ` |SUCCESS| pw157839-157852 [PATCH v4 14/14] app/dma-perf: refactor benchmark function qemudev
2025-10-20  3:43 ` qemudev
2025-10-20  4:13 ` |SUCCESS| pw157852 " checkpatch
2025-10-20  4:44 ` |PENDING| pw157839-157852 [PATCH] [v4,14/14] app/dma-perf: refactor dpdklab
2025-10-20  4:48 ` |SUCCESS| " dpdklab
2025-10-20  4:56 ` dpdklab [this message]
2025-10-20  4:57 ` dpdklab
2025-10-20  5:07 ` dpdklab
2025-10-20  5:17 ` dpdklab
2025-10-20  5:28 ` |PENDING| " dpdklab
2025-10-20  5:34 ` |WARNING| " dpdklab
2025-10-20  5:43 ` |SUCCESS| pw157852 [PATCH v4 14/14] app/dma-perf: refactor benchmark function 0-day Robot
2025-10-20  5:43 ` 0-day Robot
2025-10-20  5:45 ` |SUCCESS| pw157839-157852 [PATCH] [v4,14/14] app/dma-perf: refactor dpdklab
2025-10-20  5:53 ` dpdklab
2025-10-20  5:53 ` dpdklab
2025-10-20  5:54 ` |PENDING| " dpdklab
2025-10-20  6:07 ` dpdklab
2025-10-20  6:36 ` |WARNING| " dpdklab
2025-10-20  6:45 ` |SUCCESS| " dpdklab
2025-10-20  6:56 ` dpdklab
2025-10-20  6:57 ` dpdklab
2025-10-20  7:19 ` dpdklab
2025-10-20  7:42 ` dpdklab

Reply instructions:

You may reply publicly to this message via plain-text email
using any one of the following methods:

* Save the following mbox file, import it into your mail client,
  and reply-to-all from there: mbox

  Avoid top-posting and favor interleaved quoting:
  https://en.wikipedia.org/wiki/Posting_style#Interleaved_style

* Reply using the --to, --cc, and --in-reply-to
  switches of git-send-email(1):

  git send-email \
    --in-reply-to=68f5c111.050a0220.1f79dd.6959SMTPIN_ADDED_MISSING@mx.google.com \
    --to=dpdklab@iol.unh.edu \
    --cc=dpdk-test-reports@iol.unh.edu \
    --cc=test-report@dpdk.org \
    /path/to/YOUR_REPLY

  https://kernel.org/pub/software/scm/git/docs/git-send-email.html

* If your mail client supports setting the In-Reply-To header
  via mailto: links, try the mailto: link
Be sure your reply has a Subject: header at the top and a blank line before the message body.
This is a public inbox, see mirroring instructions
for how to clone and mirror all data and code used for this inbox;
as well as URLs for NNTP newsgroup(s).