From mboxrd@z Thu Jan 1 00:00:00 1970 Return-Path: Received: from mails.dpdk.org (mails.dpdk.org [217.70.189.124]) by inbox.dpdk.org (Postfix) with ESMTP id 5693448984 for ; Mon, 20 Oct 2025 07:32:46 +0200 (CEST) Received: from mails.dpdk.org (localhost [127.0.0.1]) by mails.dpdk.org (Postfix) with ESMTP id 393D0400D6; Mon, 20 Oct 2025 07:32:46 +0200 (CEST) Received: from mail-pf1-f226.google.com (mail-pf1-f226.google.com [209.85.210.226]) by mails.dpdk.org (Postfix) with ESMTP id 72D4D400D6 for ; Mon, 20 Oct 2025 07:32:45 +0200 (CEST) Received: by mail-pf1-f226.google.com with SMTP id d2e1a72fcca58-7811a02316bso2698600b3a.3 for ; Sun, 19 Oct 2025 22:32:45 -0700 (PDT) DKIM-Signature: v=1; a=rsa-sha256; c=relaxed/relaxed; d=iol.unh.edu; s=unh-iol; t=1760938364; x=1761543164; darn=dpdk.org; h=cc:to:from:subject:message-id:date:from:to:cc:subject:date :message-id:reply-to; bh=o7+Ts47vzg/t2RyA1SETutDEtYKVZ1O7Ev7RJCrYPq4=; b=Kv41QjqWYjp9engEq9bUxZQbV53ofjMtqFG6J8DVPakdhIceJyY5GX4krL7IuoE3UU sd2VlmN0NsmkAXqWi8fahpk+eOeTLrL1/GGGyyLU77wJ6Iu5Ccx+geRT/JTCGGbE2s5k nMN8dE+Z2V22aTbmog7NWUd/1W+TDwp9AjKnU= X-Google-DKIM-Signature: v=1; a=rsa-sha256; c=relaxed/relaxed; d=1e100.net; s=20230601; t=1760938364; x=1761543164; h=cc:to:from:subject:message-id:date:x-gm-message-state:from:to:cc :subject:date:message-id:reply-to; bh=o7+Ts47vzg/t2RyA1SETutDEtYKVZ1O7Ev7RJCrYPq4=; b=I+kOq6BqFayQJYGCDthtveqKOYI1Hq1so9q0xRAE4ThUsSr8f+jK/R4zSTeS2EtZpD kkjyt4TMvo4B1L9ynPYulCSrRFlNN2gVgPyE8FCbPUf0OEw1TUh3X+X63/MwU8fnHxgk DBFAFR8/ZclOTY7a98h1ALlhI0l+R/Um71maJRY2m3T5Ej9ZyAh5vJmtODzf2gcMGCGe KjocSWxm9x0/2aiFUWTWG3ZckrC0lhdr1NoaakuU+/6T0oP2S3wt20SvTIvVttzzIrnP hzt/KWmNlABF/QWOc270W0zr8hEZHvtm6cP6poXZiFg3I5Ojqw0NAmQtu9589PzfctEr SSXQ== X-Gm-Message-State: AOJu0YxLUNENzrV683oS/B6QclnT4/luD+fjOSFymyR1pfLZBCHH57Tz 8U0m0ogOEkv1KF6JlOnG3Qxbhb5ATxjpssteoxwabcY2U7YQbtqAKdLBd3u0yP0vhJarqMsIX76 JFQ29xg3uaMzmRqfEca/0vW8vvCgVMG0j38fh X-Gm-Gg: ASbGncujGPycFjKwxgj0yvTTakT+cO5eLsXiiSNvlk725l3V16BuSQj3QCxiYiYrc+e /tNyBBSN6XV4zKqBBk9cE57d5GLwZFgEVzILIDanhBKrkjfG/i1AotOBK8wbAWNAGFv//0WibaT o+XFWBl1vO8hdpJWyrCf5SEZmRvHP4Bp4JU0/V97hLdiIpj5sHqWNlcsd7I/Z8wajcXl6zGcqb0 V39qwqz5wEgovtrAM1/UAqMPJtFK6nXRXGYsqYmCc363JcOh9Lt4FZzS13TbHmKANJ6vo4H0f1x h3UvjePaMlOVz0lStxPH6ucJdtqg2RouFhAhWr8RTAMjmN1jDAKyRqQlFwDAYJEWcFv8tMJn6PY HdF7bByes5BOuQbHZD67EDBgt/KdbedY= X-Google-Smtp-Source: AGHT+IGUAa/csI/hpJDogj9otbz273ndtM0El2i7/ishBd39gs1YBop4IHnVJLhdrLiTBciEyCOzVXCEd9wx X-Received: by 2002:a17:902:d2c6:b0:290:c0d7:237e with SMTP id d9443c01a7336-290caf831cdmr168850465ad.39.1760938364558; Sun, 19 Oct 2025 22:32:44 -0700 (PDT) Received: from postal.iol.unh.edu (postal.iol.unh.edu. [132.177.123.84]) by smtp-relay.gmail.com with ESMTPS id d9443c01a7336-292471c6169sm8660445ad.34.2025.10.19.22.32.44 (version=TLS1_2 cipher=ECDHE-ECDSA-AES128-GCM-SHA256 bits=128/128); Sun, 19 Oct 2025 22:32:44 -0700 (PDT) X-Relaying-Domain: iol.unh.edu Date: Sun, 19 Oct 2025 22:32:44 -0700 (PDT) Message-ID: <68f5c97c.170a0220.2a0bc.90d9SMTPIN_ADDED_MISSING@mx.google.com> Received: from [172.21.0.2] (unknown [172.18.0.240]) by postal.iol.unh.edu (Postfix) with ESMTP id C58236051830; Mon, 20 Oct 2025 01:32:43 -0400 (EDT) Subject: |SUCCESS| [GIT MASTER] b287e404643aeab5bb5db084c142789df187844e From: dpdklab@iol.unh.edu To: Test Report Cc: dpdk-test-reports@iol.unh.edu, Xueming Li , Christian Ehrhardt , Kevin Traynor , Luca Boccassi Content-Type: text/plain X-BeenThere: test-report@dpdk.org X-Mailman-Version: 2.1.29 Precedence: list List-Id: automatic DPDK test reports List-Unsubscribe: , List-Archive: List-Post: List-Help: List-Subscribe: , Errors-To: test-report-bounces@dpdk.org _Testing PASS_ Branch: tags/v24.11 b287e404643aeab5bb5db084c142789df187844e --> testing pass Upstream job id: Generic-Unit-Test-DPDK#383454 Test environment and result as below: +-------------------------------+----------------+ | Environment | dpdk_unit_test | +===============================+================+ | CentOS Stream 9 | PASS | +-------------------------------+----------------+ | Fedora Linux 40 | PASS | +-------------------------------+----------------+ | Fedora Linux 41 | PASS | +-------------------------------+----------------+ | Debian GNU/Linux 12 | PASS | +-------------------------------+----------------+ | Red Hat Enterprise Linux 8.10 | PASS | +-------------------------------+----------------+ | Fedora Linux 42 | PASS | +-------------------------------+----------------+ | Ubuntu 22.04 | PASS | +-------------------------------+----------------+ | Red Hat Enterprise Linux 9.5 | PASS | +-------------------------------+----------------+ | CentOS Stream 10 | PASS | +-------------------------------+----------------+ | Ubuntu 24.04 | PASS | +-------------------------------+----------------+ | Ubuntu 20.04 | PASS | +-------------------------------+----------------+ | Windows Server 2022 | PASS | +-------------------------------+----------------+ CentOS Stream 9 Kernel: 5.15 Compiler: gcc gcc (GCC) 11.5.0 20240719 (Red Hat 11.5.0-11) Fedora Linux 40 Kernel: 5.15 Compiler: gcc gcc (GCC) 14.2.1 20240912 (Red Hat 14.2.1-3) Fedora Linux 41 Kernel: 5.15 Compiler: clang gcc (GCC) 14.3.1 20250523 (Red Hat 14.3.1-1) Debian GNU/Linux 12 Kernel: 5.15 Compiler: gcc gcc (Debian 12.2.0-14+deb12u1) 12.2.0 Red Hat Enterprise Linux 8.10 Kernel: 5.15 Compiler: gcc gcc (GCC) 8.5.0 20210514 (Red Hat 8.5.0-22) Fedora Linux 42 Kernel: 5.15 Compiler: gcc gcc (GCC) 15.2.1 20250808 (Red Hat 15.2.1-1) Ubuntu 22.04 Kernel: 5.15 Compiler: gcc gcc (Ubuntu 11.4.0-1ubuntu1~22.04) 11.4.0 Red Hat Enterprise Linux 9.5 Kernel: 5.15 Compiler: gcc gcc (GCC) 11.5.0 20240719 (Red Hat 11.5.0-2) CentOS Stream 10 Kernel: 5.15 Compiler: gcc gcc (GCC) 14.2.1 20250110 (Red Hat 14.2.1-8) Ubuntu 24.04 Kernel: 5.15 Compiler: gcc gcc (Ubuntu 13.3.0-6ubuntu2~24.04) 13.3.0 Ubuntu 20.04 Kernel: 5.15 Compiler: gcc gcc (Ubuntu 9.4.0-1ubuntu1~20.04.2) 9.4.0 Windows Server 2022 Kernel: 10.0.20348.2031 Compiler: clang 15.0.7, gcc 14.1.0 (MinGW), and MSVC VS 19.39.33521 To view detailed results, visit: https://lab.dpdk.org/results/dashboard/tarballs/35279/ UNH-IOL DPDK Community Lab To manage your email subscriptions, visit: https://lab.dpdk.org/results/dashboard/preferences/subscriptions/