From mboxrd@z Thu Jan 1 00:00:00 1970 Return-Path: Received: from mails.dpdk.org (mails.dpdk.org [217.70.189.124]) by inbox.dpdk.org (Postfix) with ESMTP id 6E09448984 for ; Mon, 20 Oct 2025 07:43:55 +0200 (CEST) Received: from mails.dpdk.org (localhost [127.0.0.1]) by mails.dpdk.org (Postfix) with ESMTP id 68D9F400D6; Mon, 20 Oct 2025 07:43:55 +0200 (CEST) Received: from mail-yx1-f97.google.com (mail-yx1-f97.google.com [74.125.224.97]) by mails.dpdk.org (Postfix) with ESMTP id 94E894065C for ; Mon, 20 Oct 2025 07:43:41 +0200 (CEST) Received: by mail-yx1-f97.google.com with SMTP id 956f58d0204a3-6360397e8c7so4049476d50.0 for ; Sun, 19 Oct 2025 22:43:41 -0700 (PDT) DKIM-Signature: v=1; a=rsa-sha256; c=relaxed/relaxed; d=iol.unh.edu; s=unh-iol; t=1760939021; x=1761543821; darn=dpdk.org; h=cc:to:from:subject:message-id:date:from:to:cc:subject:date :message-id:reply-to; bh=fB9JLeJ9iJN4fnG4Jt4+Wr+Yduj6BFNsvFXZ/QzDMtE=; b=NwSpwF700xL3iMSXph2fvCWzGi+uwaK6ELkPzZSqd02WQATZI49gJM1Qzhy8NTCWwW O1gf9gcFvskcUXVAfyWG33fwQX7A9ZZkPTIwRlTfuUciSLtqWcItTIP6FJvwRTuhgAdH mET2vjf8bhpDN0OGvO8Sb2oima8CqlO3YgpJY= X-Google-DKIM-Signature: v=1; a=rsa-sha256; c=relaxed/relaxed; d=1e100.net; s=20230601; t=1760939021; x=1761543821; h=cc:to:from:subject:message-id:date:x-gm-message-state:from:to:cc :subject:date:message-id:reply-to; bh=fB9JLeJ9iJN4fnG4Jt4+Wr+Yduj6BFNsvFXZ/QzDMtE=; b=YAD2mjWlg7zO5pXaTQShfUZMWra9/FeEJPoJ3Y2O0woyINKIrrahDKjHwpGArzq6rQ 8RmukG1vz6llusRLpodt+HmK/zCnLstxOUUVv4vtH/Yjz63Ky3XJqd88EWNRPwVZF+6t CaAjsdyDYIoAhrAeWs3awcF7Of0QFmq93UT9XBEmzpZuowOy0pfx3y9bNS9wp0XcEr4f Frs6HV6Cge0PvepwNZsi9VNFrroo3PDYo7v2yo0xqfpoKgQ+4kdtZn05Gt8D7NWw0pdZ 1VnytO7EBKsKx+rhEJemAv1TLI1d86E3U/hUWxI2dCQWfMF4/M6FjCDk0PCEZyzlis0S ObJQ== X-Gm-Message-State: AOJu0YyZi/ls4ImvAFtDnWpO/Cm2Of8p//lnFRslDbNWjpZ1ftFbz/id e+xXZvS81EI6bFDRRqigOI/DxaLo78k4YAD2mbXimhfflF69jH1LlomcGQS7pA7/B2I2Vnrbidc KTKsdxIaSwOI8HzutOxZ4Y8IBJJThjUJJksnt X-Gm-Gg: ASbGnctuilpYZvUig/zYpFlM5/5iKRleopDZF5G6DUFl1DsbauAPzEG37Y57lSQWgbt 0GfgRoBf/C0p2p4cJCbSovHFi7EzIphVMx8nMoEo6vdzzBhmT0ISWGRjsvcOP8IJBDTiU6pyua7 gZQ1BrrDd8r2LKH4BVcbXgKcxcnJdBK9XZb1PSxQfDW/nahcRehlv6h6H0vfp/N0xvdpVBSQCn2 +lDew2iRXoRe25I7Lt0EV6tRw8zJyXz2ShJv3YuJ4hL/6oyyHBcd89rMTlwU+QaOsVbKnUKy5lN G0Qv7WrO3UiTLZdwz4HJ5oL1kEYfHsAosJlgR+GeWTF/JyPqe9e8LW/gl6u5UnIM+qHlCNi7Vbr Dvw3tWpz9eMGcC38zZy5fFtJzkw8lXZo= X-Google-Smtp-Source: AGHT+IEQGgXqZ/AreADjcPMMpeR38JULcHzdGkLZHkSK0g+yARC4Latln13CBrmpMs4w/5IaAV8a/VKEdTUR X-Received: by 2002:a05:690e:130d:b0:63e:217e:6758 with SMTP id 956f58d0204a3-63e217e693cmr6957641d50.52.1760939020927; Sun, 19 Oct 2025 22:43:40 -0700 (PDT) Received: from postal.iol.unh.edu (postal.iol.unh.edu. [132.177.123.84]) by smtp-relay.gmail.com with ESMTPS id 00721157ae682-784674e35f1sm6163957b3.29.2025.10.19.22.43.40 (version=TLS1_2 cipher=ECDHE-ECDSA-AES128-GCM-SHA256 bits=128/128); Sun, 19 Oct 2025 22:43:40 -0700 (PDT) X-Relaying-Domain: iol.unh.edu Date: Sun, 19 Oct 2025 22:43:40 -0700 (PDT) Message-ID: <68f5cc0c.050a0220.2e3992.323aSMTPIN_ADDED_MISSING@mx.google.com> Received: from [172.21.0.2] (unknown [172.18.0.240]) by postal.iol.unh.edu (Postfix) with ESMTP id 979186051830; Mon, 20 Oct 2025 01:43:40 -0400 (EDT) Subject: |SUCCESS| [GIT MASTER] b287e404643aeab5bb5db084c142789df187844e From: dpdklab@iol.unh.edu To: Test Report Cc: dpdk-test-reports@iol.unh.edu, Xueming Li , Christian Ehrhardt , Kevin Traynor , Luca Boccassi Content-Type: text/plain X-BeenThere: test-report@dpdk.org X-Mailman-Version: 2.1.29 Precedence: list List-Id: automatic DPDK test reports List-Unsubscribe: , List-Archive: List-Post: List-Help: List-Subscribe: , Errors-To: test-report-bounces@dpdk.org _Testing PASS_ Branch: tags/v24.11 b287e404643aeab5bb5db084c142789df187844e --> testing pass Upstream job id: Generic-DPDK-Compile-Meson#436119 Test environment and result as below: +-------------------------------+--------------------+-------------------+------------------+-------------------+-------------------------+----------------------+ | Environment | dpdk_meson_compile | dpdk_compile_spdk | dpdk_compile_ovs | dpdk_msvc_compile | dpdk_llvm_clang_compile | dpdk_mingw64_compile | +===============================+====================+===================+==================+===================+=========================+======================+ | Debian GNU/Linux 12 | PASS | PASS | SKIPPED | SKIPPED | SKIPPED | SKIPPED | +-------------------------------+--------------------+-------------------+------------------+-------------------+-------------------------+----------------------+ | CentOS Stream 10 | PASS | SKIPPED | SKIPPED | SKIPPED | SKIPPED | SKIPPED | +-------------------------------+--------------------+-------------------+------------------+-------------------+-------------------------+----------------------+ | CentOS Stream 9 | PASS | PASS | SKIPPED | SKIPPED | SKIPPED | SKIPPED | +-------------------------------+--------------------+-------------------+------------------+-------------------+-------------------------+----------------------+ | Fedora Linux 42 | PASS | PASS | PASS | SKIPPED | SKIPPED | SKIPPED | +-------------------------------+--------------------+-------------------+------------------+-------------------+-------------------------+----------------------+ | Red Hat Enterprise Linux 9.5 | PASS | SKIPPED | SKIPPED | SKIPPED | SKIPPED | SKIPPED | +-------------------------------+--------------------+-------------------+------------------+-------------------+-------------------------+----------------------+ | openSUSE Leap 15.6 | PASS | SKIPPED | SKIPPED | SKIPPED | SKIPPED | SKIPPED | +-------------------------------+--------------------+-------------------+------------------+-------------------+-------------------------+----------------------+ | Ubuntu 20.04 | PASS | SKIPPED | SKIPPED | SKIPPED | SKIPPED | SKIPPED | +-------------------------------+--------------------+-------------------+------------------+-------------------+-------------------------+----------------------+ | Red Hat Enterprise Linux 8.10 | PASS | SKIPPED | SKIPPED | SKIPPED | SKIPPED | SKIPPED | +-------------------------------+--------------------+-------------------+------------------+-------------------+-------------------------+----------------------+ | Ubuntu 22.04 | PASS | PASS | SKIPPED | SKIPPED | SKIPPED | SKIPPED | +-------------------------------+--------------------+-------------------+------------------+-------------------+-------------------------+----------------------+ | Ubuntu 24.04 | PASS | PASS | PASS | SKIPPED | SKIPPED | SKIPPED | +-------------------------------+--------------------+-------------------+------------------+-------------------+-------------------------+----------------------+ | Alpine Linux 3.22.0 | PASS | SKIPPED | SKIPPED | SKIPPED | SKIPPED | SKIPPED | +-------------------------------+--------------------+-------------------+------------------+-------------------+-------------------------+----------------------+ | FreeBSD 14.2 | PASS | SKIPPED | SKIPPED | SKIPPED | SKIPPED | SKIPPED | +-------------------------------+--------------------+-------------------+------------------+-------------------+-------------------------+----------------------+ | Windows Server 2022 | SKIPPED | SKIPPED | SKIPPED | PASS | PASS | PASS | +-------------------------------+--------------------+-------------------+------------------+-------------------+-------------------------+----------------------+ Debian GNU/Linux 12 Kernel: 5.15 Compiler: gcc gcc (Debian 12.2.0-14+deb12u1) 12.2.0 CentOS Stream 10 Kernel: 5.15 Compiler: gcc gcc (GCC) 14.2.1 20250110 (Red Hat 14.2.1-8) CentOS Stream 9 Kernel: 5.15 Compiler: gcc gcc (GCC) 11.5.0 20240719 (Red Hat 11.5.0-11) Fedora Linux 42 Kernel: 5.15 Compiler: gcc gcc (GCC) 15.2.1 20250808 (Red Hat 15.2.1-1) Red Hat Enterprise Linux 9.5 Kernel: 5.15 Compiler: gcc gcc (GCC) 11.5.0 20240719 (Red Hat 11.5.0-2) openSUSE Leap 15.6 Kernel: 5.15 Compiler: gcc gcc (SUSE Linux) 7.5.0 Ubuntu 20.04 Kernel: 4.19 Compiler: gcc gcc (Ubuntu 9.4.0-1ubuntu1~20.04.2) 9.4.0 Red Hat Enterprise Linux 8.10 Kernel: 5.15 Compiler: gcc gcc (GCC) 8.5.0 20210514 (Red Hat 8.5.0-22) Ubuntu 22.04 Kernel: 5.15 Compiler: gcc gcc (Ubuntu 11.4.0-1ubuntu1~22.04) 11.4.0 Ubuntu 24.04 Kernel: 5.15 Compiler: gcc gcc (Ubuntu 13.3.0-6ubuntu2~24.04) 13.3.0 Alpine Linux 3.22.0 Kernel: 5.15 Compiler: gcc gcc (Alpine 14.2.0) 14.2.0 FreeBSD 14.2 Kernel: 14.2-RELEASE Compiler: clang 18.1.6 Windows Server 2022 Kernel: 10.0.20348.2031 Compiler: clang 15.0.7, gcc 14.1.0 (MinGW), and MSVC VS 19.39.33521 To view detailed results, visit: https://lab.dpdk.org/results/dashboard/tarballs/35279/ UNH-IOL DPDK Community Lab To manage your email subscriptions, visit: https://lab.dpdk.org/results/dashboard/preferences/subscriptions/