From mboxrd@z Thu Jan 1 00:00:00 1970 Return-Path: Received: from mails.dpdk.org (mails.dpdk.org [217.70.189.124]) by inbox.dpdk.org (Postfix) with ESMTP id 9965848984 for ; Mon, 20 Oct 2025 07:45:31 +0200 (CEST) Received: from mails.dpdk.org (localhost [127.0.0.1]) by mails.dpdk.org (Postfix) with ESMTP id 91BEF400D6; Mon, 20 Oct 2025 07:45:31 +0200 (CEST) Received: from mail-pj1-f97.google.com (mail-pj1-f97.google.com [209.85.216.97]) by mails.dpdk.org (Postfix) with ESMTP id 5DFDA400D6 for ; Mon, 20 Oct 2025 07:45:30 +0200 (CEST) Received: by mail-pj1-f97.google.com with SMTP id 98e67ed59e1d1-33ba5fc3359so3969769a91.3 for ; Sun, 19 Oct 2025 22:45:30 -0700 (PDT) DKIM-Signature: v=1; a=rsa-sha256; c=relaxed/relaxed; d=iol.unh.edu; s=unh-iol; t=1760939129; x=1761543929; darn=dpdk.org; h=cc:to:from:subject:message-id:date:from:to:cc:subject:date :message-id:reply-to; bh=TPLQJ6iS67Ct3hgXQKsaPvrPiXNxXOyGp/qF3BVNkkw=; b=VDR155J2l8eoHZ9J6ZcnINiG9Uuxqk8v/NyFGIsk6GJ8M7sf3FUzlXI3oifBDcI3hK iUknbfw4pI1YfWn0bQmmZ3SD/4YCTEVIzJzmfTb9XeA7JuvA6zEm7YcE3RxN/MvBbJVn uMQSEVwtiEW7O2sluxvupOaxoBJcFb3mon14k= X-Google-DKIM-Signature: v=1; a=rsa-sha256; c=relaxed/relaxed; d=1e100.net; s=20230601; t=1760939129; x=1761543929; h=cc:to:from:subject:message-id:date:x-gm-message-state:from:to:cc :subject:date:message-id:reply-to; bh=TPLQJ6iS67Ct3hgXQKsaPvrPiXNxXOyGp/qF3BVNkkw=; b=eHtV/PU9wk/VOxG8ExqitWcSY6b8vmDOko6bIpQ7+3KWaCxwuorHHTfZrtHsXqko30 YVKK2AQDd9lF0ygLkKRBhCS7UrzlkLOlga8Gs3AFBbHL2b2iWc/GmqfgDzgA7WLISWaL XRQ2BOaYcdPvg3AUKfGNTb+xW7T2JMObP7o8OcWIBdk91+VHgJtQLHXnl83uxyLKmqSk eA3PtH38PfVlIiil1wJK1utD3EDlm58N3Gd4dkA6ltNeRFWiYpXex/I4Mm1Yt2EQok5m JUzxOJ5rpVJ44kZ9O/j6iSo3SVmk+MinHLPLhgLbxGO0bcHKYGzamy5KkOvU/dsw4dqB FOHA== X-Gm-Message-State: AOJu0YxCcSxHNz1cJ/MqMQ35eynqXO37TDigYVSUVQTJY4oD+ZGinu/2 YVkGThGQIMvcSnO8rIk/2fVl1VkPb7k3k7y29q7eK6/sP6YQ3U2mdJfO/nFgEC34VhGM2e00ryv 8UPjXx277f0SXBZ0ONuw4EKfH4CPeNsL1H3wCGMomovkH+cfe9WLX X-Gm-Gg: ASbGnctGMaDsleozoqr0IYzZN26OCa4hvdnEkiCGzkiB5SEmyFW0zCQGtFechK4I3no 0n3Usa0bK8xAmujJBXDyQ4ng3ZZxBM40G7vbKM3WxTtqjA43/PX5cTLwwJSyrU5TjtVv19iczXU 42e1yO1sElMJw1wSPAR5SJL6hTfWszzlsXjEDVLgs44brAWsmOkrqoht6E0mgBVVU5nY/HKkz5A 6AiZeDdiqsccWZP16pKeCqBpsjySkqez2NrpLZlEk6H/Xxu2fO4E0MHc4nYz9ekw2K2hlXTz746 MMgXMshLZDJ5oAIS0X47UGWz3dp+FC8N9oSXn6HxYMwXPezXnoRHE6mYO8YHZ7pfdUj93XV+/Z1 eEQspSByQ X-Google-Smtp-Source: AGHT+IHdEHbClBblaC5MxOGFarXPRdseM+dYqvEdPCRfut33iJCXK2AbhdOAnfXaPkwDpiRKcxcd0fZHkCpN X-Received: by 2002:a17:90a:ec8b:b0:330:3fb8:3885 with SMTP id 98e67ed59e1d1-33bcf8e6354mr13567128a91.18.1760939129464; Sun, 19 Oct 2025 22:45:29 -0700 (PDT) Received: from postal.iol.unh.edu (postal.iol.unh.edu. [2606:4100:3880:1234::84]) by smtp-relay.gmail.com with ESMTPS id 98e67ed59e1d1-33d5ddf39c0sm856589a91.2.2025.10.19.22.45.29 (version=TLS1_2 cipher=ECDHE-ECDSA-AES128-GCM-SHA256 bits=128/128); Sun, 19 Oct 2025 22:45:29 -0700 (PDT) X-Relaying-Domain: iol.unh.edu Date: Sun, 19 Oct 2025 22:45:29 -0700 (PDT) Message-ID: <68f5cc79.170a0220.13cf92.94eeSMTPIN_ADDED_MISSING@mx.google.com> Received: from [172.21.0.2] (unknown [172.18.0.240]) by postal.iol.unh.edu (Postfix) with ESMTP id AB9C76051830; Mon, 20 Oct 2025 01:45:28 -0400 (EDT) Subject: |SUCCESS| [GIT MASTER] 3b43ce3f4a54468e7ef65760c2fd7b4d6ee6d9fc From: dpdklab@iol.unh.edu To: Test Report Cc: dpdk-test-reports@iol.unh.edu, Xueming Li , Christian Ehrhardt , Kevin Traynor , Luca Boccassi Content-Type: text/plain X-BeenThere: test-report@dpdk.org X-Mailman-Version: 2.1.29 Precedence: list List-Id: automatic DPDK test reports List-Unsubscribe: , List-Archive: List-Post: List-Help: List-Subscribe: , Errors-To: test-report-bounces@dpdk.org _Testing PASS_ Branch: tags/v22.11 3b43ce3f4a54468e7ef65760c2fd7b4d6ee6d9fc --> testing pass Upstream job id: Generic-DPDK-Compile-Meson#436134 Test environment and result as below: +-------------------------------+--------------------+-------------------------+----------------------+ | Environment | dpdk_meson_compile | dpdk_llvm_clang_compile | dpdk_mingw64_compile | +===============================+====================+=========================+======================+ | Ubuntu 20.04 | PASS | SKIPPED | SKIPPED | +-------------------------------+--------------------+-------------------------+----------------------+ | CentOS Stream 9 | PASS | SKIPPED | SKIPPED | +-------------------------------+--------------------+-------------------------+----------------------+ | Debian GNU/Linux 12 | PASS | SKIPPED | SKIPPED | +-------------------------------+--------------------+-------------------------+----------------------+ | CentOS Stream 10 | PASS | SKIPPED | SKIPPED | +-------------------------------+--------------------+-------------------------+----------------------+ | Fedora Linux 42 | PASS | SKIPPED | SKIPPED | +-------------------------------+--------------------+-------------------------+----------------------+ | openSUSE Leap 15.6 | PASS | SKIPPED | SKIPPED | +-------------------------------+--------------------+-------------------------+----------------------+ | Red Hat Enterprise Linux 8.10 | PASS | SKIPPED | SKIPPED | +-------------------------------+--------------------+-------------------------+----------------------+ | Red Hat Enterprise Linux 9.5 | PASS | SKIPPED | SKIPPED | +-------------------------------+--------------------+-------------------------+----------------------+ | Ubuntu 24.04 | PASS | SKIPPED | SKIPPED | +-------------------------------+--------------------+-------------------------+----------------------+ | Ubuntu 22.04 | PASS | SKIPPED | SKIPPED | +-------------------------------+--------------------+-------------------------+----------------------+ | FreeBSD 14.2 | PASS | SKIPPED | SKIPPED | +-------------------------------+--------------------+-------------------------+----------------------+ | Windows Server 2022 | SKIPPED | PASS | PASS | +-------------------------------+--------------------+-------------------------+----------------------+ Ubuntu 20.04 Kernel: 5.15 Compiler: gcc gcc (Ubuntu 9.4.0-1ubuntu1~20.04.2) 9.4.0 CentOS Stream 9 Kernel: 5.15 Compiler: gcc gcc (GCC) 11.5.0 20240719 (Red Hat 11.5.0-11) Debian GNU/Linux 12 Kernel: 5.15 Compiler: gcc gcc (Debian 12.2.0-14+deb12u1) 12.2.0 CentOS Stream 10 Kernel: 5.15 Compiler: gcc gcc (GCC) 14.2.1 20250110 (Red Hat 14.2.1-8) Fedora Linux 42 Kernel: 5.15 Compiler: clang gcc (GCC) 15.2.1 20250808 (Red Hat 15.2.1-1) openSUSE Leap 15.6 Kernel: 5.15 Compiler: gcc gcc (SUSE Linux) 7.5.0 Red Hat Enterprise Linux 8.10 Kernel: 5.15 Compiler: gcc gcc (GCC) 8.5.0 20210514 (Red Hat 8.5.0-22) Red Hat Enterprise Linux 9.5 Kernel: 5.15 Compiler: gcc gcc (GCC) 11.5.0 20240719 (Red Hat 11.5.0-2) Ubuntu 24.04 Kernel: 5.15 Compiler: gcc gcc (Ubuntu 13.3.0-6ubuntu2~24.04) 13.3.0 Ubuntu 22.04 Kernel: 5.15 Compiler: gcc gcc (Ubuntu 11.4.0-1ubuntu1~22.04) 11.4.0 FreeBSD 14.2 Kernel: 14.2-RELEASE Compiler: clang 18.1.6 Windows Server 2022 Kernel: 10.0.20348.2031 Compiler: clang 15.0.7, gcc 14.1.0 (MinGW), and MSVC VS 19.39.33521 To view detailed results, visit: https://lab.dpdk.org/results/dashboard/tarballs/35277/ UNH-IOL DPDK Community Lab To manage your email subscriptions, visit: https://lab.dpdk.org/results/dashboard/preferences/subscriptions/