From mboxrd@z Thu Jan 1 00:00:00 1970 Return-Path: Received: from mails.dpdk.org (mails.dpdk.org [217.70.189.124]) by inbox.dpdk.org (Postfix) with ESMTP id 5FFCA48987 for ; Mon, 20 Oct 2025 08:36:34 +0200 (CEST) Received: from mails.dpdk.org (localhost [127.0.0.1]) by mails.dpdk.org (Postfix) with ESMTP id 366A4400D6; Mon, 20 Oct 2025 08:36:34 +0200 (CEST) Received: from mail-oa1-f98.google.com (mail-oa1-f98.google.com [209.85.160.98]) by mails.dpdk.org (Postfix) with ESMTP id 0A507400D6 for ; Mon, 20 Oct 2025 08:36:33 +0200 (CEST) Received: by mail-oa1-f98.google.com with SMTP id 586e51a60fabf-3c9789ea2efso962384fac.2 for ; Sun, 19 Oct 2025 23:36:32 -0700 (PDT) DKIM-Signature: v=1; a=rsa-sha256; c=relaxed/relaxed; d=iol.unh.edu; s=unh-iol; t=1760942192; x=1761546992; darn=dpdk.org; h=references:in-reply-to:cc:to:from:subject:message-id:date:from:to :cc:subject:date:message-id:reply-to; bh=tuql3E+mMorcshIvy/FqSWZIk7LfwPcjwM71QWnZ+to=; b=OFMpT0hCNJDXHKhwRQFRJ8Bc8u3z3JusazInxO39QmAD5QxvNYw9sc3hn7cujAm2j+ W6jUxcUVqZpJzGG3p3LK73afqBhZbv+7cpJ9LMRtLy6NbzhpoBiwTpC1E6qm1pYs9xWV 01OGa5kZmq6kXfbBe/B3iDVzsJ+LEsZnxKDgQ= X-Google-DKIM-Signature: v=1; a=rsa-sha256; c=relaxed/relaxed; d=1e100.net; s=20230601; t=1760942192; x=1761546992; h=references:in-reply-to:cc:to:from:subject:message-id:date :x-gm-message-state:from:to:cc:subject:date:message-id:reply-to; bh=tuql3E+mMorcshIvy/FqSWZIk7LfwPcjwM71QWnZ+to=; b=WXqWlQ1CFtGhldeCyF4nyk84QAmN7mlzOlFKmTZVn65H/cuJoJqrnlLOrNjzMi97FY xcn3pHEUJ2dArkToMLEx//40QDGkzh2O5mpYGq4oV0ToODq62dnkEPXVunNhjrpAv+j2 ZFfSG9aywRU8+JDHgkEYl+R6rE8gC80e4YE9aC9mZMdYC2Vz7ayBrKWrj5/e4/jjpHL+ 7Vb1wqALm2X2ZkAJYEge/puNNCuXOjmOOIzzpoxQ0GUexcDoLI2bd1pzYMQ8CmvIsggh E+/I1/UjgX9mORMMsQa9bCEmcJ8ic8PsuHHNT52KO7ZzL5FtKcvTkVv8DKkwAlhR54Fm MS4g== X-Gm-Message-State: AOJu0YyxWZyqAQ5nnyy+6pwfG0Ify3nT3PE0HQJPoTHriONMEtI3P7ut usNvwppTwnq8R1T0WWzoElfEmOoQCEmgE9d/0qfErXOYXh6o04oCnbCcXY7lBkoRhoBzuHlQpR6 OsomCNyP3EyZIDn8x5J/PXwofBZAlAN5l4J1ealt7plJHNyx5OuylAQoNOaQA X-Gm-Gg: ASbGnctEzR8Xmncx+1rCDbawDg1/3wuI3FwtOJpFM2VRr+QsJ/xcjD8iFuaIY4MVDnU 2WxB86I8ao1fzGXnki3PiZN6eWe84wopwyVIEovjyvAPKpAlDFEbix7PnuVoaJ8G7cWtmRZD1zC GNXfgqN8h4DuMnGhJWCZXLY+uDzQfg/YjH1aEKoBn+m395+TsmvY8SWbmtGblCU2EQd2oPTipDF mH1AFgiiiF44hn5pq408BTx46HgIheH11lUYL9nKUQncjlZcVIGRgtb16QCOFGQhBc5c5uTEzUe Z5HvkT4LiIM1GQ7IqFMPLeqB7UTg/GSrBl1sq3yK05M+cT33jMLL7Zwbd3X2chD0wVihuz2OwJ3 2k39Ru7iK X-Google-Smtp-Source: AGHT+IG9eFDiWF70cnu2PGuAHVdPPsFOAu78s9ggpkqkqAUim2/Lf23V/pY/+5jY5h1aIu4NC47zDQ5m5145 X-Received: by 2002:a05:6871:2902:10b0:3cd:6ca3:da05 with SMTP id 586e51a60fabf-3cd6ca3de09mr831496fac.45.1760942192165; Sun, 19 Oct 2025 23:36:32 -0700 (PDT) Received: from postal.iol.unh.edu (postal.iol.unh.edu. [2606:4100:3880:1234::84]) by smtp-relay.gmail.com with ESMTPS id 586e51a60fabf-3c9af1f1d00sm969010fac.14.2025.10.19.23.36.32 (version=TLS1_2 cipher=ECDHE-ECDSA-AES128-GCM-SHA256 bits=128/128); Sun, 19 Oct 2025 23:36:32 -0700 (PDT) X-Relaying-Domain: iol.unh.edu Date: Sun, 19 Oct 2025 23:36:32 -0700 (PDT) Message-ID: <68f5d870.050a0220.34c4ea.d423SMTPIN_ADDED_MISSING@mx.google.com> Received: from [172.21.0.3] (unknown [172.18.0.240]) by postal.iol.unh.edu (Postfix) with ESMTP id A10F86051830; Mon, 20 Oct 2025 02:36:31 -0400 (EDT) Subject: |WARNING| pw157839-157852 [PATCH] [v4,14/14] app/dma-perf: refactor From: dpdklab@iol.unh.edu To: Test Report Cc: dpdk-test-reports@iol.unh.edu In-Reply-To: <20251020041105.1590-15-fengchengwen@huawei.com> References: <20251020041105.1590-15-fengchengwen@huawei.com> Content-Type: text/plain X-BeenThere: test-report@dpdk.org X-Mailman-Version: 2.1.29 Precedence: list List-Id: automatic DPDK test reports List-Unsubscribe: , List-Archive: List-Post: List-Help: List-Subscribe: , Errors-To: test-report-bounces@dpdk.org Test-Label: iol-compile-amd64-testing Test-Status: WARNING http://dpdk.org/patch/157852 _Testing issues_ Submitter: Chengwen Feng Date: Monday, October 20 2025 04:11:05 DPDK git baseline: Repo:dpdk Branch: master CommitID:f0db0f659a1f4192a4aca7ce2a298f272aa3af8f 157839-157852 --> testing issues Upstream job id: Generic-DPDK-Compile-Meson#436154 Test environment and result as below: +-------------------------------+--------------------+-------------------------+-------------------+----------------------+-------------------+------------------+ | Environment | dpdk_meson_compile | dpdk_llvm_clang_compile | dpdk_msvc_compile | dpdk_mingw64_compile | dpdk_compile_spdk | dpdk_compile_ovs | +===============================+====================+=========================+===================+======================+===================+==================+ | Ubuntu 20.04 | PASS | SKIPPED | SKIPPED | SKIPPED | SKIPPED | SKIPPED | +-------------------------------+--------------------+-------------------------+-------------------+----------------------+-------------------+------------------+ | FreeBSD 14.2 | PASS | SKIPPED | SKIPPED | SKIPPED | SKIPPED | SKIPPED | +-------------------------------+--------------------+-------------------------+-------------------+----------------------+-------------------+------------------+ | CentOS Stream 9 | PASS | SKIPPED | SKIPPED | SKIPPED | WARN | SKIPPED | +-------------------------------+--------------------+-------------------------+-------------------+----------------------+-------------------+------------------+ | CentOS Stream 10 | PASS | SKIPPED | SKIPPED | SKIPPED | SKIPPED | SKIPPED | +-------------------------------+--------------------+-------------------------+-------------------+----------------------+-------------------+------------------+ | Debian GNU/Linux 12 | PASS | SKIPPED | SKIPPED | SKIPPED | WARN | SKIPPED | +-------------------------------+--------------------+-------------------------+-------------------+----------------------+-------------------+------------------+ | Fedora Linux 42 | PASS | SKIPPED | SKIPPED | SKIPPED | WARN | PASS | +-------------------------------+--------------------+-------------------------+-------------------+----------------------+-------------------+------------------+ | openSUSE Leap 15.6 | PASS | SKIPPED | SKIPPED | SKIPPED | SKIPPED | SKIPPED | +-------------------------------+--------------------+-------------------------+-------------------+----------------------+-------------------+------------------+ | Red Hat Enterprise Linux 8.10 | PASS | SKIPPED | SKIPPED | SKIPPED | SKIPPED | SKIPPED | +-------------------------------+--------------------+-------------------------+-------------------+----------------------+-------------------+------------------+ | Red Hat Enterprise Linux 9.5 | PASS | SKIPPED | SKIPPED | SKIPPED | SKIPPED | SKIPPED | +-------------------------------+--------------------+-------------------------+-------------------+----------------------+-------------------+------------------+ | Ubuntu 22.04 | PASS | SKIPPED | SKIPPED | SKIPPED | WARN | SKIPPED | +-------------------------------+--------------------+-------------------------+-------------------+----------------------+-------------------+------------------+ | Ubuntu 24.04 | PASS | SKIPPED | SKIPPED | SKIPPED | WARN | PASS | +-------------------------------+--------------------+-------------------------+-------------------+----------------------+-------------------+------------------+ | Alpine Linux 3.22.0 | PASS | SKIPPED | SKIPPED | SKIPPED | SKIPPED | SKIPPED | +-------------------------------+--------------------+-------------------------+-------------------+----------------------+-------------------+------------------+ | Windows Server 2022 | SKIPPED | PASS | PASS | PASS | SKIPPED | SKIPPED | +-------------------------------+--------------------+-------------------------+-------------------+----------------------+-------------------+------------------+ ==== 20 line log output for Ubuntu 24.04 (dpdk_compile_spdk): ==== --- Failed to get log output --- ==== End log output ==== Ubuntu 20.04 Kernel: 4.19 Compiler: gcc gcc (Ubuntu 9.4.0-1ubuntu1~20.04.2) 9.4.0 FreeBSD 14.2 Kernel: 14.2-RELEASE Compiler: clang 18.1.6 CentOS Stream 9 Kernel: 5.15 Compiler: gcc gcc (GCC) 11.5.0 20240719 (Red Hat 11.5.0-11) CentOS Stream 10 Kernel: 5.15 Compiler: gcc gcc (GCC) 14.2.1 20250110 (Red Hat 14.2.1-8) Debian GNU/Linux 12 Kernel: 5.15 Compiler: gcc gcc (Debian 12.2.0-14+deb12u1) 12.2.0 Fedora Linux 42 Kernel: 5.15 Compiler: clang gcc (GCC) 15.2.1 20250808 (Red Hat 15.2.1-1) openSUSE Leap 15.6 Kernel: 5.15 Compiler: gcc gcc (SUSE Linux) 7.5.0 Red Hat Enterprise Linux 8.10 Kernel: 5.15 Compiler: gcc gcc (GCC) 8.5.0 20210514 (Red Hat 8.5.0-22) Red Hat Enterprise Linux 9.5 Kernel: 5.15 Compiler: gcc gcc (GCC) 11.5.0 20240719 (Red Hat 11.5.0-2) Ubuntu 22.04 Kernel: 5.15 Compiler: gcc gcc (Ubuntu 11.4.0-1ubuntu1~22.04) 11.4.0 Ubuntu 24.04 Kernel: 5.15 Compiler: gcc gcc (Ubuntu 13.3.0-6ubuntu2~24.04) 13.3.0 Alpine Linux 3.22.0 Kernel: 5.15 Compiler: gcc gcc (Alpine 14.2.0) 14.2.0 Windows Server 2022 Kernel: 10.0.20348.2031 Compiler: clang 15.0.7, gcc 14.1.0 (MinGW), and MSVC VS 19.39.33521 To view detailed results, visit: https://lab.dpdk.org/results/dashboard/patchsets/34328/ UNH-IOL DPDK Community Lab To manage your email subscriptions, visit: https://lab.dpdk.org/results/dashboard/preferences/subscriptions/