From mboxrd@z Thu Jan 1 00:00:00 1970 Return-Path: Received: from mails.dpdk.org (mails.dpdk.org [217.70.189.124]) by inbox.dpdk.org (Postfix) with ESMTP id C228048987 for ; Mon, 20 Oct 2025 08:51:45 +0200 (CEST) Received: from mails.dpdk.org (localhost [127.0.0.1]) by mails.dpdk.org (Postfix) with ESMTP id BC702400D6; Mon, 20 Oct 2025 08:51:45 +0200 (CEST) Received: from mail-io1-f99.google.com (mail-io1-f99.google.com [209.85.166.99]) by mails.dpdk.org (Postfix) with ESMTP id 0ADAF400D6 for ; Mon, 20 Oct 2025 08:51:44 +0200 (CEST) Received: by mail-io1-f99.google.com with SMTP id ca18e2360f4ac-938bf212b72so164023739f.1 for ; Sun, 19 Oct 2025 23:51:43 -0700 (PDT) DKIM-Signature: v=1; a=rsa-sha256; c=relaxed/relaxed; d=iol.unh.edu; s=unh-iol; t=1760943103; x=1761547903; darn=dpdk.org; h=cc:to:from:subject:message-id:date:from:to:cc:subject:date :message-id:reply-to; bh=krH3d2duJ5GXTrtKDIYV6Qtb/VSDtS2xahPKbWiIW9c=; b=A7IiyzhSVXzQpvKQl6EdU7WTdQbEJyAsTNQkE154wjljmED1iD1iVhObQYBk5F+831 qzGTYM2vXVJ5nPxIkBpA/as58DxLcxSVkRvXCJt33eKOa7uq+b0HHc+udPx78IiyQFIW 0RizikdEjl724u/Ia1a65gtaCt0JKTymItxg4= X-Google-DKIM-Signature: v=1; a=rsa-sha256; c=relaxed/relaxed; d=1e100.net; s=20230601; t=1760943103; x=1761547903; h=cc:to:from:subject:message-id:date:x-gm-message-state:from:to:cc :subject:date:message-id:reply-to; bh=krH3d2duJ5GXTrtKDIYV6Qtb/VSDtS2xahPKbWiIW9c=; b=dAeDdvnkWVpjkIykfvOSgBWcjFBBmZw2VeauR35J35RgTgjcDGiIOYGkkO6c1R52/F mDGIn2qs5NuUEN2sh/F+tV27Et47mN3an54j4RmWtimIIMMKnCYwTHTxpdfGu/nTe7Nl QmSo3y3hofHw9dUik24YJGKYpykxXOpG0t/BUx5HU/qbEBzIxSzNKf1VVyFZslDscsAS bVcoibe9Z8CjYOsp/0OG6Pj2HmEtzV4X8Zo1DetYkS32cevDKDEACegrrN1BGOJtZVl9 OTzzRUrwaa6lzWZXM+gqIST+YnQ0gulNWYAWKMID3pUpngPJPUxaXfHDeQAzPWsw15U1 R8vA== X-Gm-Message-State: AOJu0YzKEJhLKdowVzwQTMPdhQj6et6zRWvdeGPbrLwq05NoSz4zGQxK X+hGGOeZZsNd+RvM7Kv5bcQVAd5RxjkyF/ttOXMjDDGSjyQgPUw8uYw8VT0fSYU6oUTrb1dN+BS vTKdvzx9LNYifaQP6dIp/HmXTaTG6zHxe0ZwdK4iuzrRNXgpqpPRm0/EqqMPY X-Gm-Gg: ASbGnctiIRBLOJx3bDJrg74BCcjxb1OYuxgo5TQ31h3PwqdBnnhL5D1UJlcHdf+wl5O o6lVQH66fAhZ67aVyNue+PM5h3kbJ/fCqcyoB7NAoBXip6FnsM2cxr0FVuiPdnXpqFRDx/SP1nU WfoqlyN3R5xFW4DhFVNcuGzAzZvg02WIwQ/dNi6biG9tdXRpZrjUeHuyfPlX/IKH9K1GlTR+WtN k4ur1Z10EKDLThpaiCPxNvKie87zIRRc9eKI1AKPd/pn1VzrZWWlbHr4LAQ2mi9JsnmG/IvKnQQ yJfnbpef2kZoh9Gwfh2QmO3AZaZX8JTRwyj5pJZexgwix22iqouqZuLYkWXMUuQMX86kijs8b2h WcWqVKzD3 X-Google-Smtp-Source: AGHT+IFcW77LHpkYbk0ZYiyeLsNpp1+61pA9Vg9v23xkBKuN9ORCEoSDkLlX2GgT0+9X2srx+SiO8i1/xLEP X-Received: by 2002:a05:6e02:148d:b0:42d:bb9d:5358 with SMTP id e9e14a558f8ab-430c527f7a5mr182409605ab.27.1760943103298; Sun, 19 Oct 2025 23:51:43 -0700 (PDT) Received: from postal.iol.unh.edu (postal.iol.unh.edu. [2606:4100:3880:1234::84]) by smtp-relay.gmail.com with ESMTPS id e9e14a558f8ab-430d0700a1csm8164255ab.3.2025.10.19.23.51.43 (version=TLS1_2 cipher=ECDHE-ECDSA-AES128-GCM-SHA256 bits=128/128); Sun, 19 Oct 2025 23:51:43 -0700 (PDT) X-Relaying-Domain: iol.unh.edu Date: Sun, 19 Oct 2025 23:51:43 -0700 (PDT) Message-ID: <68f5dbff.050a0220.26300.8e26SMTPIN_ADDED_MISSING@mx.google.com> Received: from [172.21.0.2] (unknown [172.18.0.240]) by postal.iol.unh.edu (Postfix) with ESMTP id 8F86A6051830; Mon, 20 Oct 2025 02:51:42 -0400 (EDT) Subject: |SUCCESS| [GIT MASTER] f0db0f659a1f4192a4aca7ce2a298f272aa3af8f From: dpdklab@iol.unh.edu To: Test Report Cc: dpdk-test-reports@iol.unh.edu Content-Type: text/plain X-BeenThere: test-report@dpdk.org X-Mailman-Version: 2.1.29 Precedence: list List-Id: automatic DPDK test reports List-Unsubscribe: , List-Archive: List-Post: List-Help: List-Subscribe: , Errors-To: test-report-bounces@dpdk.org _Testing PASS_ Branch: dpdk f0db0f659a1f4192a4aca7ce2a298f272aa3af8f --> testing pass Upstream job id: Generic-Unit-Test-DPDK#383388 Test environment and result as below: +------------------------------+--------------+---------------------------+------------------------------+----------------+ | Environment | lpm_autotest | cryptodev_sw_zuc_autotest | cryptodev_sw_snow3g_autotest | dpdk_unit_test | +==============================+==============+===========================+==============================+================+ | Ubuntu 20.04 | PASS | SKIPPED | SKIPPED | PASS | +------------------------------+--------------+---------------------------+------------------------------+----------------+ | Debian 12 (arm) | SKIPPED | PASS | PASS | SKIPPED | +------------------------------+--------------+---------------------------+------------------------------+----------------+ | Fedora Linux 41 | SKIPPED | SKIPPED | SKIPPED | PASS | +------------------------------+--------------+---------------------------+------------------------------+----------------+ | Fedora Linux 42 | SKIPPED | SKIPPED | SKIPPED | PASS | +------------------------------+--------------+---------------------------+------------------------------+----------------+ | Red Hat Enterprise Linux 9.5 | SKIPPED | SKIPPED | SKIPPED | PASS | +------------------------------+--------------+---------------------------+------------------------------+----------------+ | Fedora Linux 40 | SKIPPED | SKIPPED | SKIPPED | PASS | +------------------------------+--------------+---------------------------+------------------------------+----------------+ | CentOS Stream 10 | SKIPPED | SKIPPED | SKIPPED | PASS | +------------------------------+--------------+---------------------------+------------------------------+----------------+ | Ubuntu 24.04 | SKIPPED | SKIPPED | SKIPPED | PASS | +------------------------------+--------------+---------------------------+------------------------------+----------------+ | Ubuntu 22.04 | SKIPPED | SKIPPED | SKIPPED | PASS | +------------------------------+--------------+---------------------------+------------------------------+----------------+ | Debian GNU/Linux 12 | SKIPPED | SKIPPED | SKIPPED | PASS | +------------------------------+--------------+---------------------------+------------------------------+----------------+ | CentOS Stream 9 | SKIPPED | SKIPPED | SKIPPED | PASS | +------------------------------+--------------+---------------------------+------------------------------+----------------+ Ubuntu 20.04 Kernel: 5.4 Compiler: gcc gcc (Ubuntu 9.4.0-1ubuntu1~20.04.2) 9.4.0 Debian 12 (arm) Kernel: Depends on container host Compiler: gcc (Debian 12.2.0-14) 12.2.0 Fedora Linux 41 Kernel: 5.4 Compiler: clang gcc (GCC) 14.3.1 20250523 (Red Hat 14.3.1-1) Fedora Linux 42 Kernel: 5.4 Compiler: gcc gcc (GCC) 15.2.1 20250808 (Red Hat 15.2.1-1) Red Hat Enterprise Linux 9.5 Kernel: 5.4 Compiler: gcc gcc (GCC) 11.5.0 20240719 (Red Hat 11.5.0-2) Fedora Linux 40 Kernel: 5.4 Compiler: clang gcc (GCC) 14.2.1 20240912 (Red Hat 14.2.1-3) CentOS Stream 10 Kernel: 5.4 Compiler: gcc gcc (GCC) 14.2.1 20250110 (Red Hat 14.2.1-8) Ubuntu 24.04 Kernel: 5.4 Compiler: gcc gcc (Ubuntu 13.3.0-6ubuntu2~24.04) 13.3.0 Ubuntu 22.04 Kernel: 5.4 Compiler: gcc gcc (Ubuntu 11.4.0-1ubuntu1~22.04) 11.4.0 Debian GNU/Linux 12 Kernel: 5.4 Compiler: gcc gcc (Debian 12.2.0-14+deb12u1) 12.2.0 CentOS Stream 9 Kernel: 5.4 Compiler: gcc gcc (GCC) 11.5.0 20240719 (Red Hat 11.5.0-11) To view detailed results, visit: https://lab.dpdk.org/results/dashboard/tarballs/35276/ UNH-IOL DPDK Community Lab To manage your email subscriptions, visit: https://lab.dpdk.org/results/dashboard/preferences/subscriptions/