From mboxrd@z Thu Jan 1 00:00:00 1970 Return-Path: Received: from mails.dpdk.org (mails.dpdk.org [217.70.189.124]) by inbox.dpdk.org (Postfix) with ESMTP id A497548987 for ; Mon, 20 Oct 2025 08:57:08 +0200 (CEST) Received: from mails.dpdk.org (localhost [127.0.0.1]) by mails.dpdk.org (Postfix) with ESMTP id 9FC1E400D6; Mon, 20 Oct 2025 08:57:08 +0200 (CEST) Received: from mail-pg1-f226.google.com (mail-pg1-f226.google.com [209.85.215.226]) by mails.dpdk.org (Postfix) with ESMTP id 6B25E400D6 for ; Mon, 20 Oct 2025 08:57:07 +0200 (CEST) Received: by mail-pg1-f226.google.com with SMTP id 41be03b00d2f7-b550eff972eso2729149a12.3 for ; Sun, 19 Oct 2025 23:57:07 -0700 (PDT) DKIM-Signature: v=1; a=rsa-sha256; c=relaxed/relaxed; d=iol.unh.edu; s=unh-iol; t=1760943426; x=1761548226; darn=dpdk.org; h=references:in-reply-to:cc:to:from:subject:message-id:date:from:to :cc:subject:date:message-id:reply-to; bh=LdyvMZyck0Eysi407ecumltMxKaCnlgTy6k+jcDuvuA=; b=GdT4dgu5WWtWqpXonjPa0RepEp/J7q+Dkzj1tRwOWIPXyXmI82uop/54CTj60mcMzA Dbok1C6wUcYVv+4xLvliCfWclW+WbdEc+jSJk+vre60nKizwUIXNMa6LhKKlkAEWhqub Db4+E8YYalAvDuRlxKtvlFTg9tPqfk01cfl0o= X-Google-DKIM-Signature: v=1; a=rsa-sha256; c=relaxed/relaxed; d=1e100.net; s=20230601; t=1760943426; x=1761548226; h=references:in-reply-to:cc:to:from:subject:message-id:date :x-gm-message-state:from:to:cc:subject:date:message-id:reply-to; bh=LdyvMZyck0Eysi407ecumltMxKaCnlgTy6k+jcDuvuA=; b=xHrbLYSvJIrNCsRYNeffTN2K3WjLBFoIsEOH66IQP40Q+XDrVw0ki5rxIKcS7C8lF1 Yy8acOH94wSimhalDBZ+l1QhUbvm7eNmq/b18a5C9oyCAhj6wFuTwdaS6LG10FbK6PaY OwyTjmUqFzqYiZlapMZXmZL0hrRv05QQpKxfpp/BED+3woWpeiFJGpzxsIioU02pd4Qu wpODJsHhM41+oW2ZPqAsV9ZlM6rRO5Iij5awC4o7suAphycONqcaLbkJIDSgxevZwuAg GWO5pT+fjjexBQ9WV5rUJPel85ciTB/U0AsrrppRlcj6D+I5sognC0Rfj1AFHlKKMqT8 I8Jw== X-Gm-Message-State: AOJu0YyWjjdAGNvRGN42LI14SmSs4mtagrpVmTeQbVVeZY8wIwppAvay BJTNGtk1H4EHBvWH8F7VVCgVN//2Cqgo86GuTPhZ0ImrVTLAz4steSYlD75aQVwY4IHOm0JDsDr UnBAOqQhK/vdp8Ym8UqMgErxP0zpTuKFDvY+0h/zv83kAaR5FfqPTX39f3Hov X-Gm-Gg: ASbGncttntFZGxbnfzpIi5wdXn+Xfi2T4qZIspnQtH0rmroV9Vqdnre8f1Ed947WSuq HolvSgQL5mBpyWPclRsLq+eFC5+Baa8Lu613QpSkUKI+TlMQpK0Y7UtVBEfmOaW9CurSJkIgHA5 TYti2QDjL79+Btmh8VmeyuSYNZXTMoR7eEGCQpuBeauN0hHszgVurv743caVW4U622cVy2dAXnb 2fGI/N0+IgCTOCxLQ+Fdj0ahv3PBW2TQZX3Fy3Of6gnTYM2K7CHLQfM2eQk01rtceYDQfMQ2w5r Jw4o0OgJ/KvJ6nLVmDY2kEPEHZyQCtacM+muXhp/81zPsF4kzhNZfhdSvazDgSGYt2+bR7F7JPq fz0sEwddc X-Google-Smtp-Source: AGHT+IHDZY3LE6OL/oZyqYIyXFOz8mw/LS6lnQkipkT5HQAafcI2frmuVNPvPqh8mwN/w5lV3PLpPR+c/9ND X-Received: by 2002:a17:903:98c:b0:27c:a35a:1321 with SMTP id d9443c01a7336-290cb661ad5mr119140325ad.51.1760943426527; Sun, 19 Oct 2025 23:57:06 -0700 (PDT) Received: from postal.iol.unh.edu (postal.iol.unh.edu. [2606:4100:3880:1234::84]) by smtp-relay.gmail.com with ESMTPS id d9443c01a7336-29246feb42dsm9731035ad.9.2025.10.19.23.57.06 (version=TLS1_2 cipher=ECDHE-ECDSA-AES128-GCM-SHA256 bits=128/128); Sun, 19 Oct 2025 23:57:06 -0700 (PDT) X-Relaying-Domain: iol.unh.edu Date: Sun, 19 Oct 2025 23:57:06 -0700 (PDT) Message-ID: <68f5dd42.170a0220.7ccb4.d479SMTPIN_ADDED_MISSING@mx.google.com> Received: from [172.21.0.2] (unknown [172.18.0.240]) by postal.iol.unh.edu (Postfix) with ESMTP id CAA1B6051830; Mon, 20 Oct 2025 02:57:05 -0400 (EDT) Subject: |SUCCESS| pw157839-157852 [PATCH] [v4,14/14] app/dma-perf: refactor From: dpdklab@iol.unh.edu To: Test Report Cc: dpdk-test-reports@iol.unh.edu In-Reply-To: <20251020041105.1590-15-fengchengwen@huawei.com> References: <20251020041105.1590-15-fengchengwen@huawei.com> Content-Type: text/plain X-BeenThere: test-report@dpdk.org X-Mailman-Version: 2.1.29 Precedence: list List-Id: automatic DPDK test reports List-Unsubscribe: , List-Archive: List-Post: List-Help: List-Subscribe: , Errors-To: test-report-bounces@dpdk.org Test-Label: iol-unit-amd64-testing Test-Status: SUCCESS http://dpdk.org/patch/157852 _Testing PASS_ Submitter: fengchengwen Date: Monday, October 20 2025 04:11:05 DPDK git baseline: Repo:dpdk Branch: master CommitID:f0db0f659a1f4192a4aca7ce2a298f272aa3af8f 157839-157852 --> testing pass Upstream job id: Generic-Unit-Test-DPDK#383504 Test environment and result as below: +-------------------------------+----------------+ | Environment | dpdk_unit_test | +===============================+================+ | Fedora Linux 40 | PASS | +-------------------------------+----------------+ | CentOS Stream 9 | PASS | +-------------------------------+----------------+ | CentOS Stream 10 | PASS | +-------------------------------+----------------+ | Fedora Linux 41 | PASS | +-------------------------------+----------------+ | Debian GNU/Linux 12 | PASS | +-------------------------------+----------------+ | Fedora Linux 42 | PASS | +-------------------------------+----------------+ | Red Hat Enterprise Linux 9.5 | PASS | +-------------------------------+----------------+ | Ubuntu 22.04 | PASS | +-------------------------------+----------------+ | Red Hat Enterprise Linux 8.10 | PASS | +-------------------------------+----------------+ | Ubuntu 24.04 | PASS | +-------------------------------+----------------+ | Ubuntu 20.04 | PASS | +-------------------------------+----------------+ | Windows Server 2022 | PASS | +-------------------------------+----------------+ Fedora Linux 40 Kernel: 5.15 Compiler: gcc gcc (GCC) 14.2.1 20240912 (Red Hat 14.2.1-3) CentOS Stream 9 Kernel: 5.15 Compiler: gcc gcc (GCC) 11.5.0 20240719 (Red Hat 11.5.0-11) CentOS Stream 10 Kernel: 5.15 Compiler: gcc gcc (GCC) 14.2.1 20250110 (Red Hat 14.2.1-8) Fedora Linux 41 Kernel: 5.15 Compiler: clang gcc (GCC) 14.3.1 20250523 (Red Hat 14.3.1-1) Debian GNU/Linux 12 Kernel: 5.15 Compiler: gcc gcc (Debian 12.2.0-14+deb12u1) 12.2.0 Fedora Linux 42 Kernel: 5.15 Compiler: gcc gcc (GCC) 15.2.1 20250808 (Red Hat 15.2.1-1) Red Hat Enterprise Linux 9.5 Kernel: 5.15 Compiler: gcc gcc (GCC) 11.5.0 20240719 (Red Hat 11.5.0-2) Ubuntu 22.04 Kernel: 5.15 Compiler: gcc gcc (Ubuntu 11.4.0-1ubuntu1~22.04) 11.4.0 Red Hat Enterprise Linux 8.10 Kernel: 5.15 Compiler: gcc gcc (GCC) 8.5.0 20210514 (Red Hat 8.5.0-22) Ubuntu 24.04 Kernel: 5.15 Compiler: gcc gcc (Ubuntu 13.3.0-6ubuntu2~24.04) 13.3.0 Ubuntu 20.04 Kernel: 5.15 Compiler: gcc gcc (Ubuntu 9.4.0-1ubuntu1~20.04.2) 9.4.0 Windows Server 2022 Kernel: 10.0.20348.2031 Compiler: clang 15.0.7, gcc 14.1.0 (MinGW), and MSVC VS 19.39.33521 To view detailed results, visit: https://lab.dpdk.org/results/dashboard/patchsets/34328/ UNH-IOL DPDK Community Lab To manage your email subscriptions, visit: https://lab.dpdk.org/results/dashboard/preferences/subscriptions/