From mboxrd@z Thu Jan 1 00:00:00 1970 Return-Path: Received: from mails.dpdk.org (mails.dpdk.org [217.70.189.124]) by inbox.dpdk.org (Postfix) with ESMTP id 0D23A48987 for ; Mon, 20 Oct 2025 08:59:58 +0200 (CEST) Received: from mails.dpdk.org (localhost [127.0.0.1]) by mails.dpdk.org (Postfix) with ESMTP id DF920400D6; Mon, 20 Oct 2025 08:59:57 +0200 (CEST) Received: from mail-qv1-f97.google.com (mail-qv1-f97.google.com [209.85.219.97]) by mails.dpdk.org (Postfix) with ESMTP id ADA28400D6 for ; Mon, 20 Oct 2025 08:59:56 +0200 (CEST) Received: by mail-qv1-f97.google.com with SMTP id 6a1803df08f44-87c167c0389so65472546d6.3 for ; Sun, 19 Oct 2025 23:59:56 -0700 (PDT) DKIM-Signature: v=1; a=rsa-sha256; c=relaxed/relaxed; d=iol.unh.edu; s=unh-iol; t=1760943596; x=1761548396; darn=dpdk.org; h=cc:to:from:subject:message-id:date:from:to:cc:subject:date :message-id:reply-to; bh=9spHPJ1nKiQDknyy8zM6R8kxg1xGg+ajtW02b6TVsko=; b=hS6qs+nl0bMZvluUVtFnZ8j0BCP5hUxKtk8i12TSnwcB64g17cWn7iO8+xDX43k4RR UHVpkMuMj+HMfYZTVjI96B/BclpQ03Hr20Y4NTOg+lwAGxr8JfkqxiFGbmXKIcWEwnEg E57hcUG8U57Ty+aDGqFoDdzT/Fj1vfopbpFK0= X-Google-DKIM-Signature: v=1; a=rsa-sha256; c=relaxed/relaxed; d=1e100.net; s=20230601; t=1760943596; x=1761548396; h=cc:to:from:subject:message-id:date:x-gm-message-state:from:to:cc :subject:date:message-id:reply-to; bh=9spHPJ1nKiQDknyy8zM6R8kxg1xGg+ajtW02b6TVsko=; b=DBoAxyRKYGpuqrPH9b1+cv46EDqXmhqkpPfwNPuG1Ix/lJ1LcLPxZWGy2AOmKodGc/ ABE0AWXItixM3FRuxnLqsF9ppPoCUN6pybQ7h0u/W/q1SXYJ9KpFCjXESc6TH+9KZ19d JYOgz9EXtOs1QEHx9KO4aBr0jSwMpe2q/wRSSYIxlkklP8hri3CCinai4TTj64RLpUNB P2A4v17q1GJJHi8W0grmgCEpGh/7QNA9J0nfRXxxuukdvunc9n51kqj4K5efY1owy2Hs 9uF2OQy91x5UUZs2SkQIyokTY547R42pDD4Iyzkm9gXbiUDXiyF3VlvTJYv1c2z2dbQI 3Rng== X-Gm-Message-State: AOJu0YzQJnfpjXi/+ppZUt91V63Wy8B98XMIIOla8kztBhFs10vCxdoL NWvVGJZ6wyGvbA5FEVVjLZOQDOr1EZm+8T5+CvKWjyBhkFof50+UGZ0qADDUZEzyVJvLOLk2gBe c5NYQLGmOFqoreciwM6ptOym9a2KqgLRGitMOfMCGaNqwJYsDbZt9nWtPZUXq X-Gm-Gg: ASbGncsryVmF9jWZSFBSD2J5LmZrocqaX/3roUd028swKpimPW2MxkARc2LrJ0NmTow lKX5Iy42JnRyYDIM4mx22DNx2KEJxNQd1obWIeeJbRs1/dfrvBNm5OH9DcLW3ZFqRhVMyef9prq QpX/1aRqGwEcSCkntyy2sHklKksRBNSPPCwWPrWyNbbHQ1ReRKfaFTz+hVO140aeuT5ZvFNYsaH tD7yoLKchy18m8VmgZ+Z7coKedyCYDoK+Wyezxd7I285hXANeaJAqgvjTI0QO6fXC3b3IZzSJcy SSBu3PdXlCoZVAIIB+ZgnMK4OcIdwyLulseU5+wjHUq/ZW+6RQ244X+YdWald2/peH9LmPEJYpc RMxyIfl3x X-Google-Smtp-Source: AGHT+IFeufN/+koE35mQ3oN9ZDPTVeriO88mdO7ol1jaOHuRCJpY4dDpcSqHNgEnxK+hZ4sJMs8F9ow4yCqC X-Received: by 2002:a05:6214:258c:b0:87b:f43b:89bf with SMTP id 6a1803df08f44-87c20653fd2mr139066406d6.65.1760943595979; Sun, 19 Oct 2025 23:59:55 -0700 (PDT) Received: from postal.iol.unh.edu (postal.iol.unh.edu. [2606:4100:3880:1234::84]) by smtp-relay.gmail.com with ESMTPS id 6a1803df08f44-87ce9f5c47asm9877116d6.3.2025.10.19.23.59.55 (version=TLS1_2 cipher=ECDHE-ECDSA-AES128-GCM-SHA256 bits=128/128); Sun, 19 Oct 2025 23:59:55 -0700 (PDT) X-Relaying-Domain: iol.unh.edu Date: Sun, 19 Oct 2025 23:59:55 -0700 (PDT) Message-ID: <68f5ddeb.050a0220.1a2fd1.d918SMTPIN_ADDED_MISSING@mx.google.com> Received: from [172.21.0.3] (unknown [172.18.0.240]) by postal.iol.unh.edu (Postfix) with ESMTP id 9794B6051830; Mon, 20 Oct 2025 02:59:55 -0400 (EDT) Subject: |SUCCESS| [GIT MASTER] c3babb4bb7ce96122a966dad7b3da06a379d45f2 From: dpdklab@iol.unh.edu To: Test Report Cc: dpdk-test-reports@iol.unh.edu, Stephen Hemminger Content-Type: text/plain X-BeenThere: test-report@dpdk.org X-Mailman-Version: 2.1.29 Precedence: list List-Id: automatic DPDK test reports List-Unsubscribe: , List-Archive: List-Post: List-Help: List-Subscribe: , Errors-To: test-report-bounces@dpdk.org _Testing PASS_ Branch: dpdk-next-net c3babb4bb7ce96122a966dad7b3da06a379d45f2 --> testing pass Upstream job id: Windows-Compile-DPDK-Native#31768 Test environment and result as below: +---------------------+--------------------+-------------------------+-------------------+----------------------+ | Environment | dpdk_meson_compile | dpdk_llvm_clang_compile | dpdk_msvc_compile | dpdk_mingw64_compile | +=====================+====================+=========================+===================+======================+ | Ubuntu 20.04 | PASS | SKIPPED | SKIPPED | SKIPPED | +---------------------+--------------------+-------------------------+-------------------+----------------------+ | FreeBSD 14.2 | PASS | SKIPPED | SKIPPED | SKIPPED | +---------------------+--------------------+-------------------------+-------------------+----------------------+ | Windows Server 2022 | SKIPPED | PASS | PASS | PASS | +---------------------+--------------------+-------------------------+-------------------+----------------------+ Ubuntu 20.04 Kernel: 4.19 Compiler: gcc gcc (Ubuntu 9.4.0-1ubuntu1~20.04.2) 9.4.0 FreeBSD 14.2 Kernel: 14.2-RELEASE Compiler: clang 18.1.6 Windows Server 2022 Kernel: 10.0.20348.2031 Compiler: clang 15.0.7, gcc 14.1.0 (MinGW), and MSVC VS 19.39.33521 To view detailed results, visit: https://lab.dpdk.org/results/dashboard/tarballs/35281/ UNH-IOL DPDK Community Lab To manage your email subscriptions, visit: https://lab.dpdk.org/results/dashboard/preferences/subscriptions/