From mboxrd@z Thu Jan 1 00:00:00 1970 Return-Path: Received: from mails.dpdk.org (mails.dpdk.org [217.70.189.124]) by inbox.dpdk.org (Postfix) with ESMTP id 24FC548987 for ; Mon, 20 Oct 2025 09:22:31 +0200 (CEST) Received: from mails.dpdk.org (localhost [127.0.0.1]) by mails.dpdk.org (Postfix) with ESMTP id 0E881400D6; Mon, 20 Oct 2025 09:22:31 +0200 (CEST) Received: from mail-ot1-f100.google.com (mail-ot1-f100.google.com [209.85.210.100]) by mails.dpdk.org (Postfix) with ESMTP id 6A356400D6 for ; Mon, 20 Oct 2025 09:22:29 +0200 (CEST) Received: by mail-ot1-f100.google.com with SMTP id 46e09a7af769-7c284d4867eso827713a34.3 for ; Mon, 20 Oct 2025 00:22:29 -0700 (PDT) DKIM-Signature: v=1; a=rsa-sha256; c=relaxed/relaxed; d=iol.unh.edu; s=unh-iol; t=1760944948; x=1761549748; darn=dpdk.org; h=cc:to:from:subject:message-id:date:from:to:cc:subject:date :message-id:reply-to; bh=ialUoXCuvJTBZDSVauD1cSnvUD4BsLeNyQRtk+wHS4s=; b=WwLEFOxuptaFrvLOaE42PIvXjVBPKY7FNsQl5wQqAG7JGGhtnM8IHt+lAwZ+piK6bS 0fpHFHp2fvZfKNgmy2OnLEWxRF7l9pT1SYZXfWkW2y0CXeyGoR45R3uY/ctV7gyP2KUq OJb6kBqSg0TASfxRQ+KGcnYvyj88ThGEGO/rA= X-Google-DKIM-Signature: v=1; a=rsa-sha256; c=relaxed/relaxed; d=1e100.net; s=20230601; t=1760944948; x=1761549748; h=cc:to:from:subject:message-id:date:x-gm-message-state:from:to:cc :subject:date:message-id:reply-to; bh=ialUoXCuvJTBZDSVauD1cSnvUD4BsLeNyQRtk+wHS4s=; b=F2T56czoMwaIA2AUjjbg/AsA4mHkAJ/X9dIti1gc8xQzQRLjhuewVd8LCwANr/5gsc 2cTA8CPjoMAhYHpUSzZbb+LSa41Obg9ILQp7RAaIKNrHGM636qnoDhBmK/9O3RaZUaou bvVG7RaiAXUYoRxI4LwOlUTtG9XnKMYHt8x9pG62yBDzPeh/hApGxjKzXqS8nygi1ZWR Pplq/a3RX0L9QwGq7cn0jd1+Esx8rwGjDGcKoNl3BLrtzWBsQbY3+Vn2pVrwNwc9Ztz1 9vRxsqSqO3HuoR/7lnFkq81ma/V1OxB+lpfgQv08sTYZXRaQuja+/dXrijUoByRnHAit rJRA== X-Gm-Message-State: AOJu0Yy/gp4bIjzfjP2oGxKV8+9MhxtUlpXmGM/VkHAyOQhxcRqpZRbw 1leAEoVqLvlZEpKL5c7BiMgnkNAG0c9shbTjsGk4dyrC5HKBqoWkySnjXAuwjYxM5oXkQxiE3GZ TwZHd9h8xD+lcmrtcIEk6rzkL4gKr/YlRjd6KmKJz4NF5 X-Gm-Gg: ASbGnct9B+Hf7CEhNFiuf92tJzVmYaAPRCjYWU1wvwVR8chQqmVsEMgIbb6GZZyY4+Q ocLFeuzG6YegcSKen2eGQe98rfvkYAx60/KdL4Lh91RO1IhE2nfx1IXUoPpyXeQdGxsQVn4lo4y jZ5/tVbdXYlkVokR6VqpF8Ow6DarEggPXpV4oDIffz4JrjH0+bguVzUOtT4aKru6An1qiTu7ENd EzKP+mcw9EfwxUu45LHtMZ6alLuIG8pREsbtpjNPcTCl7IMLjmP3hUGGQlKrbw2bHGezdB1Lk7e B+H8QE1Z1xizBlQ5BobbiYoKBZkr7qr/S2H/BSA27farKbKPytpWIogMCrW+4maduhrTi5Ing/g BEAV6vXWHAD+ZCASS21d+7j1BDBfnE6I= X-Google-Smtp-Source: AGHT+IFmYBkXPc+C5uHpvTJSXx/xufzqUIJdXRnJLRBh8mnaiw/ktuqT8STOBlNE4QGWQZXOAfJsQg76gysa X-Received: by 2002:a05:6830:2b2a:b0:79b:7702:d3ab with SMTP id 46e09a7af769-7c27c9f36fdmr6068925a34.5.1760944948456; Mon, 20 Oct 2025 00:22:28 -0700 (PDT) Received: from postal.iol.unh.edu (postal.iol.unh.edu. [132.177.123.84]) by smtp-relay.gmail.com with ESMTPS id 46e09a7af769-7c28882c6bcsm1128621a34.4.2025.10.20.00.22.28 (version=TLS1_2 cipher=ECDHE-ECDSA-AES128-GCM-SHA256 bits=128/128); Mon, 20 Oct 2025 00:22:28 -0700 (PDT) X-Relaying-Domain: iol.unh.edu Date: Mon, 20 Oct 2025 00:22:28 -0700 (PDT) Message-ID: <68f5e334.050a0220.1169e9.176cSMTPIN_ADDED_MISSING@mx.google.com> Received: from [172.21.0.2] (unknown [172.18.0.240]) by postal.iol.unh.edu (Postfix) with ESMTP id A39B46051830; Mon, 20 Oct 2025 03:22:27 -0400 (EDT) Subject: |SUCCESS| [GIT MASTER] c3babb4bb7ce96122a966dad7b3da06a379d45f2 From: dpdklab@iol.unh.edu To: Test Report Cc: dpdk-test-reports@iol.unh.edu, Stephen Hemminger Content-Type: text/plain X-BeenThere: test-report@dpdk.org X-Mailman-Version: 2.1.29 Precedence: list List-Id: automatic DPDK test reports List-Unsubscribe: , List-Archive: List-Post: List-Help: List-Subscribe: , Errors-To: test-report-bounces@dpdk.org _Testing PASS_ Branch: dpdk-next-net c3babb4bb7ce96122a966dad7b3da06a379d45f2 --> testing pass Upstream job id: Generic-Unit-Test-DPDK#383534 Test environment and result as below: +-------------------------------+----------------+ | Environment | dpdk_unit_test | +===============================+================+ | CentOS Stream 9 | PASS | +-------------------------------+----------------+ | Debian GNU/Linux 12 | PASS | +-------------------------------+----------------+ | Fedora Linux 40 | PASS | +-------------------------------+----------------+ | Fedora Linux 41 | PASS | +-------------------------------+----------------+ | Red Hat Enterprise Linux 8.10 | PASS | +-------------------------------+----------------+ | Ubuntu 24.04 | PASS | +-------------------------------+----------------+ | CentOS Stream 10 | PASS | +-------------------------------+----------------+ | Fedora Linux 42 | PASS | +-------------------------------+----------------+ | Red Hat Enterprise Linux 9.5 | PASS | +-------------------------------+----------------+ | Windows Server 2022 | PASS | +-------------------------------+----------------+ | Ubuntu 20.04 | PASS | +-------------------------------+----------------+ | Ubuntu 22.04 | PASS | +-------------------------------+----------------+ CentOS Stream 9 Kernel: 5.15 Compiler: gcc gcc (GCC) 11.5.0 20240719 (Red Hat 11.5.0-11) Debian GNU/Linux 12 Kernel: 5.15 Compiler: gcc gcc (Debian 12.2.0-14+deb12u1) 12.2.0 Fedora Linux 40 Kernel: 5.15 Compiler: clang gcc (GCC) 14.2.1 20240912 (Red Hat 14.2.1-3) Fedora Linux 41 Kernel: 5.15 Compiler: clang gcc (GCC) 14.3.1 20250523 (Red Hat 14.3.1-1) Red Hat Enterprise Linux 8.10 Kernel: 5.15 Compiler: gcc gcc (GCC) 8.5.0 20210514 (Red Hat 8.5.0-22) Ubuntu 24.04 Kernel: 5.15 Compiler: gcc gcc (Ubuntu 13.3.0-6ubuntu2~24.04) 13.3.0 CentOS Stream 10 Kernel: 5.15 Compiler: gcc gcc (GCC) 14.2.1 20250110 (Red Hat 14.2.1-8) Fedora Linux 42 Kernel: 5.15 Compiler: gcc gcc (GCC) 15.2.1 20250808 (Red Hat 15.2.1-1) Red Hat Enterprise Linux 9.5 Kernel: 5.15 Compiler: gcc gcc (GCC) 11.5.0 20240719 (Red Hat 11.5.0-2) Windows Server 2022 Kernel: 10.0.20348.2031 Compiler: clang 15.0.7, gcc 14.1.0 (MinGW), and MSVC VS 19.39.33521 Ubuntu 20.04 Kernel: 5.15 Compiler: gcc gcc (Ubuntu 9.4.0-1ubuntu1~20.04.2) 9.4.0 Ubuntu 22.04 Kernel: 5.15 Compiler: gcc gcc (Ubuntu 11.4.0-1ubuntu1~22.04) 11.4.0 To view detailed results, visit: https://lab.dpdk.org/results/dashboard/tarballs/35281/ UNH-IOL DPDK Community Lab To manage your email subscriptions, visit: https://lab.dpdk.org/results/dashboard/preferences/subscriptions/