From mboxrd@z Thu Jan 1 00:00:00 1970 Return-Path: Received: from mails.dpdk.org (mails.dpdk.org [217.70.189.124]) by inbox.dpdk.org (Postfix) with ESMTP id 15D2B48989 for ; Mon, 20 Oct 2025 11:08:16 +0200 (CEST) Received: from mails.dpdk.org (localhost [127.0.0.1]) by mails.dpdk.org (Postfix) with ESMTP id DC8C5400D6; Mon, 20 Oct 2025 11:08:15 +0200 (CEST) Received: from mail-yx1-f97.google.com (mail-yx1-f97.google.com [74.125.224.97]) by mails.dpdk.org (Postfix) with ESMTP id 3BA21400D6 for ; Mon, 20 Oct 2025 11:08:14 +0200 (CEST) Received: by mail-yx1-f97.google.com with SMTP id 956f58d0204a3-63bcfcb800aso4440803d50.0 for ; Mon, 20 Oct 2025 02:08:14 -0700 (PDT) DKIM-Signature: v=1; a=rsa-sha256; c=relaxed/relaxed; d=iol.unh.edu; s=unh-iol; t=1760951293; x=1761556093; darn=dpdk.org; h=cc:to:from:subject:message-id:date:from:to:cc:subject:date :message-id:reply-to; bh=fyS7VIgVIu2nWn9SxxAdClJN/VK0Ib5gYZnZ3k3TrtA=; b=C/nGsnPGlgxOdNO4i0F0Mjd1FA4iAi60coZzS0KnNiGtEZZkj/jKJGC+ih3IXDO5QF CouzdX8zzqu20zetBcQUOgcKbZQSLnwfnSHn9DG8h2Tc3GIEqIzeJRtYknD4ZD+UcE9F mgaIQ3nCp2SHJThzEt+qKQ6Bw9NziRT0jXzuo= X-Google-DKIM-Signature: v=1; a=rsa-sha256; c=relaxed/relaxed; d=1e100.net; s=20230601; t=1760951293; x=1761556093; h=cc:to:from:subject:message-id:date:x-gm-message-state:from:to:cc :subject:date:message-id:reply-to; bh=fyS7VIgVIu2nWn9SxxAdClJN/VK0Ib5gYZnZ3k3TrtA=; b=iDVrsEDX+LUuiKfY9sXoOXGANuMAv+siAHq0lp36YXvCk8XOdaw31RD163PsWLsXwW IfkUAaFU6nk1Z0QMEaPqSTX2704bsxulKaQOLuMAuEu3Xu+7/lzSmTL9X/OKi8mCE6/e jiA5v+le2YD/687d1WVzsNzC2Zzaxu4scCEfaOiB0ZDKMVQtKqvpTQViYxq3IDiNuIDG d0veRVslIkCQjck00DLEYCHC4CQymoyFv3a2BsWTsJLDYpmQlJgUOrLUawGqCsyFHpxW E+cSh6fGPO/Y7lQv/wDLL1q7gacuLoS9DP8e4LyIP8XaJ5VST3KbzSYCl3DkGpMS/XJE mG2A== X-Gm-Message-State: AOJu0YwRSC2LBFHt/LE3emNVTuuxgGaL0yqm/PkhoKudNa7tMOFs3JrO aTgurTsF4aA1OCIuhZ4QxEnrkIzuo1BzL6DMIkQiB2DOGC0piDwsa5nOXLu7tGPswEHsWqRvcd8 8E8GSmkhjn1sBNbYMsSXSdp2pfddevV/tZn0TcSIsHeOyPdVUJX3LbxmZoUtt X-Gm-Gg: ASbGncuVvt04SEJa/NwlwK6+Ge9qGWsqriZR+esJc+6PcsWVwGFyFAVxR2DgzVBYV9P vAlHJ5lxxERhQwYr1N3J/YwKdZDgH+5vIrySxgRkg8Kjbdtb6CPRrOT8qVvp1zm0Y+qn77DsP7F HEfBX4sLdSNpw+IOGVLYCUW82wZo78kK5KGjHoe6BD1f2Qc9p9utcfXYKJOSTtWkiDE3WnnZyop pdPNeiAKyBOi++iR5CIwrgFhut2IjJ50UFhlv6IR+7Ftg6Sk7Zz17XSqBLtBDDWkW40G/Yf6Yax UL9muNuoKczO0UkubI8oGjCTx8J86oMRO3dRlW3+df0j0gW19jJpx//A8TSjr3BCI9BcyiKGPeL 2O8CSTQLN X-Google-Smtp-Source: AGHT+IED/qsKjsTRuZBZlF4qmJTtpgEvAujMaqtqGf176Pd8iJZdJ35hYx+0E1fJU9lU5EGknlpJfpWYiMl0 X-Received: by 2002:a53:ab4f:0:b0:63c:f5a7:402 with SMTP id 956f58d0204a3-63e161dfbb4mr7323970d50.54.1760951293421; Mon, 20 Oct 2025 02:08:13 -0700 (PDT) Received: from postal.iol.unh.edu (postal.iol.unh.edu. [2606:4100:3880:1234::84]) by smtp-relay.gmail.com with ESMTPS id 956f58d0204a3-63e2669f01fsm623791d50.7.2025.10.20.02.08.13 (version=TLS1_2 cipher=ECDHE-ECDSA-AES128-GCM-SHA256 bits=128/128); Mon, 20 Oct 2025 02:08:13 -0700 (PDT) X-Relaying-Domain: iol.unh.edu Date: Mon, 20 Oct 2025 02:08:13 -0700 (PDT) Message-ID: <68f5fbfd.530a0220.226a54.29faSMTPIN_ADDED_MISSING@mx.google.com> Received: from [172.21.0.3] (unknown [172.18.0.240]) by postal.iol.unh.edu (Postfix) with ESMTP id 198956051830; Mon, 20 Oct 2025 05:08:13 -0400 (EDT) Subject: |WARNING| [GIT MASTER] c3babb4bb7ce96122a966dad7b3da06a379d45f2 From: dpdklab@iol.unh.edu To: Test Report Cc: dpdk-test-reports@iol.unh.edu, Stephen Hemminger Content-Type: text/plain X-BeenThere: test-report@dpdk.org X-Mailman-Version: 2.1.29 Precedence: list List-Id: automatic DPDK test reports List-Unsubscribe: , List-Archive: List-Post: List-Help: List-Subscribe: , Errors-To: test-report-bounces@dpdk.org _Testing issues_ Branch: dpdk-next-net c3babb4bb7ce96122a966dad7b3da06a379d45f2 --> testing issues Upstream job id: Generic-DPDK-Compile-Meson#436194 Test environment and result as below: +-------------------------------+--------------------+-------------------------+-------------------+----------------------+-------------------+------------------+ | Environment | dpdk_meson_compile | dpdk_llvm_clang_compile | dpdk_msvc_compile | dpdk_mingw64_compile | dpdk_compile_spdk | dpdk_compile_ovs | +===============================+====================+=========================+===================+======================+===================+==================+ | Ubuntu 20.04 | PASS | SKIPPED | SKIPPED | SKIPPED | SKIPPED | SKIPPED | +-------------------------------+--------------------+-------------------------+-------------------+----------------------+-------------------+------------------+ | FreeBSD 14.2 | PASS | SKIPPED | SKIPPED | SKIPPED | SKIPPED | SKIPPED | +-------------------------------+--------------------+-------------------------+-------------------+----------------------+-------------------+------------------+ | CentOS Stream 9 | PEND | SKIPPED | SKIPPED | SKIPPED | PEND | SKIPPED | +-------------------------------+--------------------+-------------------------+-------------------+----------------------+-------------------+------------------+ | CentOS Stream 10 | PASS | SKIPPED | SKIPPED | SKIPPED | SKIPPED | SKIPPED | +-------------------------------+--------------------+-------------------------+-------------------+----------------------+-------------------+------------------+ | Debian GNU/Linux 12 | PEND | SKIPPED | SKIPPED | SKIPPED | PEND | SKIPPED | +-------------------------------+--------------------+-------------------------+-------------------+----------------------+-------------------+------------------+ | Fedora Linux 42 | PEND | SKIPPED | SKIPPED | SKIPPED | PEND | PEND | +-------------------------------+--------------------+-------------------------+-------------------+----------------------+-------------------+------------------+ | openSUSE Leap 15.6 | PASS | SKIPPED | SKIPPED | SKIPPED | SKIPPED | SKIPPED | +-------------------------------+--------------------+-------------------------+-------------------+----------------------+-------------------+------------------+ | Red Hat Enterprise Linux 8.10 | PASS | SKIPPED | SKIPPED | SKIPPED | SKIPPED | SKIPPED | +-------------------------------+--------------------+-------------------------+-------------------+----------------------+-------------------+------------------+ | Red Hat Enterprise Linux 9.5 | PASS | SKIPPED | SKIPPED | SKIPPED | SKIPPED | SKIPPED | +-------------------------------+--------------------+-------------------------+-------------------+----------------------+-------------------+------------------+ | Ubuntu 22.04 | PASS | SKIPPED | SKIPPED | SKIPPED | WARN | SKIPPED | +-------------------------------+--------------------+-------------------------+-------------------+----------------------+-------------------+------------------+ | Ubuntu 24.04 | PEND | SKIPPED | SKIPPED | SKIPPED | PEND | PEND | +-------------------------------+--------------------+-------------------------+-------------------+----------------------+-------------------+------------------+ | Alpine Linux 3.22.0 | PEND | SKIPPED | SKIPPED | SKIPPED | SKIPPED | SKIPPED | +-------------------------------+--------------------+-------------------------+-------------------+----------------------+-------------------+------------------+ | Windows Server 2022 | SKIPPED | PASS | PASS | PASS | SKIPPED | SKIPPED | +-------------------------------+--------------------+-------------------------+-------------------+----------------------+-------------------+------------------+ ==== 20 line log output for Ubuntu 22.04 (dpdk_compile_spdk): ==== --- Failed to get log output --- ==== End log output ==== Ubuntu 20.04 Kernel: 4.19 Compiler: gcc gcc (Ubuntu 9.4.0-1ubuntu1~20.04.2) 9.4.0 FreeBSD 14.2 Kernel: 14.2-RELEASE Compiler: clang 18.1.6 CentOS Stream 9 Kernel: 5.15 Compiler: gcc gcc (GCC) 11.5.0 20240719 (Red Hat 11.5.0-11) CentOS Stream 10 Kernel: 5.15 Compiler: gcc gcc (GCC) 14.2.1 20250110 (Red Hat 14.2.1-8) Debian GNU/Linux 12 Kernel: 5.15 Compiler: gcc gcc (Debian 12.2.0-14+deb12u1) 12.2.0 Fedora Linux 42 Kernel: 5.15 Compiler: clang gcc (GCC) 15.2.1 20250808 (Red Hat 15.2.1-1) openSUSE Leap 15.6 Kernel: 5.15 Compiler: gcc gcc (SUSE Linux) 7.5.0 Red Hat Enterprise Linux 8.10 Kernel: 5.15 Compiler: gcc gcc (GCC) 8.5.0 20210514 (Red Hat 8.5.0-22) Red Hat Enterprise Linux 9.5 Kernel: 5.15 Compiler: gcc gcc (GCC) 11.5.0 20240719 (Red Hat 11.5.0-2) Ubuntu 22.04 Kernel: 5.15 Compiler: gcc gcc (Ubuntu 11.4.0-1ubuntu1~22.04) 11.4.0 Ubuntu 24.04 Kernel: 5.15 Compiler: gcc gcc (Ubuntu 13.3.0-6ubuntu2~24.04) 13.3.0 Alpine Linux 3.22.0 Kernel: 5.15 Compiler: gcc gcc (Alpine 14.2.0) 14.2.0 Windows Server 2022 Kernel: 10.0.20348.2031 Compiler: clang 15.0.7, gcc 14.1.0 (MinGW), and MSVC VS 19.39.33521 To view detailed results, visit: https://lab.dpdk.org/results/dashboard/tarballs/35281/ UNH-IOL DPDK Community Lab To manage your email subscriptions, visit: https://lab.dpdk.org/results/dashboard/preferences/subscriptions/