From mboxrd@z Thu Jan 1 00:00:00 1970 Return-Path: Received: from mails.dpdk.org (mails.dpdk.org [217.70.189.124]) by inbox.dpdk.org (Postfix) with ESMTP id 1926F4898B for ; Mon, 20 Oct 2025 11:33:18 +0200 (CEST) Received: from mails.dpdk.org (localhost [127.0.0.1]) by mails.dpdk.org (Postfix) with ESMTP id E0433400D6; Mon, 20 Oct 2025 11:33:17 +0200 (CEST) Received: from mail-pj1-f97.google.com (mail-pj1-f97.google.com [209.85.216.97]) by mails.dpdk.org (Postfix) with ESMTP id EC38D400D6 for ; Mon, 20 Oct 2025 11:33:15 +0200 (CEST) Received: by mail-pj1-f97.google.com with SMTP id 98e67ed59e1d1-33badfbbc48so5289020a91.2 for ; Mon, 20 Oct 2025 02:33:15 -0700 (PDT) DKIM-Signature: v=1; a=rsa-sha256; c=relaxed/relaxed; d=iol.unh.edu; s=unh-iol; t=1760952795; x=1761557595; darn=dpdk.org; h=cc:to:from:subject:message-id:date:from:to:cc:subject:date :message-id:reply-to; bh=TaXnX3IMfpHsewAddlZwQcritAq3733Zq3Pulit4zq0=; b=LcXRF5C9/rKeZ0AT0Uz8Ud/mv1Y9T6/dgZcT6CrOMW4b00bPnMrEYMDudHIswxHWj7 bzFcahqQFf1wLbCMiarZ2vMNl1mNE88EMFISZy1zaVTroJvD8uK7hEhVRIu10huB8JZs OMLF5DW4b0G/uP3Fdehtc+DhvfS0ilShinme4= X-Google-DKIM-Signature: v=1; a=rsa-sha256; c=relaxed/relaxed; d=1e100.net; s=20230601; t=1760952795; x=1761557595; h=cc:to:from:subject:message-id:date:x-gm-message-state:from:to:cc :subject:date:message-id:reply-to; bh=TaXnX3IMfpHsewAddlZwQcritAq3733Zq3Pulit4zq0=; b=Lx/1/wd2d+Q75MKQztCNfmJx2Tg+trmt+Izdh7Q5FdY3sQFySUY9hMhSaGqYkHkXsl Z4ZLdzNnS/IYqwpz+OqyiQt8G1HfXTSvMPcMP0Vay2q1tr7LT+3RrKfcxs/si092/7Or 2t06v3IjUk/jzYY4tH1EsAt5uqm2RpSOxmjKFD3gLNFRHBer76CMzlDZS9UijHQJweJJ HKQycs/uZtqdQa+EB0yUoj8Kqo0BEQk2St15N7jf46Tk9Y8P4Btw01R9t0RH9P1S/Rs+ 3b4XbXZx1x+rcxi0iuNOz3/DtquBhpp4jeArDAsiwFsXWhLCpWGQ+ru1fNrnUkXM5qnM ZkJQ== X-Gm-Message-State: AOJu0YzKRpaagaUJAjFjQQ5+7bVEXhERH4jQWeNmW2mL794HcRe2vDQC qABJ7vT6zbSVvQWCJEBAZi19plYW3bBCocE5WXZ4hn2EP0q9qnC1cFKwAz0iZcwTcxI5XmTq+RG BBHKIG+J18OjmHAlN4PsLoxXTLB2KwD6W3KnVe0nUhv7Zg+/rKKB5S6VLJNbh X-Gm-Gg: ASbGncsfFLXN0Lg01t8OWk1PXet+CDis44IKDUYRgA3YACnrGVp5pOVBYI9R8LSH/nJ A/lSEgExK+X/HZlaz66wgxv2BRRszQS5SBDIem//7/NAChRpSfAhtk9hIxYvjcDjeaZwjE/boE/ Fkio34eI1PbphEVjrrssvnJIqNdE5JL7u3go9kw5eUzTrPxqGQmNL84gA8PC6wQJCBgF1+i3QQZ BPOQPa27jD/t3pGITkhdgLUlieULL5SxRoNozivKR5HAlGRCoWKNpXFYEwYR08wzQGNyOX1xzY6 3SLcVzAlHxhlgyg64BFIyF8NLGbGeiOCo6BlDyOwqCGhR36PMxhbT/npFUv86h1Q6o7FzEUURsA dd32JgJ7k X-Google-Smtp-Source: AGHT+IF+7oOuti7QdwPXTEkGV/nVbZKccGL5bfJdZwhJElXgWrNJR6sSsz6bVaA77TSRypOxQmG8Cmh8fHGe X-Received: by 2002:a17:90b:3d87:b0:32e:a54a:be4a with SMTP id 98e67ed59e1d1-33bcf86bea3mr13872008a91.2.1760952794910; Mon, 20 Oct 2025 02:33:14 -0700 (PDT) Received: from postal.iol.unh.edu (postal.iol.unh.edu. [2606:4100:3880:1234::84]) by smtp-relay.gmail.com with ESMTPS id 98e67ed59e1d1-33d5dfa2402sm920092a91.7.2025.10.20.02.33.14 (version=TLS1_2 cipher=ECDHE-ECDSA-AES128-GCM-SHA256 bits=128/128); Mon, 20 Oct 2025 02:33:14 -0700 (PDT) X-Relaying-Domain: iol.unh.edu Date: Mon, 20 Oct 2025 02:33:14 -0700 (PDT) Message-ID: <68f601da.170a0220.102ebe.be01SMTPIN_ADDED_MISSING@mx.google.com> Received: from [172.21.0.2] (unknown [172.18.0.240]) by postal.iol.unh.edu (Postfix) with ESMTP id 339206051830; Mon, 20 Oct 2025 05:33:14 -0400 (EDT) Subject: |WARNING| [GIT MASTER] c3babb4bb7ce96122a966dad7b3da06a379d45f2 From: dpdklab@iol.unh.edu To: Test Report Cc: dpdk-test-reports@iol.unh.edu, Stephen Hemminger Content-Type: text/plain X-BeenThere: test-report@dpdk.org X-Mailman-Version: 2.1.29 Precedence: list List-Id: automatic DPDK test reports List-Unsubscribe: , List-Archive: List-Post: List-Help: List-Subscribe: , Errors-To: test-report-bounces@dpdk.org _Testing issues_ Branch: dpdk-next-net c3babb4bb7ce96122a966dad7b3da06a379d45f2 --> testing issues Upstream job id: Generic-DPDK-Compile-Meson#436188 Test environment and result as below: +-------------------------------+--------------------+-------------------------+-------------------+----------------------+-------------------+------------------+ | Environment | dpdk_meson_compile | dpdk_llvm_clang_compile | dpdk_msvc_compile | dpdk_mingw64_compile | dpdk_compile_spdk | dpdk_compile_ovs | +===============================+====================+=========================+===================+======================+===================+==================+ | Ubuntu 20.04 | PASS | SKIPPED | SKIPPED | SKIPPED | SKIPPED | SKIPPED | +-------------------------------+--------------------+-------------------------+-------------------+----------------------+-------------------+------------------+ | FreeBSD 14.2 | PASS | SKIPPED | SKIPPED | SKIPPED | SKIPPED | SKIPPED | +-------------------------------+--------------------+-------------------------+-------------------+----------------------+-------------------+------------------+ | CentOS Stream 9 | PASS | SKIPPED | SKIPPED | SKIPPED | WARN | SKIPPED | +-------------------------------+--------------------+-------------------------+-------------------+----------------------+-------------------+------------------+ | CentOS Stream 10 | PASS | SKIPPED | SKIPPED | SKIPPED | SKIPPED | SKIPPED | +-------------------------------+--------------------+-------------------------+-------------------+----------------------+-------------------+------------------+ | Debian GNU/Linux 12 | PASS | SKIPPED | SKIPPED | SKIPPED | WARN | SKIPPED | +-------------------------------+--------------------+-------------------------+-------------------+----------------------+-------------------+------------------+ | Fedora Linux 42 | PASS | SKIPPED | SKIPPED | SKIPPED | WARN | PASS | +-------------------------------+--------------------+-------------------------+-------------------+----------------------+-------------------+------------------+ | openSUSE Leap 15.6 | PASS | SKIPPED | SKIPPED | SKIPPED | SKIPPED | SKIPPED | +-------------------------------+--------------------+-------------------------+-------------------+----------------------+-------------------+------------------+ | Red Hat Enterprise Linux 8.10 | PASS | SKIPPED | SKIPPED | SKIPPED | SKIPPED | SKIPPED | +-------------------------------+--------------------+-------------------------+-------------------+----------------------+-------------------+------------------+ | Red Hat Enterprise Linux 9.5 | PASS | SKIPPED | SKIPPED | SKIPPED | SKIPPED | SKIPPED | +-------------------------------+--------------------+-------------------------+-------------------+----------------------+-------------------+------------------+ | Ubuntu 22.04 | PASS | SKIPPED | SKIPPED | SKIPPED | WARN | SKIPPED | +-------------------------------+--------------------+-------------------------+-------------------+----------------------+-------------------+------------------+ | Ubuntu 24.04 | PASS | SKIPPED | SKIPPED | SKIPPED | WARN | PASS | +-------------------------------+--------------------+-------------------------+-------------------+----------------------+-------------------+------------------+ | Alpine Linux 3.22.0 | PASS | SKIPPED | SKIPPED | SKIPPED | SKIPPED | SKIPPED | +-------------------------------+--------------------+-------------------------+-------------------+----------------------+-------------------+------------------+ | Windows Server 2022 | SKIPPED | PASS | PASS | PASS | SKIPPED | SKIPPED | +-------------------------------+--------------------+-------------------------+-------------------+----------------------+-------------------+------------------+ ==== 20 line log output for Ubuntu 24.04 (dpdk_compile_spdk): ==== --- Failed to get log output --- ==== End log output ==== Ubuntu 20.04 Kernel: 4.19 Compiler: gcc gcc (Ubuntu 9.4.0-1ubuntu1~20.04.2) 9.4.0 FreeBSD 14.2 Kernel: 14.2-RELEASE Compiler: clang 18.1.6 CentOS Stream 9 Kernel: 5.15 Compiler: gcc gcc (GCC) 11.5.0 20240719 (Red Hat 11.5.0-11) CentOS Stream 10 Kernel: 5.15 Compiler: gcc gcc (GCC) 14.2.1 20250110 (Red Hat 14.2.1-8) Debian GNU/Linux 12 Kernel: 5.15 Compiler: gcc gcc (Debian 12.2.0-14+deb12u1) 12.2.0 Fedora Linux 42 Kernel: 5.15 Compiler: clang gcc (GCC) 15.2.1 20250808 (Red Hat 15.2.1-1) openSUSE Leap 15.6 Kernel: 5.15 Compiler: gcc gcc (SUSE Linux) 7.5.0 Red Hat Enterprise Linux 8.10 Kernel: 5.15 Compiler: gcc gcc (GCC) 8.5.0 20210514 (Red Hat 8.5.0-22) Red Hat Enterprise Linux 9.5 Kernel: 5.15 Compiler: gcc gcc (GCC) 11.5.0 20240719 (Red Hat 11.5.0-2) Ubuntu 22.04 Kernel: 5.15 Compiler: gcc gcc (Ubuntu 11.4.0-1ubuntu1~22.04) 11.4.0 Ubuntu 24.04 Kernel: 5.15 Compiler: gcc gcc (Ubuntu 13.3.0-6ubuntu2~24.04) 13.3.0 Alpine Linux 3.22.0 Kernel: 5.15 Compiler: gcc gcc (Alpine 14.2.0) 14.2.0 Windows Server 2022 Kernel: 10.0.20348.2031 Compiler: clang 15.0.7, gcc 14.1.0 (MinGW), and MSVC VS 19.39.33521 To view detailed results, visit: https://lab.dpdk.org/results/dashboard/tarballs/35281/ UNH-IOL DPDK Community Lab To manage your email subscriptions, visit: https://lab.dpdk.org/results/dashboard/preferences/subscriptions/