From mboxrd@z Thu Jan 1 00:00:00 1970 Return-Path: Received: from mails.dpdk.org (mails.dpdk.org [217.70.189.124]) by inbox.dpdk.org (Postfix) with ESMTP id 8A33E4898A for ; Mon, 20 Oct 2025 12:47:46 +0200 (CEST) Received: from mails.dpdk.org (localhost [127.0.0.1]) by mails.dpdk.org (Postfix) with ESMTP id 5DAEE400D6; Mon, 20 Oct 2025 12:47:46 +0200 (CEST) Received: from mail-oa1-f98.google.com (mail-oa1-f98.google.com [209.85.160.98]) by mails.dpdk.org (Postfix) with ESMTP id 146AE400D6 for ; Mon, 20 Oct 2025 12:47:45 +0200 (CEST) Received: by mail-oa1-f98.google.com with SMTP id 586e51a60fabf-35c80c1dc3fso1706319fac.3 for ; Mon, 20 Oct 2025 03:47:45 -0700 (PDT) DKIM-Signature: v=1; a=rsa-sha256; c=relaxed/relaxed; d=iol.unh.edu; s=unh-iol; t=1760957264; x=1761562064; darn=dpdk.org; h=cc:to:from:subject:message-id:date:from:to:cc:subject:date :message-id:reply-to; bh=AdKyF1aN9ialBqXe0JDBYh1bM+eThrhiqPH1Jn6gdvk=; b=DTkTdTKcTYFghaMrI4Sb8RJplA6Lww/8rei8Bi3G+pMJyNjqd1SZQT2hHKax9rh4Mu zuwtJQgEwAGslSf5QS/B8RiM62fGcimMrb0weEY3aYs0tpJw8qOp2oTLgIXOcFtjCZgL oJuMlE9VLpSPi377bD0lfVafQQGDmc/Hq6W70= X-Google-DKIM-Signature: v=1; a=rsa-sha256; c=relaxed/relaxed; d=1e100.net; s=20230601; t=1760957264; x=1761562064; h=cc:to:from:subject:message-id:date:x-gm-message-state:from:to:cc :subject:date:message-id:reply-to; bh=AdKyF1aN9ialBqXe0JDBYh1bM+eThrhiqPH1Jn6gdvk=; b=Rm2sCApK4LLLshj/NvEpyvq+I1IBbH4nBgD6i75g2001rIHnFHBNiG/5LgfILKlXwJ UQLKvnlxBfjmJXKIv8NQbQ/1NSlKkXn9gdzf33Y9MLhXC5QnTp64TrDjCZss+2Vghb4x nwVgWBXoGPC76Ts2W2ZbHclfF2sZU5FxqJaeO+pPHYMAtlM9AqAso71S07Hbxjr6JKU4 asFLDL8ltrTDi4kkCg9ALhSdxZTX+UEDdMGCjLNy9XYpMnmB5TgLtByQUJrQig+lx55y SGJ3yTGzNFoy3tPbi0tksne7tAJ3ML8G+EN2FdBw6+QO3aDNsTc68Euk7DFNSmbHtNld AtKw== X-Gm-Message-State: AOJu0YxEDrj5z5eDQDiidy5nr7MEhRwtlV0y2Daolagp0+E11CZFU+cx 6fjVxa8tSwMapLdv9bElq+hjzu6ml6Kgvg8vuflELDGA4P+6xrOEUUJWLiuQyJz2gK7B5gnFl9X Y5FiVtBVv3QPG2pj+fRIVKLGYDe5od5S+qtSI X-Gm-Gg: ASbGncvHJll2FDLbsVzaVAnfWwaz+dtpM+SIrRQp9s7K1nxngmZKeosXqHAJTMS3h7v Tqow/Yfyn5aosAO5DgUocSpBAWLqihssJTcXwxxcabh62rHFezRCGP7oRfgUs9ZRG2sUhBVV4lJ FG7kYuZ6p1f0+NlU0NSiLdc/cqZc1jtlNtPCzdSo7qT2SrOhB9zotrmrXsjXf7rYZbT4+HVyhC7 TOko5rRJE8QgZANJE5i2KzBADa+vBWbSB5lXEHH2h5R/6b1x6++2bNILlkMgF5r/KSy7ZHHPing sqCFCE7zQ/yZ7GqTa2Z6OeK0lqh55F4+6v7fL8hu4QAfjnltH+xqnotr0hMlQb8WhOcaR5xtjP0 DcbclXT+nTdPimuPwGZQ/Yq76f428/IM= X-Google-Smtp-Source: AGHT+IGZB+u9V2yAgUHJeuFiIXHOPXcGDtv2DOh3s0S6T7gm91fsQa3XBUmA8eS67SdNl0rJq9fq293iHaOT X-Received: by 2002:a05:6871:3319:b0:3c9:8689:35d1 with SMTP id 586e51a60fabf-3c98d0db6d6mr5316407fac.32.1760957264189; Mon, 20 Oct 2025 03:47:44 -0700 (PDT) Received: from postal.iol.unh.edu (postal.iol.unh.edu. [132.177.123.84]) by smtp-relay.gmail.com with ESMTPS id 586e51a60fabf-3c9af1f0540sm1031288fac.13.2025.10.20.03.47.44 (version=TLS1_2 cipher=ECDHE-ECDSA-AES128-GCM-SHA256 bits=128/128); Mon, 20 Oct 2025 03:47:44 -0700 (PDT) X-Relaying-Domain: iol.unh.edu Date: Mon, 20 Oct 2025 03:47:44 -0700 (PDT) Message-ID: <68f61350.050a0220.114b83.0778SMTPIN_ADDED_MISSING@mx.google.com> Received: from [172.21.0.2] (unknown [172.18.0.240]) by postal.iol.unh.edu (Postfix) with ESMTP id 4BFCE6051830; Mon, 20 Oct 2025 06:47:43 -0400 (EDT) Subject: |SUCCESS| [GIT MASTER] b287e404643aeab5bb5db084c142789df187844e From: dpdklab@iol.unh.edu To: Test Report Cc: dpdk-test-reports@iol.unh.edu, Xueming Li , Christian Ehrhardt , Kevin Traynor , Luca Boccassi Content-Type: text/plain X-BeenThere: test-report@dpdk.org X-Mailman-Version: 2.1.29 Precedence: list List-Id: automatic DPDK test reports List-Unsubscribe: , List-Archive: List-Post: List-Help: List-Subscribe: , Errors-To: test-report-bounces@dpdk.org _Testing PASS_ Branch: tags/v24.11 b287e404643aeab5bb5db084c142789df187844e --> testing pass Upstream job id: Generic-Unit-Test-DPDK#383455 Test environment and result as below: +------------------------------+----------------+--------------+------------------------------+---------------------------+ | Environment | dpdk_unit_test | lpm_autotest | cryptodev_sw_snow3g_autotest | cryptodev_sw_zuc_autotest | +==============================+================+==============+==============================+===========================+ | Fedora Linux 40 | PASS | SKIPPED | SKIPPED | SKIPPED | +------------------------------+----------------+--------------+------------------------------+---------------------------+ | CentOS Stream 9 | PASS | SKIPPED | SKIPPED | SKIPPED | +------------------------------+----------------+--------------+------------------------------+---------------------------+ | Fedora Linux 41 | PASS | SKIPPED | SKIPPED | SKIPPED | +------------------------------+----------------+--------------+------------------------------+---------------------------+ | CentOS Stream 10 | PASS | SKIPPED | SKIPPED | SKIPPED | +------------------------------+----------------+--------------+------------------------------+---------------------------+ | Debian GNU/Linux 12 | PASS | SKIPPED | SKIPPED | SKIPPED | +------------------------------+----------------+--------------+------------------------------+---------------------------+ | Fedora Linux 42 | PASS | SKIPPED | SKIPPED | SKIPPED | +------------------------------+----------------+--------------+------------------------------+---------------------------+ | Red Hat Enterprise Linux 9.5 | PASS | SKIPPED | SKIPPED | SKIPPED | +------------------------------+----------------+--------------+------------------------------+---------------------------+ | Ubuntu 20.04 | PASS | PASS | SKIPPED | SKIPPED | +------------------------------+----------------+--------------+------------------------------+---------------------------+ | Ubuntu 22.04 | PASS | SKIPPED | SKIPPED | SKIPPED | +------------------------------+----------------+--------------+------------------------------+---------------------------+ | Ubuntu 24.04 | PASS | SKIPPED | SKIPPED | SKIPPED | +------------------------------+----------------+--------------+------------------------------+---------------------------+ | Debian 12 (arm) | SKIPPED | SKIPPED | PASS | PASS | +------------------------------+----------------+--------------+------------------------------+---------------------------+ Fedora Linux 40 Kernel: 5.4 Compiler: clang gcc (GCC) 14.2.1 20240912 (Red Hat 14.2.1-3) CentOS Stream 9 Kernel: 5.4 Compiler: gcc gcc (GCC) 11.5.0 20240719 (Red Hat 11.5.0-11) Fedora Linux 41 Kernel: 5.4 Compiler: gcc gcc (GCC) 14.3.1 20250523 (Red Hat 14.3.1-1) CentOS Stream 10 Kernel: 5.4 Compiler: gcc gcc (GCC) 14.2.1 20250110 (Red Hat 14.2.1-8) Debian GNU/Linux 12 Kernel: 5.4 Compiler: gcc gcc (Debian 12.2.0-14+deb12u1) 12.2.0 Fedora Linux 42 Kernel: 5.4 Compiler: gcc gcc (GCC) 15.2.1 20250808 (Red Hat 15.2.1-1) Red Hat Enterprise Linux 9.5 Kernel: 5.4 Compiler: gcc gcc (GCC) 11.5.0 20240719 (Red Hat 11.5.0-2) Ubuntu 20.04 Kernel: 5.4 Compiler: gcc gcc (Ubuntu 9.4.0-1ubuntu1~20.04.2) 9.4.0 Ubuntu 22.04 Kernel: 5.4 Compiler: gcc gcc (Ubuntu 11.4.0-1ubuntu1~22.04) 11.4.0 Ubuntu 24.04 Kernel: 5.4 Compiler: gcc gcc (Ubuntu 13.3.0-6ubuntu2~24.04) 13.3.0 Debian 12 (arm) Kernel: Depends on container host Compiler: gcc (Debian 12.2.0-14) 12.2.0 To view detailed results, visit: https://lab.dpdk.org/results/dashboard/tarballs/35279/ UNH-IOL DPDK Community Lab To manage your email subscriptions, visit: https://lab.dpdk.org/results/dashboard/preferences/subscriptions/