From mboxrd@z Thu Jan 1 00:00:00 1970 Return-Path: Received: from mails.dpdk.org (mails.dpdk.org [217.70.189.124]) by inbox.dpdk.org (Postfix) with ESMTP id E803A4898A for ; Mon, 20 Oct 2025 12:53:29 +0200 (CEST) Received: from mails.dpdk.org (localhost [127.0.0.1]) by mails.dpdk.org (Postfix) with ESMTP id E3596400D6; Mon, 20 Oct 2025 12:53:29 +0200 (CEST) Received: from mail-yw1-f225.google.com (mail-yw1-f225.google.com [209.85.128.225]) by mails.dpdk.org (Postfix) with ESMTP id 0A479400D6 for ; Mon, 20 Oct 2025 12:53:29 +0200 (CEST) Received: by mail-yw1-f225.google.com with SMTP id 00721157ae682-71d60157747so42963637b3.0 for ; Mon, 20 Oct 2025 03:53:28 -0700 (PDT) DKIM-Signature: v=1; a=rsa-sha256; c=relaxed/relaxed; d=iol.unh.edu; s=unh-iol; t=1760957608; x=1761562408; darn=dpdk.org; h=cc:to:from:subject:message-id:date:from:to:cc:subject:date :message-id:reply-to; bh=CIus+yQefQnEqaMpv2BkoPpEC/B5fzvreINTPIYewLM=; b=g6Ie4BnaUMTkGeQSP2dpYqORUbiL6yRoP/FMwVv1LSe5uH1Oj5MCyc4+NWdSCJLN+j jxrPouwgxYLVnIfl9qkYRCyDscW/QfXMDYD00LC6SiLjeac7ApXZ2sM8qYDtIq6/CQRk 6VW5GASkuV+YcIG3SF+Wr8QyYmWeA3obr0a1I= X-Google-DKIM-Signature: v=1; a=rsa-sha256; c=relaxed/relaxed; d=1e100.net; s=20230601; t=1760957608; x=1761562408; h=cc:to:from:subject:message-id:date:x-gm-message-state:from:to:cc :subject:date:message-id:reply-to; bh=CIus+yQefQnEqaMpv2BkoPpEC/B5fzvreINTPIYewLM=; b=VimPbJV2hvR8P03DbsQfGG8NLQfXJ586UfYTGHj0ZOuzmQZjOmWZdmTVLKqKP4crMm Mc6nuE15ZRvtxn5Orkz5K4d3vLD4po4ZvFSefn0VDbxN/7O9mI8ByuvMnP/iMH486KRk a4t6MA0KKBPkF72tW+tRPai9j/3zksG/2IOJzxchiYiocWGvAMs5dpU6aF71B+771CXN k/VpHXtMEKPa74hIJH3goLDIRaxH+HcbWjauIVdYaxQahS1XAbcWNVXQ5Uag8wPIeYVm Du4o9KwaVF1F0tBFEJlqb+Dw+46YkKfMko0UZwhLa0a5Cm/aZQqaPR9S7L9nHSa2bdXw cejQ== X-Gm-Message-State: AOJu0YyTkKouJ/xR99GYgQdylv+Qx0bhuLUe9SXU2mCRCDDZwqpPXEkB RvPLX3fakhrt3cRy0moIRJoBaGkfY8W8Na+HNfPUVWlUMchzdWHWyfkRkFCDKpDHcnHEqQHFYNy U/K/pp+snnyHxwMfkzHNa1y2rzaV6wCAOV3OhQITX/Zbf X-Gm-Gg: ASbGnctzCMSPSF7tCfE4B1ZzKI5BqcXRUMfj0pj/OTcywxsb4PzFq5Npoj1ffKJvvoc L6XZED4+ASql1+qD2LT9FBFm/rhvgyMIFLI6gJTagkwQyyAwaBNrVMDG1bp0NO2RzOelKIgOWtW sWYGg83dtY+YtsPXFrHPlp7L3W2Q0ZpqHfCiQmptaw5NCzBnnQiGh+v3yz2KYF4wNU1AJwk+PRG h4W0qxzsR1ydAxM/nGhHkkSJDYA46PdD3Jidi0VHfBL9T0W9T5jmO5nQHPhr8tA5d0CvfrxNl01 /Ery5bNbZPClfbCcUX9dRsR6WdCh1xEGzHinVX0RQLxNAEN9f8hDG7/AouBsrF1QaGb1rDNlo/R IBAKrB8bJeMrJ45Ss3nB8tt67pgfgGcY= X-Google-Smtp-Source: AGHT+IFW4pDgQSE9MysBftN3SMS9fnLLPZjiN+x1LVuGAZkHQT7+YC9k/VYeqs5vw2ylUEXIuWskY3QcjDgi X-Received: by 2002:a05:690c:6085:b0:781:64f:3135 with SMTP id 00721157ae682-7836d3a3373mr110304187b3.67.1760957608267; Mon, 20 Oct 2025 03:53:28 -0700 (PDT) Received: from postal.iol.unh.edu (postal.iol.unh.edu. [132.177.123.84]) by smtp-relay.gmail.com with ESMTPS id 00721157ae682-784673cad5esm6424517b3.16.2025.10.20.03.53.28 (version=TLS1_2 cipher=ECDHE-ECDSA-AES128-GCM-SHA256 bits=128/128); Mon, 20 Oct 2025 03:53:28 -0700 (PDT) X-Relaying-Domain: iol.unh.edu Date: Mon, 20 Oct 2025 03:53:28 -0700 (PDT) Message-ID: <68f614a8.050a0220.2e4629.3e24SMTPIN_ADDED_MISSING@mx.google.com> Received: from [172.21.0.3] (unknown [172.18.0.240]) by postal.iol.unh.edu (Postfix) with ESMTP id C7FEA6051830; Mon, 20 Oct 2025 06:53:27 -0400 (EDT) Subject: |SUCCESS| [GIT MASTER] f0db0f659a1f4192a4aca7ce2a298f272aa3af8f From: dpdklab@iol.unh.edu To: Test Report Cc: dpdk-test-reports@iol.unh.edu Content-Type: text/plain X-BeenThere: test-report@dpdk.org X-Mailman-Version: 2.1.29 Precedence: list List-Id: automatic DPDK test reports List-Unsubscribe: , List-Archive: List-Post: List-Help: List-Subscribe: , Errors-To: test-report-bounces@dpdk.org _Testing PASS_ Branch: dpdk f0db0f659a1f4192a4aca7ce2a298f272aa3af8f --> testing pass Upstream job id: Generic-DPDK-Compile-Meson#436048 Test environment and result as below: +------------------------------+--------------------+ | Environment | dpdk_meson_compile | +==============================+====================+ | Ubuntu 20.04 | PASS | +------------------------------+--------------------+ | Fedora Linux 42 | PASS | +------------------------------+--------------------+ | Ubuntu 22.04 | PASS | +------------------------------+--------------------+ | Red Hat Enterprise Linux 9.5 | PASS | +------------------------------+--------------------+ | Debian GNU/Linux 12 | PASS | +------------------------------+--------------------+ | CentOS Stream 10 | PASS | +------------------------------+--------------------+ | CentOS Stream 9 | PASS | +------------------------------+--------------------+ | Ubuntu 24.04 | PASS | +------------------------------+--------------------+ Ubuntu 20.04 Kernel: 5.4 Compiler: gcc gcc (Ubuntu 9.4.0-1ubuntu1~20.04.2) 9.4.0 Fedora Linux 42 Kernel: 5.4 Compiler: clang gcc (GCC) 15.2.1 20250808 (Red Hat 15.2.1-1) Ubuntu 22.04 Kernel: 5.4 Compiler: gcc gcc (Ubuntu 11.4.0-1ubuntu1~22.04) 11.4.0 Red Hat Enterprise Linux 9.5 Kernel: 5.4 Compiler: gcc gcc (GCC) 11.5.0 20240719 (Red Hat 11.5.0-2) Debian GNU/Linux 12 Kernel: 5.4 Compiler: gcc gcc (Debian 12.2.0-14+deb12u1) 12.2.0 CentOS Stream 10 Kernel: 5.4 Compiler: gcc gcc (GCC) 14.2.1 20250110 (Red Hat 14.2.1-8) CentOS Stream 9 Kernel: 5.4 Compiler: gcc gcc (GCC) 11.5.0 20240719 (Red Hat 11.5.0-11) Ubuntu 24.04 Kernel: 5.4 Compiler: gcc gcc (Ubuntu 13.3.0-6ubuntu2~24.04) 13.3.0 To view detailed results, visit: https://lab.dpdk.org/results/dashboard/tarballs/35276/ UNH-IOL DPDK Community Lab To manage your email subscriptions, visit: https://lab.dpdk.org/results/dashboard/preferences/subscriptions/