From mboxrd@z Thu Jan 1 00:00:00 1970 Return-Path: Received: from mails.dpdk.org (mails.dpdk.org [217.70.189.124]) by inbox.dpdk.org (Postfix) with ESMTP id 422984898A for ; Mon, 20 Oct 2025 12:55:24 +0200 (CEST) Received: from mails.dpdk.org (localhost [127.0.0.1]) by mails.dpdk.org (Postfix) with ESMTP id 19AB8400D6; Mon, 20 Oct 2025 12:55:24 +0200 (CEST) Received: from mail-pf1-f227.google.com (mail-pf1-f227.google.com [209.85.210.227]) by mails.dpdk.org (Postfix) with ESMTP id 77CFF400D6 for ; Mon, 20 Oct 2025 12:55:22 +0200 (CEST) Received: by mail-pf1-f227.google.com with SMTP id d2e1a72fcca58-7800ff158d5so3782317b3a.1 for ; Mon, 20 Oct 2025 03:55:22 -0700 (PDT) DKIM-Signature: v=1; a=rsa-sha256; c=relaxed/relaxed; d=iol.unh.edu; s=unh-iol; t=1760957721; x=1761562521; darn=dpdk.org; h=cc:to:from:subject:message-id:date:from:to:cc:subject:date :message-id:reply-to; bh=UivGfyn3CsHCz4iiebKKvhS+Hd2L4D/0eeeZm2iwwL8=; b=MW+1oXhuMSCTg9+oGAOjRkIWT6pVJQ8T3opS2ZAzvjLfSCbyLlmPHn3gtbJFehExu8 91556JVIikWl9NG9G6OfYo4gJVLt7hlVkWOpCQ2wUH+zC2cU+YIjwrYWAc202LE9fV1l pYUcmJzt/vKMGgwH4xinlWGg/Ncifbe1GDEsg= X-Google-DKIM-Signature: v=1; a=rsa-sha256; c=relaxed/relaxed; d=1e100.net; s=20230601; t=1760957721; x=1761562521; h=cc:to:from:subject:message-id:date:x-gm-message-state:from:to:cc :subject:date:message-id:reply-to; bh=UivGfyn3CsHCz4iiebKKvhS+Hd2L4D/0eeeZm2iwwL8=; b=XYr3uUvVfXSHESo0AjzmUVAdT1J09sleMjXz76ke2AmEn7ac5ILEuPZuTjJgDquG4K SfTE7XMmaJ0K/6a1zdAHSXI/lxnRRP+0WAVMxYB/zy4NQpvIGsVeI+mC+rqrTkoYADmi GQe6UdF7MbDI7N8oXQQIgPHm0uxqotJAH+s2GPWR6Zoo0FfAHHonCQMeuFaM1hoclQiV qGRvB2jjkRCCU/8r+njzQMybDEcyVwG/kALeQ4SufOJ+5tnFEbfkOOWeoEAnOOGfdZ2+ fGa8vnkOs3wPUQtPTaj3dVsWZ1+mYJ+TKqfaSgLWWBBJ7uRAnZgrOk8G/BGZKr2qKktX usQQ== X-Gm-Message-State: AOJu0YxTTagixZYwODCsoHJAcT816KSSXUiw4LB+FctsW6Qol14W/mov NuQX52t4yqK8aSMtSRw8/JZ302At0bCVr2DCN9uHg+jvNaCdnHkexJFKqyIYFkyRxC/IMAWpOpn 30EneJD9W0JbakNQsgCjJtiFslAwNTewd89Wn X-Gm-Gg: ASbGncsLAE2tJJ/IwJm77cKM6aBeVJxDSsBOJVwXcbbHibCGL9Pghiae4cMvhJnZN4L gjBkUB3Eo9Fm+oxaQb39d5X70Xm+WQT2FmFaQoOgiQnmNVxGM1TQ3VkpRo+MtutOTaMU3LWqABE wvjUFRpD5un9Da0jGIMwWzPH2+MJqxoew/R2APFwsmuonzhpOu0wwHJIXib8GowwClRGDpHIE0h NthnG5a35EeO9nydrRaFYt5SUUc0G0DhCRpjVLnzo+1ZcID/wYX/65fLwn7M1oCnPXUW3FpsZO3 8+R9cpRJc1tgOiJDUS7Hy93tYZWAtvUxOWMQ5Pha7A9g5gwqGUSt+Krln7aGz94MYHyDwNFEl/x HEQBgEhMK/AFHuk4VOgHswmw2PAFV5hY= X-Google-Smtp-Source: AGHT+IHcsu7JFwNSVZF4I+HuyzvA3GOei3hgDW3TCBL9ugoqKd9wufPaXRnTPquBiA3ZKmaGre2Cgp/0a5Bt X-Received: by 2002:a05:6a00:17a2:b0:781:1a62:4a30 with SMTP id d2e1a72fcca58-7a220a919b1mr15942176b3a.4.1760957721533; Mon, 20 Oct 2025 03:55:21 -0700 (PDT) Received: from postal.iol.unh.edu (postal.iol.unh.edu. [132.177.123.84]) by smtp-relay.gmail.com with ESMTPS id d2e1a72fcca58-7a2300bc0f1sm1046354b3a.7.2025.10.20.03.55.21 (version=TLS1_2 cipher=ECDHE-ECDSA-AES128-GCM-SHA256 bits=128/128); Mon, 20 Oct 2025 03:55:21 -0700 (PDT) X-Relaying-Domain: iol.unh.edu Date: Mon, 20 Oct 2025 03:55:21 -0700 (PDT) Message-ID: <68f61519.050a0220.ea4e2.f908SMTPIN_ADDED_MISSING@mx.google.com> Received: from [172.21.0.3] (unknown [172.18.0.240]) by postal.iol.unh.edu (Postfix) with ESMTP id 2ED2C6051830; Mon, 20 Oct 2025 06:55:20 -0400 (EDT) Subject: |SUCCESS| [GIT MASTER] b287e404643aeab5bb5db084c142789df187844e From: dpdklab@iol.unh.edu To: Test Report Cc: dpdk-test-reports@iol.unh.edu, Xueming Li , Christian Ehrhardt , Kevin Traynor , Luca Boccassi Content-Type: text/plain X-BeenThere: test-report@dpdk.org X-Mailman-Version: 2.1.29 Precedence: list List-Id: automatic DPDK test reports List-Unsubscribe: , List-Archive: List-Post: List-Help: List-Subscribe: , Errors-To: test-report-bounces@dpdk.org _Testing PASS_ Branch: tags/v24.11 b287e404643aeab5bb5db084c142789df187844e --> testing pass Upstream job id: Generic-DPDK-Compile-Meson#436103 Test environment and result as below: +------------------------------+--------------------+ | Environment | dpdk_meson_compile | +==============================+====================+ | Red Hat Enterprise Linux 9.5 | PASS | +------------------------------+--------------------+ | Ubuntu 20.04 | PASS | +------------------------------+--------------------+ | Fedora Linux 42 | PASS | +------------------------------+--------------------+ | Debian GNU/Linux 12 | PASS | +------------------------------+--------------------+ | CentOS Stream 9 | PASS | +------------------------------+--------------------+ | CentOS Stream 10 | PASS | +------------------------------+--------------------+ | Ubuntu 24.04 | PASS | +------------------------------+--------------------+ | Ubuntu 22.04 | PASS | +------------------------------+--------------------+ Red Hat Enterprise Linux 9.5 Kernel: 5.4 Compiler: gcc gcc (GCC) 11.5.0 20240719 (Red Hat 11.5.0-2) Ubuntu 20.04 Kernel: 5.4 Compiler: gcc gcc (Ubuntu 9.4.0-1ubuntu1~20.04.2) 9.4.0 Fedora Linux 42 Kernel: 5.4 Compiler: gcc gcc (GCC) 15.2.1 20250808 (Red Hat 15.2.1-1) Debian GNU/Linux 12 Kernel: 5.4 Compiler: gcc gcc (Debian 12.2.0-14+deb12u1) 12.2.0 CentOS Stream 9 Kernel: 5.4 Compiler: gcc gcc (GCC) 11.5.0 20240719 (Red Hat 11.5.0-11) CentOS Stream 10 Kernel: 5.4 Compiler: gcc gcc (GCC) 14.2.1 20250110 (Red Hat 14.2.1-8) Ubuntu 24.04 Kernel: 5.4 Compiler: gcc gcc (Ubuntu 13.3.0-6ubuntu2~24.04) 13.3.0 Ubuntu 22.04 Kernel: 5.4 Compiler: gcc gcc (Ubuntu 11.4.0-1ubuntu1~22.04) 11.4.0 To view detailed results, visit: https://lab.dpdk.org/results/dashboard/tarballs/35279/ UNH-IOL DPDK Community Lab To manage your email subscriptions, visit: https://lab.dpdk.org/results/dashboard/preferences/subscriptions/