From mboxrd@z Thu Jan 1 00:00:00 1970 Return-Path: Received: from mails.dpdk.org (mails.dpdk.org [217.70.189.124]) by inbox.dpdk.org (Postfix) with ESMTP id B45534898B for ; Mon, 20 Oct 2025 15:19:19 +0200 (CEST) Received: from mails.dpdk.org (localhost [127.0.0.1]) by mails.dpdk.org (Postfix) with ESMTP id AFBAC400D6; Mon, 20 Oct 2025 15:19:19 +0200 (CEST) Received: from mail-pl1-f226.google.com (mail-pl1-f226.google.com [209.85.214.226]) by mails.dpdk.org (Postfix) with ESMTP id 3F608400D6 for ; Mon, 20 Oct 2025 15:19:18 +0200 (CEST) Received: by mail-pl1-f226.google.com with SMTP id d9443c01a7336-29226bc4bafso26348905ad.0 for ; Mon, 20 Oct 2025 06:19:18 -0700 (PDT) DKIM-Signature: v=1; a=rsa-sha256; c=relaxed/relaxed; d=iol.unh.edu; s=unh-iol; t=1760966357; x=1761571157; darn=dpdk.org; h=references:in-reply-to:cc:to:from:subject:message-id:date:from:to :cc:subject:date:message-id:reply-to; bh=dNe7VEOzW0UgwPsS3KgA69Ph1RyHxr0uOOsErFzUvAE=; b=GKMknSYII2VZVWdYUm2hZNNpZ46WaLxP//Kf50H6OYGbrNMdep+BlwZVJVZEmCB820 iyadl6/MVOj4Dg2G48yaUgT9cz1u+uBV5kPfz4ibHQyPgRxL1HDac3pgZl+y7Rrw4wv6 +xHCii+RKbqmd7FbUchiRt91H76aF+qq8feZg= X-Google-DKIM-Signature: v=1; a=rsa-sha256; c=relaxed/relaxed; d=1e100.net; s=20230601; t=1760966357; x=1761571157; h=references:in-reply-to:cc:to:from:subject:message-id:date :x-gm-message-state:from:to:cc:subject:date:message-id:reply-to; bh=dNe7VEOzW0UgwPsS3KgA69Ph1RyHxr0uOOsErFzUvAE=; b=bOyJvcC0iw/ht8s9ihOsqDuaHG6qc+zpdRLIqjCo+gCKE+rOzG4jTBH3ZrJYM5dGmN rp1mZUE+Svz9FHkO2kE0MB16n7Q30m5EqFdcbuP9m5q5YUnTUTqF6pp107t07bTjBVtR oCTfAwZod+HhHck78iZA1LwXnVCz8I13cW5+vWwZzE79lHkAn07l3avzCNYWrUetH79y Dt2EeaWr/j0eM6GLEx/ifK+WdLCUS99B9hLwBxQ2BbZtE44unJgcdmnqsQIY73uZSCvp H2gwGJZ0Mq//mMwZEF49J8Eig9hv1VXBAorXo0XXilWehRhcvAMbH4fcdO0OU9KF3xxj Diog== X-Gm-Message-State: AOJu0YzITeP8DqVSJdW/vLvpu5Bfl425i2XEXFa+tdEtycNUVV4+S9+5 NFXRItd6CNsgiJ+6INrgFD4qntUQu0+g4qqNeHzSqVDovdwke1tOzj02Ao27hfCctdMSb/uQIq1 sz/dbayATfTI7BjcnJErmAXc1yf3m39xR8lJhNZ+0QvfF X-Gm-Gg: ASbGnctRHoqgtdXsk94MKz4vNcnJXLpDrsVZRGe8Hf6AOSLZjOHxITU8Fk5F7/VyUJ8 E+W4i8sVO0eJmP5UmkZkPDTQgcf/+yTROaerXvwdXr/ofko3ybrfi7mskgypHOzeUbcBAavOJKY dNQNV5oeMoTOp/6OWuAQwbVMGnYBhItssgvOH5bSJaj2LtE9iPFd56y3SeTC66CQlFqOJcDTXaZ MrdvBchh67TIKC1CBP+TKEYWGFDnVmiC/TPdIOVpG/BxsH8+0cH6vG/fN6rci1NVaIgm/UoxKwT nyxhIr9tXVk/y3/MFF8oxAdx0NMUOIo+9HCfrrDSp87jLP7em67vadiOOxR7COpm8vhKBFxuDjP Yb8gN04sDq9L+N/30j2I89r1sVwHss/8= X-Google-Smtp-Source: AGHT+IHY3GDbi1ayBYSiYJ3Hv/mwDE3Oiv0Jhs4KAluKPn3zzgHs0zKFOtD9fet8VIr7l8UdwTp/CIfzduzf X-Received: by 2002:a17:902:fc8e:b0:27e:ef96:c153 with SMTP id d9443c01a7336-290c9ca73a0mr180179555ad.19.1760966357269; Mon, 20 Oct 2025 06:19:17 -0700 (PDT) Received: from postal.iol.unh.edu (postal.iol.unh.edu. [132.177.123.84]) by smtp-relay.gmail.com with ESMTPS id d9443c01a7336-29246fe9cf5sm10312345ad.4.2025.10.20.06.19.17 (version=TLS1_2 cipher=ECDHE-ECDSA-AES128-GCM-SHA256 bits=128/128); Mon, 20 Oct 2025 06:19:17 -0700 (PDT) X-Relaying-Domain: iol.unh.edu Date: Mon, 20 Oct 2025 06:19:17 -0700 (PDT) Message-ID: <68f636d5.170a0220.2672d9.fc59SMTPIN_ADDED_MISSING@mx.google.com> Received: from [172.21.0.4] (unknown [172.18.0.240]) by postal.iol.unh.edu (Postfix) with ESMTP id C00836050A61; Mon, 20 Oct 2025 09:19:16 -0400 (EDT) Subject: |SUCCESS| pw157839-157852 [PATCH] [v4,14/14] app/dma-perf: refactor From: dpdklab@iol.unh.edu To: Test Report Cc: dpdk-test-reports@iol.unh.edu In-Reply-To: <20251020041105.1590-15-fengchengwen@huawei.com> References: <20251020041105.1590-15-fengchengwen@huawei.com> Content-Type: text/plain X-BeenThere: test-report@dpdk.org X-Mailman-Version: 2.1.29 Precedence: list List-Id: automatic DPDK test reports List-Unsubscribe: , List-Archive: List-Post: List-Help: List-Subscribe: , Errors-To: test-report-bounces@dpdk.org Test-Label: iol-unit-arm64-testing Test-Status: SUCCESS http://dpdk.org/patch/157852 _Testing PASS_ Submitter: fengchengwen Date: Monday, October 20 2025 04:11:05 DPDK git baseline: Repo:dpdk Branch: master CommitID:f0db0f659a1f4192a4aca7ce2a298f272aa3af8f 157839-157852 --> testing pass Upstream job id: Generic-Unit-Test-DPDK#383505 Test environment and result as below: +------------------------------+----------------+------------------------------+--------------+---------------------------+ | Environment | dpdk_unit_test | cryptodev_sw_snow3g_autotest | lpm_autotest | cryptodev_sw_zuc_autotest | +==============================+================+==============================+==============+===========================+ | CentOS Stream 9 | PASS | SKIPPED | SKIPPED | SKIPPED | +------------------------------+----------------+------------------------------+--------------+---------------------------+ | Debian GNU/Linux 12 | PASS | SKIPPED | SKIPPED | SKIPPED | +------------------------------+----------------+------------------------------+--------------+---------------------------+ | CentOS Stream 10 | PASS | SKIPPED | SKIPPED | SKIPPED | +------------------------------+----------------+------------------------------+--------------+---------------------------+ | Fedora Linux 40 | PASS | SKIPPED | SKIPPED | SKIPPED | +------------------------------+----------------+------------------------------+--------------+---------------------------+ | Fedora Linux 41 | PASS | SKIPPED | SKIPPED | SKIPPED | +------------------------------+----------------+------------------------------+--------------+---------------------------+ | Fedora Linux 42 | PASS | SKIPPED | SKIPPED | SKIPPED | +------------------------------+----------------+------------------------------+--------------+---------------------------+ | Red Hat Enterprise Linux 9.5 | PASS | SKIPPED | SKIPPED | SKIPPED | +------------------------------+----------------+------------------------------+--------------+---------------------------+ | Ubuntu 20.04 | PASS | SKIPPED | PASS | SKIPPED | +------------------------------+----------------+------------------------------+--------------+---------------------------+ | Ubuntu 22.04 | PASS | SKIPPED | SKIPPED | SKIPPED | +------------------------------+----------------+------------------------------+--------------+---------------------------+ | Ubuntu 24.04 | PASS | SKIPPED | SKIPPED | SKIPPED | +------------------------------+----------------+------------------------------+--------------+---------------------------+ | Debian 12 (arm) | SKIPPED | PASS | SKIPPED | PASS | +------------------------------+----------------+------------------------------+--------------+---------------------------+ CentOS Stream 9 Kernel: 5.4 Compiler: gcc gcc (GCC) 11.5.0 20240719 (Red Hat 11.5.0-11) Debian GNU/Linux 12 Kernel: 5.4 Compiler: gcc gcc (Debian 12.2.0-14+deb12u1) 12.2.0 CentOS Stream 10 Kernel: 5.4 Compiler: gcc gcc (GCC) 14.2.1 20250110 (Red Hat 14.2.1-8) Fedora Linux 40 Kernel: 5.4 Compiler: clang gcc (GCC) 14.2.1 20240912 (Red Hat 14.2.1-3) Fedora Linux 41 Kernel: 5.4 Compiler: gcc gcc (GCC) 14.3.1 20250523 (Red Hat 14.3.1-1) Fedora Linux 42 Kernel: 5.4 Compiler: gcc gcc (GCC) 15.2.1 20250808 (Red Hat 15.2.1-1) Red Hat Enterprise Linux 9.5 Kernel: 5.4 Compiler: gcc gcc (GCC) 11.5.0 20240719 (Red Hat 11.5.0-2) Ubuntu 20.04 Kernel: 5.4 Compiler: gcc gcc (Ubuntu 9.4.0-1ubuntu1~20.04.2) 9.4.0 Ubuntu 22.04 Kernel: 5.4 Compiler: gcc gcc (Ubuntu 11.4.0-1ubuntu1~22.04) 11.4.0 Ubuntu 24.04 Kernel: 5.4 Compiler: gcc gcc (Ubuntu 13.3.0-6ubuntu2~24.04) 13.3.0 Debian 12 (arm) Kernel: Depends on container host Compiler: gcc (Debian 12.2.0-14) 12.2.0 To view detailed results, visit: https://lab.dpdk.org/results/dashboard/patchsets/34328/ UNH-IOL DPDK Community Lab To manage your email subscriptions, visit: https://lab.dpdk.org/results/dashboard/preferences/subscriptions/