From mboxrd@z Thu Jan 1 00:00:00 1970 Return-Path: Received: from mails.dpdk.org (mails.dpdk.org [217.70.189.124]) by inbox.dpdk.org (Postfix) with ESMTP id 6D2A74898B for ; Mon, 20 Oct 2025 15:54:05 +0200 (CEST) Received: from mails.dpdk.org (localhost [127.0.0.1]) by mails.dpdk.org (Postfix) with ESMTP id 67C37400D6; Mon, 20 Oct 2025 15:54:05 +0200 (CEST) Received: from mail-yx1-f98.google.com (mail-yx1-f98.google.com [74.125.224.98]) by mails.dpdk.org (Postfix) with ESMTP id D9956400D6 for ; Mon, 20 Oct 2025 15:54:03 +0200 (CEST) Received: by mail-yx1-f98.google.com with SMTP id 956f58d0204a3-63e35e48a27so1128793d50.0 for ; Mon, 20 Oct 2025 06:54:03 -0700 (PDT) DKIM-Signature: v=1; a=rsa-sha256; c=relaxed/relaxed; d=iol.unh.edu; s=unh-iol; t=1760968443; x=1761573243; darn=dpdk.org; h=references:in-reply-to:cc:to:from:subject:message-id:date:from:to :cc:subject:date:message-id:reply-to; bh=7Xz0Dks3h+RCeenXvKH475Yq/GghNHT+cDj+W0h+xs4=; b=Idx5lz/IsZC+V8HwATTQn113Bi/M+pIK8U9KeUVq8+5UvNFz3vJTG7GUYU0LyX1Z1U z4wP+UcMB7ceYwxbBWjTZoSdDYNev/CCCpLl7TqYU7AO9u1k/BWoivmnXGfUoFSKzlhB XwZrz4SnLC8xnTbX+ZNksGvYLgtBxrJPJTXGk= X-Google-DKIM-Signature: v=1; a=rsa-sha256; c=relaxed/relaxed; d=1e100.net; s=20230601; t=1760968443; x=1761573243; h=references:in-reply-to:cc:to:from:subject:message-id:date :x-gm-message-state:from:to:cc:subject:date:message-id:reply-to; bh=7Xz0Dks3h+RCeenXvKH475Yq/GghNHT+cDj+W0h+xs4=; b=TduIH4w9oT9v6id43G1a/TPAIDG0ECUXKRl+MXT5NlQ8rO4FIQXvAhckpsCKCV/o0Q zx1OCnjoFQ4aWQ0l1/2bg9Uk6NtTkbufSZnc2ZoB5ldZpzqWdNP3nThAhtNgWr4rVjIE OxeJO06GnRmW0fpazoG7lVaVpN60nXrYJnjcGU9qvmTPrF3vU+/EBLkqmEEHQBeii8K0 rJ1k/F+oZ9foQ5PTCLjwsinCM98pWV07KVcTRpLy+uMrcyY98bcLJCeKgl4+CyR/uPDj lXAcgjC3CvXYAeHpMwpucxm5RkOHFlC3T0ly23bb6Pn0FYeuyLiwN0NCLWPQs+5PLoRC 0K9g== X-Gm-Message-State: AOJu0YwzMzStWJ6Dr2hrqIpJ98QW7SBsiO7Vq4VExx9nnwjiueb1wRFc PpU1VGlRQgPxu5/CwvYaywJx+v8s5WYN9zGQAfP2xxcrV0HXPZn7yABgidsTGZMmcu5mx9eAhAK 2YqqR/4pnhh3AWhbBihuHrtSbLCNiSUEI5Zm3AdiaOpdLutLAqd/BZBegCMT2 X-Gm-Gg: ASbGncu2WjGDX5vfPH6We/VnxDI0USBjmqt0Q6mLNWmi+bPhV2+KB0WgaK859UVGKAw zqt/Y1xjBZ/g9P/pI78z2MTKSNxmOsQ9xRf3sjUMEAsPM0JqNMjcaRmW2f3+DKMD4HPZlshGoqT aYtKqjxy71NnVHuGprvAU0FMK5mHnXWRMIDC/wvX8azf5eLFg8nDBhZCbnST4R0RmT85noqh5I2 o/+qKxhkN3VNYYuALDpgbI8sZAn2PqF6IeSuVdCZNBC+WNXRpAMk6Sf7/Jk9dckqyj2+ao9vjOc iGwLBwbJS89yJHL66I+KIAeoQxryzbSysQZJXl9ajyk7AyhpnLB/8DHB1hLLkLvTD1YQ12Um1f+ 7Zsd3Jdah X-Google-Smtp-Source: AGHT+IH4GMYV7MI50nhPkxaEWPtjlLGtME1ETDP0QXXXV7p/Yuo0ypqlPpj0SaiUQavIQiHHyrLM0947J9hx X-Received: by 2002:a53:acd9:0:20b0:63e:8af:4a39 with SMTP id 956f58d0204a3-63e16139155mr9595461d50.15.1760968443149; Mon, 20 Oct 2025 06:54:03 -0700 (PDT) Received: from postal.iol.unh.edu (postal.iol.unh.edu. [2606:4100:3880:1234::84]) by smtp-relay.gmail.com with ESMTPS id 956f58d0204a3-63e267a0403sm673341d50.11.2025.10.20.06.54.03 (version=TLS1_2 cipher=ECDHE-ECDSA-AES128-GCM-SHA256 bits=128/128); Mon, 20 Oct 2025 06:54:03 -0700 (PDT) X-Relaying-Domain: iol.unh.edu Date: Mon, 20 Oct 2025 06:54:03 -0700 (PDT) Message-ID: <68f63efb.530a0220.1e3298.4e31SMTPIN_ADDED_MISSING@mx.google.com> Received: from [172.21.0.3] (unknown [172.18.0.240]) by postal.iol.unh.edu (Postfix) with ESMTP id CFEDB604D420; Mon, 20 Oct 2025 09:54:02 -0400 (EDT) Subject: |SUCCESS| pw157853 [PATCH] [v2] mbuf: optimize segment prefree From: dpdklab@iol.unh.edu To: Test Report Cc: dpdk-test-reports@iol.unh.edu In-Reply-To: <20251020120202.80114-1-mb@smartsharesystems.com> References: <20251020120202.80114-1-mb@smartsharesystems.com> Content-Type: text/plain X-BeenThere: test-report@dpdk.org X-Mailman-Version: 2.1.29 Precedence: list List-Id: automatic DPDK test reports List-Unsubscribe: , List-Archive: List-Post: List-Help: List-Subscribe: , Errors-To: test-report-bounces@dpdk.org Test-Label: iol-unit-amd64-testing Test-Status: SUCCESS http://dpdk.org/patch/157853 _Testing PASS_ Submitter: Morten Brorup Date: Monday, October 20 2025 12:02:01 DPDK git baseline: Repo:dpdk Branch: master CommitID:3e19094cb697998972e7f89bdd3ab08ea457ae1f 157853 --> testing pass Upstream job id: Generic-Unit-Test-DPDK#383570 Test environment and result as below: +-------------------------------+----------------+ | Environment | dpdk_unit_test | +===============================+================+ | Fedora Linux 41 | PASS | +-------------------------------+----------------+ | Red Hat Enterprise Linux 9.5 | PASS | +-------------------------------+----------------+ | Fedora Linux 40 | PASS | +-------------------------------+----------------+ | Fedora Linux 42 | PASS | +-------------------------------+----------------+ | CentOS Stream 9 | PASS | +-------------------------------+----------------+ | Ubuntu 20.04 | PASS | +-------------------------------+----------------+ | CentOS Stream 10 | PASS | +-------------------------------+----------------+ | Debian GNU/Linux 12 | PASS | +-------------------------------+----------------+ | Red Hat Enterprise Linux 8.10 | PASS | +-------------------------------+----------------+ | Ubuntu 24.04 | PASS | +-------------------------------+----------------+ | Ubuntu 22.04 | PASS | +-------------------------------+----------------+ | Windows Server 2022 | PASS | +-------------------------------+----------------+ Fedora Linux 41 Kernel: 5.15 Compiler: gcc gcc (GCC) 14.3.1 20250523 (Red Hat 14.3.1-1) Red Hat Enterprise Linux 9.5 Kernel: 5.15 Compiler: gcc gcc (GCC) 11.5.0 20240719 (Red Hat 11.5.0-2) Fedora Linux 40 Kernel: 5.15 Compiler: gcc gcc (GCC) 14.2.1 20240912 (Red Hat 14.2.1-3) Fedora Linux 42 Kernel: 5.15 Compiler: gcc gcc (GCC) 15.2.1 20250808 (Red Hat 15.2.1-1) CentOS Stream 9 Kernel: 5.15 Compiler: gcc gcc (GCC) 11.5.0 20240719 (Red Hat 11.5.0-11) Ubuntu 20.04 Kernel: 5.15 Compiler: gcc gcc (Ubuntu 9.4.0-1ubuntu1~20.04.2) 9.4.0 CentOS Stream 10 Kernel: 5.15 Compiler: gcc gcc (GCC) 14.2.1 20250110 (Red Hat 14.2.1-8) Debian GNU/Linux 12 Kernel: 5.15 Compiler: gcc gcc (Debian 12.2.0-14+deb12u1) 12.2.0 Red Hat Enterprise Linux 8.10 Kernel: 5.15 Compiler: gcc gcc (GCC) 8.5.0 20210514 (Red Hat 8.5.0-22) Ubuntu 24.04 Kernel: 5.15 Compiler: gcc gcc (Ubuntu 13.3.0-6ubuntu2~24.04) 13.3.0 Ubuntu 22.04 Kernel: 5.15 Compiler: gcc gcc (Ubuntu 11.4.0-1ubuntu1~22.04) 11.4.0 Windows Server 2022 Kernel: 10.0.20348.2031 Compiler: clang 15.0.7, gcc 14.1.0 (MinGW), and MSVC VS 19.39.33521 To view detailed results, visit: https://lab.dpdk.org/results/dashboard/patchsets/34329/ UNH-IOL DPDK Community Lab To manage your email subscriptions, visit: https://lab.dpdk.org/results/dashboard/preferences/subscriptions/