From mboxrd@z Thu Jan 1 00:00:00 1970 Return-Path: Received: from mails.dpdk.org (mails.dpdk.org [217.70.189.124]) by inbox.dpdk.org (Postfix) with ESMTP id 6943D4898C for ; Mon, 20 Oct 2025 16:04:01 +0200 (CEST) Received: from mails.dpdk.org (localhost [127.0.0.1]) by mails.dpdk.org (Postfix) with ESMTP id 64BE1400D6; Mon, 20 Oct 2025 16:04:01 +0200 (CEST) Received: from mail-oa1-f99.google.com (mail-oa1-f99.google.com [209.85.160.99]) by mails.dpdk.org (Postfix) with ESMTP id 18781400D6 for ; Mon, 20 Oct 2025 16:04:00 +0200 (CEST) Received: by mail-oa1-f99.google.com with SMTP id 586e51a60fabf-3799fc8ada6so1012745fac.1 for ; Mon, 20 Oct 2025 07:04:00 -0700 (PDT) DKIM-Signature: v=1; a=rsa-sha256; c=relaxed/relaxed; d=iol.unh.edu; s=unh-iol; t=1760969039; x=1761573839; darn=dpdk.org; h=references:in-reply-to:cc:to:from:subject:message-id:date:from:to :cc:subject:date:message-id:reply-to; bh=lRPpBZNOStv5YFdyKE+UUpmjIrrFxwhw64hgIJt+O/A=; b=U0UZ3sANh9ws/5Od0T+CUHYeL5rh7PjBh0SluSj+e2dVDTVhE0V3FAn6Rt8fPoG3Tf 3aCDKVACRcaTPoOSlIOy5YROwofyZJrVUwlT49uRxGKilpTh/HjeavlbZWjdqK/E8Qie V1gaSoh3xTlG66ACU59cXpqAl+V1PdfBV8Rak= X-Google-DKIM-Signature: v=1; a=rsa-sha256; c=relaxed/relaxed; d=1e100.net; s=20230601; t=1760969039; x=1761573839; h=references:in-reply-to:cc:to:from:subject:message-id:date :x-gm-message-state:from:to:cc:subject:date:message-id:reply-to; bh=lRPpBZNOStv5YFdyKE+UUpmjIrrFxwhw64hgIJt+O/A=; b=EcW/s8zGzRP2U6MfNDEnlQvwNZINZj3GN+GAhobe3y7jGDerezwejn/ZcM6H+/n8Ut X1MhQD1MMpFsYIkrSiIgakyfPzcuPdryYJB7ODw2DJcjYT8ml3NausNef0hbjPhrMZ9H c4iV08aliw5IFuqhgRUY7oZB2zQoKvMjjLOnMs6KN9m1MHeYWsuzl9eOIRAWqzf6PMM2 Exu30BuoV/1VyQ7KB2cYfgOYas67mHkElN6dRpZxLcOi63u8mhKk8RnIk6lbG8AQ1NGQ MRPuaNrB8KCrCdsK7dU1CxMSk8SmuS6qk7wJ9ZRIa2XDKad0xYBC1yke88DLl4esGlDZ lyQg== X-Gm-Message-State: AOJu0YyE+iTsSi4NBDJ/oOgoIyoh51F8vqeskkEvJ5z72yaosPAvd67S auhgYZSZYuuqx7qyJFJR1Kss2bvuzjr9mNtLfLENcfOxxKHnX/zhd7LOuKDJfUppb2fyH0sXMS5 P0NPcsx7lp6yB2yIizsioM8SQ4oaU67KO+bXssP51z4f0 X-Gm-Gg: ASbGncsxjrXg7qT/CitUxW3xh/muS1H8oCfkWd9BGMf0Y/z48QVqo4JvU1mNO7V69bT FHhic5GgCsalSzdOXhWmY02FV4g3jmLyGjOxXt58vyKpojv4e9Ji+kWj+m+e6kX4U4vRjBcD/rT iOja5esMk6V2uBKaUY2Ii5biQDbM4qGKqLzub1JoA9WIB439EtqItuW//VZhRwZk81Y9sSjLJxk qUlfognXbo9yXzLISc3vR230h+3GIWIE9btOHBQYn1Vq8Bxb93DrjXxqV1TbH591mnI5K8eFIIF BpTdsk05AxokuJSHdj/mfmuTxXLXGs6a14RbCADfxms5sTJw0AUgiZFHpg088Xsr8zSaUBGubeo 6mULxu0yRw09RRmFRvsVWZedgJ5p+sWI= X-Google-Smtp-Source: AGHT+IGpPE8vNayXEsMHWC6mVon5yLaqjdri8fXsgVL8UmWwF/AEq4z8P1QM1UNCXe2PBvBNCkbEkkTIT8lo X-Received: by 2002:a05:6870:6488:b0:332:125e:2647 with SMTP id 586e51a60fabf-3c98cf4357bmr3697188fac.9.1760969039112; Mon, 20 Oct 2025 07:03:59 -0700 (PDT) Received: from postal.iol.unh.edu (postal.iol.unh.edu. [132.177.123.84]) by smtp-relay.gmail.com with ESMTPS id 586e51a60fabf-3c9aef7fd6esm1071026fac.7.2025.10.20.07.03.59 (version=TLS1_2 cipher=ECDHE-ECDSA-AES128-GCM-SHA256 bits=128/128); Mon, 20 Oct 2025 07:03:59 -0700 (PDT) X-Relaying-Domain: iol.unh.edu Date: Mon, 20 Oct 2025 07:03:59 -0700 (PDT) Message-ID: <68f6414f.050a0220.329e39.181fSMTPIN_ADDED_MISSING@mx.google.com> Received: from [172.21.0.2] (unknown [172.18.0.240]) by postal.iol.unh.edu (Postfix) with ESMTP id 9CC18604D420; Mon, 20 Oct 2025 10:03:58 -0400 (EDT) Subject: |WARNING| pw157853 [PATCH] [v2] mbuf: optimize segment prefree From: dpdklab@iol.unh.edu To: Test Report Cc: dpdk-test-reports@iol.unh.edu In-Reply-To: <20251020120202.80114-1-mb@smartsharesystems.com> References: <20251020120202.80114-1-mb@smartsharesystems.com> Content-Type: text/plain X-BeenThere: test-report@dpdk.org X-Mailman-Version: 2.1.29 Precedence: list List-Id: automatic DPDK test reports List-Unsubscribe: , List-Archive: List-Post: List-Help: List-Subscribe: , Errors-To: test-report-bounces@dpdk.org Test-Label: iol-compile-amd64-testing Test-Status: WARNING http://dpdk.org/patch/157853 _Testing issues_ Submitter: Morten Brorup Date: Monday, October 20 2025 12:02:01 DPDK git baseline: Repo:dpdk Branch: master CommitID:3e19094cb697998972e7f89bdd3ab08ea457ae1f 157853 --> testing issues Upstream job id: Generic-DPDK-Compile-Meson#436209 Test environment and result as below: +-------------------------------+--------------------+-------------------+------------------+-------------------------+-------------------+----------------------+ | Environment | dpdk_meson_compile | dpdk_compile_spdk | dpdk_compile_ovs | dpdk_llvm_clang_compile | dpdk_msvc_compile | dpdk_mingw64_compile | +===============================+====================+===================+==================+=========================+===================+======================+ | CentOS Stream 9 | PASS | WARN | SKIPPED | SKIPPED | SKIPPED | SKIPPED | +-------------------------------+--------------------+-------------------+------------------+-------------------------+-------------------+----------------------+ | CentOS Stream 10 | PASS | SKIPPED | SKIPPED | SKIPPED | SKIPPED | SKIPPED | +-------------------------------+--------------------+-------------------+------------------+-------------------------+-------------------+----------------------+ | Fedora Linux 42 | PASS | WARN | PASS | SKIPPED | SKIPPED | SKIPPED | +-------------------------------+--------------------+-------------------+------------------+-------------------------+-------------------+----------------------+ | Debian GNU/Linux 12 | PASS | WARN | SKIPPED | SKIPPED | SKIPPED | SKIPPED | +-------------------------------+--------------------+-------------------+------------------+-------------------------+-------------------+----------------------+ | Red Hat Enterprise Linux 8.10 | PASS | SKIPPED | SKIPPED | SKIPPED | SKIPPED | SKIPPED | +-------------------------------+--------------------+-------------------+------------------+-------------------------+-------------------+----------------------+ | Ubuntu 20.04 | PASS | SKIPPED | SKIPPED | SKIPPED | SKIPPED | SKIPPED | +-------------------------------+--------------------+-------------------+------------------+-------------------------+-------------------+----------------------+ | openSUSE Leap 15.6 | PASS | SKIPPED | SKIPPED | SKIPPED | SKIPPED | SKIPPED | +-------------------------------+--------------------+-------------------+------------------+-------------------------+-------------------+----------------------+ | Red Hat Enterprise Linux 9.5 | PASS | SKIPPED | SKIPPED | SKIPPED | SKIPPED | SKIPPED | +-------------------------------+--------------------+-------------------+------------------+-------------------------+-------------------+----------------------+ | Ubuntu 22.04 | PASS | WARN | SKIPPED | SKIPPED | SKIPPED | SKIPPED | +-------------------------------+--------------------+-------------------+------------------+-------------------------+-------------------+----------------------+ | Ubuntu 24.04 | PASS | WARN | PASS | SKIPPED | SKIPPED | SKIPPED | +-------------------------------+--------------------+-------------------+------------------+-------------------------+-------------------+----------------------+ | Alpine Linux 3.22.0 | PASS | SKIPPED | SKIPPED | SKIPPED | SKIPPED | SKIPPED | +-------------------------------+--------------------+-------------------+------------------+-------------------------+-------------------+----------------------+ | FreeBSD 14.2 | PASS | SKIPPED | SKIPPED | SKIPPED | SKIPPED | SKIPPED | +-------------------------------+--------------------+-------------------+------------------+-------------------------+-------------------+----------------------+ | Windows Server 2022 | SKIPPED | SKIPPED | SKIPPED | PASS | PASS | PASS | +-------------------------------+--------------------+-------------------+------------------+-------------------------+-------------------+----------------------+ ==== 20 line log output for Ubuntu 24.04 (dpdk_compile_spdk): ==== --- Failed to get log output --- ==== End log output ==== CentOS Stream 9 Kernel: 5.15 Compiler: gcc gcc (GCC) 11.5.0 20240719 (Red Hat 11.5.0-11) CentOS Stream 10 Kernel: 5.15 Compiler: gcc gcc (GCC) 14.2.1 20250110 (Red Hat 14.2.1-8) Fedora Linux 42 Kernel: 5.15 Compiler: clang gcc (GCC) 15.2.1 20250808 (Red Hat 15.2.1-1) Debian GNU/Linux 12 Kernel: 5.15 Compiler: gcc gcc (Debian 12.2.0-14+deb12u1) 12.2.0 Red Hat Enterprise Linux 8.10 Kernel: 5.15 Compiler: gcc gcc (GCC) 8.5.0 20210514 (Red Hat 8.5.0-22) Ubuntu 20.04 Kernel: 4.19 Compiler: gcc gcc (Ubuntu 9.4.0-1ubuntu1~20.04.2) 9.4.0 openSUSE Leap 15.6 Kernel: 5.15 Compiler: gcc gcc (SUSE Linux) 7.5.0 Red Hat Enterprise Linux 9.5 Kernel: 5.15 Compiler: gcc gcc (GCC) 11.5.0 20240719 (Red Hat 11.5.0-2) Ubuntu 22.04 Kernel: 5.15 Compiler: gcc gcc (Ubuntu 11.4.0-1ubuntu1~22.04) 11.4.0 Ubuntu 24.04 Kernel: 5.15 Compiler: gcc gcc (Ubuntu 13.3.0-6ubuntu2~24.04) 13.3.0 Alpine Linux 3.22.0 Kernel: 5.15 Compiler: gcc gcc (Alpine 14.2.0) 14.2.0 FreeBSD 14.2 Kernel: 14.2-RELEASE Compiler: clang 18.1.6 Windows Server 2022 Kernel: 10.0.20348.2031 Compiler: clang 15.0.7, gcc 14.1.0 (MinGW), and MSVC VS 19.39.33521 To view detailed results, visit: https://lab.dpdk.org/results/dashboard/patchsets/34329/ UNH-IOL DPDK Community Lab To manage your email subscriptions, visit: https://lab.dpdk.org/results/dashboard/preferences/subscriptions/