From mboxrd@z Thu Jan 1 00:00:00 1970 Return-Path: Received: from mails.dpdk.org (mails.dpdk.org [217.70.189.124]) by inbox.dpdk.org (Postfix) with ESMTP id 7BCAB4898C for ; Mon, 20 Oct 2025 16:04:22 +0200 (CEST) Received: from mails.dpdk.org (localhost [127.0.0.1]) by mails.dpdk.org (Postfix) with ESMTP id 751F7400D6; Mon, 20 Oct 2025 16:04:22 +0200 (CEST) Received: from mail-pg1-f227.google.com (mail-pg1-f227.google.com [209.85.215.227]) by mails.dpdk.org (Postfix) with ESMTP id F175E400D6 for ; Mon, 20 Oct 2025 16:04:21 +0200 (CEST) Received: by mail-pg1-f227.google.com with SMTP id 41be03b00d2f7-b55517e74e3so4511220a12.2 for ; Mon, 20 Oct 2025 07:04:21 -0700 (PDT) DKIM-Signature: v=1; a=rsa-sha256; c=relaxed/relaxed; d=iol.unh.edu; s=unh-iol; t=1760969061; x=1761573861; darn=dpdk.org; h=references:in-reply-to:cc:to:from:subject:message-id:date:from:to :cc:subject:date:message-id:reply-to; bh=xv0AcAWdi9qUqJ57+XmPEOYEKqyYIolrpb3LoJuTIDw=; b=Fdcdjs0hQadGUWBEurTU0rVepJvrflh1LUmlKcqkOy44Q1RZT10mmVbYMc5nhn6933 4d68HoGYMjopxdlzT1rPg19Y8EQMxizKtcPSRgjmFS1VRCTIQpIFGupUesWCTj4dvN6/ 6CTPhI2FHjOvv2THiA8b60Bl9x9bmZdsKLCxY= X-Google-DKIM-Signature: v=1; a=rsa-sha256; c=relaxed/relaxed; d=1e100.net; s=20230601; t=1760969061; x=1761573861; h=references:in-reply-to:cc:to:from:subject:message-id:date :x-gm-message-state:from:to:cc:subject:date:message-id:reply-to; bh=xv0AcAWdi9qUqJ57+XmPEOYEKqyYIolrpb3LoJuTIDw=; b=hWwzOYj1ztazLW2E0PNPP6YfhgxjWKAQl5CGy/PrEDeEH4Lhfo7TUu3AERvItrTJ3D d1bepsDem7Bz7AhfQRm1Zw9SG7kJFsVhojjQzvcbBgoabsIWlwnxVM7/sZrGcKZ9tzde dXR3I8A0kCbnFhuQ6hDnR1YXArK0MFyw3sG+z73Q61RzSlTIB6A/87Vt9KdZldWGNnvg WuPtzrTJOH+EYtNmUMLjPqwhCBYdDomPhHsUfKrhH8+7wLV/DqhsX5BPE3ItPdqgx4Kt /4S7RppSPsne6SXVqqzvV3nqjt7dDCNKgmp3awqDOlVZxgTQqQsBhQuceVkv+0SSoi5u 7XPQ== X-Gm-Message-State: AOJu0YyvmaTbsv6vevKHG7KwtcEzYQ9SKta43GHqPq1/FqY+rbVA6EUW FF42hayvai7eMcBQt2SJNc1sBBfq0KEjN9dmnDpYpfJuKE17Ll0ey00tOL9PXcO5VbAU6NULGet VwDnzveK8DpIR8KtjdEz/AN0CUGp754xkJOf9Ycy4TBiOMiyjbQ0Ke5Rt2aj3 X-Gm-Gg: ASbGncvQF5pzBRS0dv6wbwFCTsF0qsqP93H49IC/puCFXEMMkRmGBu9LxSG7BTR/H7a s3LeljeurZHVC9qpOUQE/vhh0XJl2YFJFE6qc1a07Au8Yt5eA3NE2ompYBosw5ekXA0Pd0YUYXb I7M0Gf1pNT2XVXYmICOVRsLqPAQPqfXIqsW5kPqd0NrRO4qdC7RVpmTbUSeafehSUYHBYIeuFDV BeRORtB5Vm4DVjyDVecmkeDtNp5B27qn6VDTvrboAKwfOodVMNJ72/UnX7JX8wfd1gnCqIWhgv5 j8NjBY7k4oKQme8vMBVzYnq9jhXLnKNVZB+9WMeWx5lXx0LOBA4D64ttDt6ah5e1z9oCW9ncIAh wVWFhlHTh X-Google-Smtp-Source: AGHT+IGvgdjj1i+m1SvoJlrz3eH/jVOPpmSUtxrb4TJoLw37IoXWVQ6mSEaJVyy838sdWv+bhIiUKE0sB1ou X-Received: by 2002:a17:902:e84b:b0:290:c0ed:de42 with SMTP id d9443c01a7336-290caf8582emr214096545ad.36.1760969061091; Mon, 20 Oct 2025 07:04:21 -0700 (PDT) Received: from postal.iol.unh.edu (postal.iol.unh.edu. [2606:4100:3880:1234::84]) by smtp-relay.gmail.com with ESMTPS id d9443c01a7336-29246feb579sm10540295ad.7.2025.10.20.07.04.20 (version=TLS1_2 cipher=ECDHE-ECDSA-AES128-GCM-SHA256 bits=128/128); Mon, 20 Oct 2025 07:04:21 -0700 (PDT) X-Relaying-Domain: iol.unh.edu Date: Mon, 20 Oct 2025 07:04:21 -0700 (PDT) Message-ID: <68f64165.170a0220.7cc2a.1000SMTPIN_ADDED_MISSING@mx.google.com> Received: from [172.21.0.2] (unknown [172.18.0.240]) by postal.iol.unh.edu (Postfix) with ESMTP id 5F739604D420; Mon, 20 Oct 2025 10:04:20 -0400 (EDT) Subject: |WARNING| pw157853 [PATCH] [v2] mbuf: optimize segment prefree From: dpdklab@iol.unh.edu To: Test Report Cc: dpdk-test-reports@iol.unh.edu In-Reply-To: <20251020120202.80114-1-mb@smartsharesystems.com> References: <20251020120202.80114-1-mb@smartsharesystems.com> Content-Type: text/plain X-BeenThere: test-report@dpdk.org X-Mailman-Version: 2.1.29 Precedence: list List-Id: automatic DPDK test reports List-Unsubscribe: , List-Archive: List-Post: List-Help: List-Subscribe: , Errors-To: test-report-bounces@dpdk.org Test-Label: iol-compile-amd64-testing Test-Status: WARNING http://dpdk.org/patch/157853 _Testing issues_ Submitter: Morten Brorup Date: Monday, October 20 2025 12:02:01 DPDK git baseline: Repo:dpdk Branch: master CommitID:3e19094cb697998972e7f89bdd3ab08ea457ae1f 157853 --> testing issues Upstream job id: Generic-DPDK-Compile-Meson#436201 Test environment and result as below: +-------------------------------+--------------------+-------------------+------------------+-------------------------+-------------------+----------------------+ | Environment | dpdk_meson_compile | dpdk_compile_spdk | dpdk_compile_ovs | dpdk_llvm_clang_compile | dpdk_msvc_compile | dpdk_mingw64_compile | +===============================+====================+===================+==================+=========================+===================+======================+ | CentOS Stream 9 | PASS | WARN | SKIPPED | SKIPPED | SKIPPED | SKIPPED | +-------------------------------+--------------------+-------------------+------------------+-------------------------+-------------------+----------------------+ | CentOS Stream 10 | PASS | SKIPPED | SKIPPED | SKIPPED | SKIPPED | SKIPPED | +-------------------------------+--------------------+-------------------+------------------+-------------------------+-------------------+----------------------+ | Fedora Linux 42 | PASS | WARN | PASS | SKIPPED | SKIPPED | SKIPPED | +-------------------------------+--------------------+-------------------+------------------+-------------------------+-------------------+----------------------+ | Debian GNU/Linux 12 | PASS | WARN | SKIPPED | SKIPPED | SKIPPED | SKIPPED | +-------------------------------+--------------------+-------------------+------------------+-------------------------+-------------------+----------------------+ | Red Hat Enterprise Linux 8.10 | PASS | SKIPPED | SKIPPED | SKIPPED | SKIPPED | SKIPPED | +-------------------------------+--------------------+-------------------+------------------+-------------------------+-------------------+----------------------+ | Ubuntu 20.04 | PASS | SKIPPED | SKIPPED | SKIPPED | SKIPPED | SKIPPED | +-------------------------------+--------------------+-------------------+------------------+-------------------------+-------------------+----------------------+ | openSUSE Leap 15.6 | PASS | SKIPPED | SKIPPED | SKIPPED | SKIPPED | SKIPPED | +-------------------------------+--------------------+-------------------+------------------+-------------------------+-------------------+----------------------+ | Red Hat Enterprise Linux 9.5 | PASS | SKIPPED | SKIPPED | SKIPPED | SKIPPED | SKIPPED | +-------------------------------+--------------------+-------------------+------------------+-------------------------+-------------------+----------------------+ | Ubuntu 22.04 | PASS | WARN | SKIPPED | SKIPPED | SKIPPED | SKIPPED | +-------------------------------+--------------------+-------------------+------------------+-------------------------+-------------------+----------------------+ | Ubuntu 24.04 | PASS | WARN | PASS | SKIPPED | SKIPPED | SKIPPED | +-------------------------------+--------------------+-------------------+------------------+-------------------------+-------------------+----------------------+ | Alpine Linux 3.22.0 | PASS | SKIPPED | SKIPPED | SKIPPED | SKIPPED | SKIPPED | +-------------------------------+--------------------+-------------------+------------------+-------------------------+-------------------+----------------------+ | FreeBSD 14.2 | PASS | SKIPPED | SKIPPED | SKIPPED | SKIPPED | SKIPPED | +-------------------------------+--------------------+-------------------+------------------+-------------------------+-------------------+----------------------+ | Windows Server 2022 | SKIPPED | SKIPPED | SKIPPED | PASS | PASS | PASS | +-------------------------------+--------------------+-------------------+------------------+-------------------------+-------------------+----------------------+ ==== 20 line log output for Ubuntu 24.04 (dpdk_compile_spdk): ==== --- Failed to get log output --- ==== End log output ==== CentOS Stream 9 Kernel: 5.15 Compiler: gcc gcc (GCC) 11.5.0 20240719 (Red Hat 11.5.0-11) CentOS Stream 10 Kernel: 5.15 Compiler: gcc gcc (GCC) 14.2.1 20250110 (Red Hat 14.2.1-8) Fedora Linux 42 Kernel: 5.15 Compiler: clang gcc (GCC) 15.2.1 20250808 (Red Hat 15.2.1-1) Debian GNU/Linux 12 Kernel: 5.15 Compiler: gcc gcc (Debian 12.2.0-14+deb12u1) 12.2.0 Red Hat Enterprise Linux 8.10 Kernel: 5.15 Compiler: gcc gcc (GCC) 8.5.0 20210514 (Red Hat 8.5.0-22) Ubuntu 20.04 Kernel: 4.19 Compiler: gcc gcc (Ubuntu 9.4.0-1ubuntu1~20.04.2) 9.4.0 openSUSE Leap 15.6 Kernel: 5.15 Compiler: gcc gcc (SUSE Linux) 7.5.0 Red Hat Enterprise Linux 9.5 Kernel: 5.15 Compiler: gcc gcc (GCC) 11.5.0 20240719 (Red Hat 11.5.0-2) Ubuntu 22.04 Kernel: 5.15 Compiler: gcc gcc (Ubuntu 11.4.0-1ubuntu1~22.04) 11.4.0 Ubuntu 24.04 Kernel: 5.15 Compiler: gcc gcc (Ubuntu 13.3.0-6ubuntu2~24.04) 13.3.0 Alpine Linux 3.22.0 Kernel: 5.15 Compiler: gcc gcc (Alpine 14.2.0) 14.2.0 FreeBSD 14.2 Kernel: 14.2-RELEASE Compiler: clang 18.1.6 Windows Server 2022 Kernel: 10.0.20348.2031 Compiler: clang 15.0.7, gcc 14.1.0 (MinGW), and MSVC VS 19.39.33521 To view detailed results, visit: https://lab.dpdk.org/results/dashboard/patchsets/34329/ UNH-IOL DPDK Community Lab To manage your email subscriptions, visit: https://lab.dpdk.org/results/dashboard/preferences/subscriptions/