From mboxrd@z Thu Jan 1 00:00:00 1970 Return-Path: Received: from mails.dpdk.org (mails.dpdk.org [217.70.189.124]) by inbox.dpdk.org (Postfix) with ESMTP id BA7BF4898C for ; Mon, 20 Oct 2025 16:33:20 +0200 (CEST) Received: from mails.dpdk.org (localhost [127.0.0.1]) by mails.dpdk.org (Postfix) with ESMTP id B2B40400D6; Mon, 20 Oct 2025 16:33:20 +0200 (CEST) Received: from mail-yw1-f226.google.com (mail-yw1-f226.google.com [209.85.128.226]) by mails.dpdk.org (Postfix) with ESMTP id 710FE400D6 for ; Mon, 20 Oct 2025 16:33:19 +0200 (CEST) Received: by mail-yw1-f226.google.com with SMTP id 00721157ae682-78487b0960bso19434547b3.2 for ; Mon, 20 Oct 2025 07:33:19 -0700 (PDT) DKIM-Signature: v=1; a=rsa-sha256; c=relaxed/relaxed; d=iol.unh.edu; s=unh-iol; t=1760970799; x=1761575599; darn=dpdk.org; h=references:in-reply-to:cc:to:from:subject:message-id:date:from:to :cc:subject:date:message-id:reply-to; bh=1zk+nuNKuphHP0B0IZ2XK2DlhByGmRnd0KYpbSV6Hm8=; b=b+/yuuupvg+tLqI3i9RqCoQmKa7Lk1C2nr+7ribFxXdxz20eC9wOBN8SHIvNRqGm/y Yvcvl8MEL/T8agy6jQ6MxrWHnVYN/a+0p3DX9ET+Xy51AC32HnxuXfTogAQzTsu1gadp +zZrnP7XGe87DZx2t7VpOtkrC7+8ZYHMCaGqs= X-Google-DKIM-Signature: v=1; a=rsa-sha256; c=relaxed/relaxed; d=1e100.net; s=20230601; t=1760970799; x=1761575599; h=references:in-reply-to:cc:to:from:subject:message-id:date :x-gm-message-state:from:to:cc:subject:date:message-id:reply-to; bh=1zk+nuNKuphHP0B0IZ2XK2DlhByGmRnd0KYpbSV6Hm8=; b=UUxpN+SVtjE+RAwAeD955WqyFf2jTW/gwxfflfaoZzVd4cyCJQcrdS0tWKNtANQUJC lGWjNKdqaT84HXeqDwBQNhwBfDZZCIQ3y0jsmwQLYmLFMDKJS0U89vfXUueI4e7liCm6 2GtmVJMPj9d4eXY+60dfLdusxjPyOC5p0c2YX3oJK6P5L7BgiCrm1IS2/MUtP/n1r0dy axJF+PYBuOr4Y/HEa6/w+uicY+6QYnAF7NQSyK/ppqWC6jl6m8HXggD5p6FfFPMC0YpQ T179yJse6fqoI9Ejq8mhaEbEuHtVkNnMQAk1ptthyT7CATtWQ9JCyHAVZ/OApfB0whqu 1Jlw== X-Gm-Message-State: AOJu0Yyz2q63MS5KIkXIlfaWUPRSy3twAHcJZwJOMwNccZ28adOEU+Gq u2ZojC6bS5ccWvDmSYuZq/DDneIsBUGnQ1mBJNaDEBLqy2AJldq+APDM8Bc5sI78cDjzy9oexAL /1hudVwM+TkLtSmeIViuX98wmvA2SZfhhDQZ5mv2wMYiKSR5oKqr9lseS5Wgx X-Gm-Gg: ASbGncuoME77XQisAJufioY+b4zHedJZCTT6VN91m6TaIr2eA3yKMO5QY2M/2OHj/xW qRamMXCswKvE7CruLkd5KyMxCuWwdAFU2n53ITgXeT2+Pg6VdKzdeOJOFbxR2KCEe+o71nE+bSx UX4rTHBPghugNfAYJy+TmZzk1QlxUudiHip2sglsAigVl/hD/CZTHRagWKWQ1TgeZz1WDg31vxc AUclQ6ObocFj4uRGAOhJwVoO3LUKRgba/aXoAhwFtZzmZDbqeQFo9nE/V4QCLqOmJWAAfCqCe4x wh9MrLdUdKQCIVAsE6VH3VNcFxPZncBRb2O3bJrbXAR3KY7bkzcLuLPiBw8hnxEULGgStAvbaMv ilMiHkw9B X-Google-Smtp-Source: AGHT+IG7xMuim81M+ZBBhXOoyCiawGOT2yg8VmPGUNLWjak2SDPlLmJxFCv/hkMbTkDehJHsTh1QEctVfgUY X-Received: by 2002:a05:690e:1342:b0:636:17d6:a30 with SMTP id 956f58d0204a3-63e1617af64mr10806498d50.15.1760970798571; Mon, 20 Oct 2025 07:33:18 -0700 (PDT) Received: from postal.iol.unh.edu (postal.iol.unh.edu. [2606:4100:3880:1234::84]) by smtp-relay.gmail.com with ESMTPS id 00721157ae682-78463762cbfsm6948307b3.5.2025.10.20.07.33.18 (version=TLS1_2 cipher=ECDHE-ECDSA-AES128-GCM-SHA256 bits=128/128); Mon, 20 Oct 2025 07:33:18 -0700 (PDT) X-Relaying-Domain: iol.unh.edu Date: Mon, 20 Oct 2025 07:33:18 -0700 (PDT) Message-ID: <68f6482e.810a0220.101824.601fSMTPIN_ADDED_MISSING@mx.google.com> Received: from [172.21.0.9] (unknown [172.18.0.240]) by postal.iol.unh.edu (Postfix) with ESMTP id 415336051830; Mon, 20 Oct 2025 10:33:18 -0400 (EDT) Subject: |SUCCESS| pw157854 [PATCH] [v3,1/1] lib/eal/riscv: optimize rte_memc From: dpdklab@iol.unh.edu To: Test Report Cc: dpdk-test-reports@iol.unh.edu In-Reply-To: <20251020120832.1377782-2-chen.qiguo@zte.com.cn> References: <20251020120832.1377782-2-chen.qiguo@zte.com.cn> Content-Type: text/plain X-BeenThere: test-report@dpdk.org X-Mailman-Version: 2.1.29 Precedence: list List-Id: automatic DPDK test reports List-Unsubscribe: , List-Archive: List-Post: List-Help: List-Subscribe: , Errors-To: test-report-bounces@dpdk.org Test-Label: iol-unit-amd64-testing Test-Status: SUCCESS http://dpdk.org/patch/157854 _Testing PASS_ Submitter: Qiguo Chen Date: Monday, October 20 2025 12:08:32 DPDK git baseline: Repo:dpdk Branch: master CommitID:3e19094cb697998972e7f89bdd3ab08ea457ae1f 157854 --> testing pass Upstream job id: Generic-Unit-Test-DPDK#383596 Test environment and result as below: +-------------------------------+----------------+ | Environment | dpdk_unit_test | +===============================+================+ | CentOS Stream 9 | PASS | +-------------------------------+----------------+ | Fedora Linux 40 | PASS | +-------------------------------+----------------+ | Fedora Linux 42 | PASS | +-------------------------------+----------------+ | Fedora Linux 41 | PASS | +-------------------------------+----------------+ | Ubuntu 24.04 | PASS | +-------------------------------+----------------+ | Debian GNU/Linux 12 | PASS | +-------------------------------+----------------+ | Red Hat Enterprise Linux 9.5 | PASS | +-------------------------------+----------------+ | Red Hat Enterprise Linux 8.10 | PASS | +-------------------------------+----------------+ | CentOS Stream 10 | PASS | +-------------------------------+----------------+ | Ubuntu 22.04 | PASS | +-------------------------------+----------------+ | Ubuntu 20.04 | PASS | +-------------------------------+----------------+ | Windows Server 2022 | PASS | +-------------------------------+----------------+ CentOS Stream 9 Kernel: 5.15 Compiler: gcc gcc (GCC) 11.5.0 20240719 (Red Hat 11.5.0-11) Fedora Linux 40 Kernel: 5.15 Compiler: clang gcc (GCC) 14.2.1 20240912 (Red Hat 14.2.1-3) Fedora Linux 42 Kernel: 5.15 Compiler: gcc gcc (GCC) 15.2.1 20250808 (Red Hat 15.2.1-1) Fedora Linux 41 Kernel: 5.15 Compiler: clang gcc (GCC) 14.3.1 20250523 (Red Hat 14.3.1-1) Ubuntu 24.04 Kernel: 5.15 Compiler: gcc gcc (Ubuntu 13.3.0-6ubuntu2~24.04) 13.3.0 Debian GNU/Linux 12 Kernel: 5.15 Compiler: gcc gcc (Debian 12.2.0-14+deb12u1) 12.2.0 Red Hat Enterprise Linux 9.5 Kernel: 5.15 Compiler: gcc gcc (GCC) 11.5.0 20240719 (Red Hat 11.5.0-2) Red Hat Enterprise Linux 8.10 Kernel: 5.15 Compiler: gcc gcc (GCC) 8.5.0 20210514 (Red Hat 8.5.0-22) CentOS Stream 10 Kernel: 5.15 Compiler: gcc gcc (GCC) 14.2.1 20250110 (Red Hat 14.2.1-8) Ubuntu 22.04 Kernel: 5.15 Compiler: gcc gcc (Ubuntu 11.4.0-1ubuntu1~22.04) 11.4.0 Ubuntu 20.04 Kernel: 5.15 Compiler: gcc gcc (Ubuntu 9.4.0-1ubuntu1~20.04.2) 9.4.0 Windows Server 2022 Kernel: 10.0.20348.2031 Compiler: clang 15.0.7, gcc 14.1.0 (MinGW), and MSVC VS 19.39.33521 To view detailed results, visit: https://lab.dpdk.org/results/dashboard/patchsets/34330/ UNH-IOL DPDK Community Lab To manage your email subscriptions, visit: https://lab.dpdk.org/results/dashboard/preferences/subscriptions/