automatic DPDK test reports
 help / color / mirror / Atom feed
From: dpdklab@iol.unh.edu
To: Test Report <test-report@dpdk.org>
Cc: dpdk-test-reports@iol.unh.edu
Subject: |SUCCESS| pw157854 [PATCH] [v3,1/1] lib/eal/riscv: optimize rte_memc
Date: Mon, 20 Oct 2025 07:55:59 -0700 (PDT)	[thread overview]
Message-ID: <68f64d7f.050a0220.ee92b.af17SMTPIN_ADDED_MISSING@mx.google.com> (raw)
In-Reply-To: <20251020120832.1377782-2-chen.qiguo@zte.com.cn>

Test-Label: iol-sample-apps-testing
Test-Status: SUCCESS
http://dpdk.org/patch/157854

_Testing PASS_

Submitter: Qiguo Chen <chen.qiguo@zte.com.cn>
Date: Monday, October 20 2025 12:08:32 
DPDK git baseline: Repo:dpdk
  Branch: master
  CommitID:3e19094cb697998972e7f89bdd3ab08ea457ae1f

157854 --> testing pass

Upstream job id: ACVP-FIPS-testing#11499

Test environment and result as below:

+--------------+----------------------+----------------------+
| Environment  | compressdev_zlib_pmd | dpdk_fips_validation |
+==============+======================+======================+
| Ubuntu 22.04 | PASS                 | SKIPPED              |
+--------------+----------------------+----------------------+
| Ubuntu 20.04 | SKIPPED              | PASS                 |
+--------------+----------------------+----------------------+


Ubuntu 22.04
	Kernel: 5.15
	Compiler: gcc gcc (Ubuntu 11.4.0-1ubuntu1~22.04.2) 11.4.0

Ubuntu 20.04
	Kernel: 5.15
	Compiler: gcc gcc (Ubuntu 9.4.0-1ubuntu1~20.04.2) 9.4.0

To view detailed results, visit:
https://lab.dpdk.org/results/dashboard/patchsets/34330/

UNH-IOL DPDK Community Lab

To manage your email subscriptions, visit: 
https://lab.dpdk.org/results/dashboard/preferences/subscriptions/

  parent reply	other threads:[~2025-10-20 14:56 UTC|newest]

Thread overview: 21+ messages / expand[flat|nested]  mbox.gz  Atom feed  top
     [not found] <20251020120832.1377782-2-chen.qiguo@zte.com.cn>
2025-10-20 11:49 ` |SUCCESS| pw157854 [PATCH v3 1/1] lib/eal/riscv: optimize rte_memcpy with RISCV vector and zicbop extensions qemudev
2025-10-20 11:54 ` qemudev
2025-10-20 12:24 ` checkpatch
2025-10-20 12:54 ` |PENDING| pw157854 [PATCH] [v3,1/1] lib/eal/riscv: optimize rte_memc dpdklab
2025-10-20 12:58 ` |SUCCESS| " dpdklab
2025-10-20 13:02 ` dpdklab
2025-10-20 13:17 ` dpdklab
2025-10-20 13:20 ` dpdklab
2025-10-20 13:30 ` |SUCCESS| pw157854 [PATCH v3 1/1] lib/eal/riscv: optimize rte_memcpy with RISCV vector and zicbop extensions 0-day Robot
2025-10-20 13:30 ` 0-day Robot
2025-10-20 13:31 ` |SUCCESS| pw157854 [PATCH] [v3,1/1] lib/eal/riscv: optimize rte_memc dpdklab
2025-10-20 13:39 ` |PENDING| " dpdklab
2025-10-20 13:51 ` |SUCCESS| " dpdklab
2025-10-20 13:51 ` dpdklab
2025-10-20 13:52 ` |PENDING| " dpdklab
2025-10-20 14:05 ` dpdklab
2025-10-20 14:32 ` |SUCCESS| " dpdklab
2025-10-20 14:33 ` dpdklab
2025-10-20 14:55 ` dpdklab [this message]
2025-10-20 15:02 ` |WARNING| " dpdklab
2025-10-20 15:02 ` |SUCCESS| " dpdklab

Reply instructions:

You may reply publicly to this message via plain-text email
using any one of the following methods:

* Save the following mbox file, import it into your mail client,
  and reply-to-all from there: mbox

  Avoid top-posting and favor interleaved quoting:
  https://en.wikipedia.org/wiki/Posting_style#Interleaved_style

* Reply using the --to, --cc, and --in-reply-to
  switches of git-send-email(1):

  git send-email \
    --in-reply-to=68f64d7f.050a0220.ee92b.af17SMTPIN_ADDED_MISSING@mx.google.com \
    --to=dpdklab@iol.unh.edu \
    --cc=dpdk-test-reports@iol.unh.edu \
    --cc=test-report@dpdk.org \
    /path/to/YOUR_REPLY

  https://kernel.org/pub/software/scm/git/docs/git-send-email.html

* If your mail client supports setting the In-Reply-To header
  via mailto: links, try the mailto: link
Be sure your reply has a Subject: header at the top and a blank line before the message body.
This is a public inbox, see mirroring instructions
for how to clone and mirror all data and code used for this inbox;
as well as URLs for NNTP newsgroup(s).