automatic DPDK test reports
 help / color / mirror / Atom feed
From: dpdklab@iol.unh.edu
To: Test Report <test-report@dpdk.org>
Cc: dpdk-test-reports@iol.unh.edu
Subject: |WARNING| pw157856-157857 [PATCH] [v4,2/2] mailmap: sort mailmap
Date: Mon, 20 Oct 2025 07:56:55 -0700 (PDT)	[thread overview]
Message-ID: <68f64db7.170a0220.33dc05.1b49SMTPIN_ADDED_MISSING@mx.google.com> (raw)
In-Reply-To: <20251020140805.1361249-3-bruce.richardson@intel.com>

Test-Label: iol-compile-amd64-testing
Test-Status: WARNING
http://dpdk.org/patch/157857

_Testing issues_

Submitter: Bruce Richardson <bruce.richardson@intel.com>
Date: Monday, October 20 2025 14:08:02 
DPDK git baseline: Repo:dpdk
  Branch: master
  CommitID:3e19094cb697998972e7f89bdd3ab08ea457ae1f

157856-157857 --> testing issues

Upstream job id: Generic-DPDK-Compile-Meson#436287

Test environment and result as below:

+-------------------------------+--------------------+-------------------+-------------------+------------------+
|          Environment          | dpdk_meson_compile | dpdk_msvc_compile | dpdk_compile_spdk | dpdk_compile_ovs |
+===============================+====================+===================+===================+==================+
| Ubuntu 20.04                  | PASS               | SKIPPED           | SKIPPED           | SKIPPED          |
+-------------------------------+--------------------+-------------------+-------------------+------------------+
| FreeBSD 14.2                  | PASS               | SKIPPED           | SKIPPED           | SKIPPED          |
+-------------------------------+--------------------+-------------------+-------------------+------------------+
| CentOS Stream 9               | PEND               | SKIPPED           | PEND              | SKIPPED          |
+-------------------------------+--------------------+-------------------+-------------------+------------------+
| CentOS Stream 10              | PASS               | SKIPPED           | SKIPPED           | SKIPPED          |
+-------------------------------+--------------------+-------------------+-------------------+------------------+
| Fedora Linux 42               | PEND               | SKIPPED           | PEND              | PEND             |
+-------------------------------+--------------------+-------------------+-------------------+------------------+
| Debian GNU/Linux 12           | PASS               | SKIPPED           | WARN              | SKIPPED          |
+-------------------------------+--------------------+-------------------+-------------------+------------------+
| openSUSE Leap 15.6            | PEND               | SKIPPED           | SKIPPED           | SKIPPED          |
+-------------------------------+--------------------+-------------------+-------------------+------------------+
| Red Hat Enterprise Linux 8.10 | PASS               | SKIPPED           | SKIPPED           | SKIPPED          |
+-------------------------------+--------------------+-------------------+-------------------+------------------+
| Red Hat Enterprise Linux 9.5  | PASS               | SKIPPED           | SKIPPED           | SKIPPED          |
+-------------------------------+--------------------+-------------------+-------------------+------------------+
| Ubuntu 22.04                  | PEND               | SKIPPED           | PEND              | SKIPPED          |
+-------------------------------+--------------------+-------------------+-------------------+------------------+
| Windows Server 2022           | SKIPPED            | PEND              | SKIPPED           | SKIPPED          |
+-------------------------------+--------------------+-------------------+-------------------+------------------+

==== 20 line log output for Debian GNU/Linux 12 (dpdk_compile_spdk): ====
 --- Failed to get log output --- 
==== End log output ====

Ubuntu 20.04
	Kernel: 4.19
	Compiler: gcc gcc (Ubuntu 9.4.0-1ubuntu1~20.04.2) 9.4.0

FreeBSD 14.2
	Kernel: 14.2-RELEASE
	Compiler: clang 18.1.6

CentOS Stream 9
	Kernel: 5.15
	Compiler: gcc gcc (GCC) 11.5.0 20240719 (Red Hat 11.5.0-11)

CentOS Stream 10
	Kernel: 5.15
	Compiler: gcc gcc (GCC) 14.2.1 20250110 (Red Hat 14.2.1-8)

Fedora Linux 42
	Kernel: 5.15
	Compiler: clang gcc (GCC) 15.2.1 20250808 (Red Hat 15.2.1-1)

Debian GNU/Linux 12
	Kernel: 5.15
	Compiler: gcc gcc (Debian 12.2.0-14+deb12u1) 12.2.0

openSUSE Leap 15.6
	Kernel: 5.15
	Compiler: gcc gcc (SUSE Linux) 7.5.0

Red Hat Enterprise Linux 8.10
	Kernel: 5.15
	Compiler: gcc gcc (GCC) 8.5.0 20210514 (Red Hat 8.5.0-22)

Red Hat Enterprise Linux 9.5
	Kernel: 5.15
	Compiler: gcc gcc (GCC) 11.5.0 20240719 (Red Hat 11.5.0-2)

Ubuntu 22.04
	Kernel: 5.15
	Compiler: gcc gcc (Ubuntu 11.4.0-1ubuntu1~22.04) 11.4.0

Windows Server 2022
	Kernel: 10.0.20348.2031
	Compiler: clang 15.0.7, gcc 14.1.0 (MinGW), and MSVC VS 19.39.33521

To view detailed results, visit:
https://lab.dpdk.org/results/dashboard/patchsets/34332/

UNH-IOL DPDK Community Lab

To manage your email subscriptions, visit: 
https://lab.dpdk.org/results/dashboard/preferences/subscriptions/

  parent reply	other threads:[~2025-10-20 14:56 UTC|newest]

Thread overview: 24+ messages / expand[flat|nested]  mbox.gz  Atom feed  top
     [not found] <20251020140805.1361249-3-bruce.richardson@intel.com>
2025-10-20 13:33 ` |SUCCESS| pw157856-157857 [PATCH v4 2/2] " qemudev
2025-10-20 13:38 ` qemudev
2025-10-20 14:08 ` |WARNING| pw157857 " checkpatch
2025-10-20 14:35 ` |PENDING| pw157856-157857 [PATCH] [v4,2/2] " dpdklab
2025-10-20 14:38 ` |SUCCESS| " dpdklab
2025-10-20 14:47 ` dpdklab
2025-10-20 14:47 ` dpdklab
2025-10-20 14:56 ` dpdklab
2025-10-20 14:56 ` dpdklab [this message]
2025-10-20 14:57 ` |WARNING| " dpdklab
2025-10-20 14:58 ` |SUCCESS| " dpdklab
2025-10-20 15:00 ` dpdklab
2025-10-20 15:01 ` dpdklab
2025-10-20 15:02 ` |PENDING| " dpdklab
2025-10-20 15:14 ` dpdklab
2025-10-20 15:20 ` |SUCCESS| pw157857 [PATCH v4 2/2] " 0-day Robot
2025-10-20 15:20 ` 0-day Robot
2025-10-20 15:38 ` |SUCCESS| pw157856-157857 [PATCH] [v4,2/2] " dpdklab
2025-10-20 15:44 ` |PENDING| " dpdklab
2025-10-20 15:49 ` |SUCCESS| " dpdklab
2025-10-20 15:56 ` dpdklab
2025-10-20 15:57 ` |WARNING| " dpdklab
2025-10-20 16:01 ` |SUCCESS| " dpdklab
2025-10-20 16:03 ` dpdklab

Reply instructions:

You may reply publicly to this message via plain-text email
using any one of the following methods:

* Save the following mbox file, import it into your mail client,
  and reply-to-all from there: mbox

  Avoid top-posting and favor interleaved quoting:
  https://en.wikipedia.org/wiki/Posting_style#Interleaved_style

* Reply using the --to, --cc, and --in-reply-to
  switches of git-send-email(1):

  git send-email \
    --in-reply-to=68f64db7.170a0220.33dc05.1b49SMTPIN_ADDED_MISSING@mx.google.com \
    --to=dpdklab@iol.unh.edu \
    --cc=dpdk-test-reports@iol.unh.edu \
    --cc=test-report@dpdk.org \
    /path/to/YOUR_REPLY

  https://kernel.org/pub/software/scm/git/docs/git-send-email.html

* If your mail client supports setting the In-Reply-To header
  via mailto: links, try the mailto: link
Be sure your reply has a Subject: header at the top and a blank line before the message body.
This is a public inbox, see mirroring instructions
for how to clone and mirror all data and code used for this inbox;
as well as URLs for NNTP newsgroup(s).