From mboxrd@z Thu Jan 1 00:00:00 1970 Return-Path: Received: from mails.dpdk.org (mails.dpdk.org [217.70.189.124]) by inbox.dpdk.org (Postfix) with ESMTP id 0F1184898C for ; Mon, 20 Oct 2025 16:56:58 +0200 (CEST) Received: from mails.dpdk.org (localhost [127.0.0.1]) by mails.dpdk.org (Postfix) with ESMTP id 0779D400D6; Mon, 20 Oct 2025 16:56:58 +0200 (CEST) Received: from mail-pl1-f227.google.com (mail-pl1-f227.google.com [209.85.214.227]) by mails.dpdk.org (Postfix) with ESMTP id E143C400D6 for ; Mon, 20 Oct 2025 16:56:55 +0200 (CEST) Received: by mail-pl1-f227.google.com with SMTP id d9443c01a7336-290aaff555eso42908815ad.2 for ; Mon, 20 Oct 2025 07:56:55 -0700 (PDT) DKIM-Signature: v=1; a=rsa-sha256; c=relaxed/relaxed; d=iol.unh.edu; s=unh-iol; t=1760972215; x=1761577015; darn=dpdk.org; h=references:in-reply-to:cc:to:from:subject:message-id:date:from:to :cc:subject:date:message-id:reply-to; bh=1XRiAUbHQSoDhFiVcNHtgEhWjGJn+kEYaa19IgoJBcw=; b=C3KVrgmzBF4YntmVccoDXRujb9Hn8f6srfJJR40No46ORk9na0ie/LBGDeBz/5enLS H90yvXKkd0xdVerM0YGQ/rdo6dwKpSISzjKTV2HumAVgAkJbr1YU/XKK8heTSmzh6xPQ Pc/zLEkhsRADajk/fY3CUh4pLH+IL3Wu3yFsU= X-Google-DKIM-Signature: v=1; a=rsa-sha256; c=relaxed/relaxed; d=1e100.net; s=20230601; t=1760972215; x=1761577015; h=references:in-reply-to:cc:to:from:subject:message-id:date :x-gm-message-state:from:to:cc:subject:date:message-id:reply-to; bh=1XRiAUbHQSoDhFiVcNHtgEhWjGJn+kEYaa19IgoJBcw=; b=wiBAJcvbyCCG773q9xPaxzsbqhTE8Zu+keliNOMxuQ8+J9efSRzh1hQJYoaOu+xi36 4kbRkbBj6NFgrhaKpeIjmAXSsnHjqb0qDHalZN1GQ3amheaJheT2XdbRu+E3FWf9mkXz l5KVMwthKr+KPzBCZHuRJ5algqzHQ2PaRGj3IJnRoY8uzb7G2OrTbeF8XIjSJPFbzlkx ZSMiCbYVxmdzytqupekFgu42tzhbreuFPPwLmJH2T0xxenjeuhgghTXkGTVfrE2jDiFJ Kk89TwkQJ49ib5TByKfXKaQL/ISuG6ngkrXWCPgG4WJL4Pyg/n+7a4mhJtjiwyq4J0Fp 5HSg== X-Gm-Message-State: AOJu0YzpTK8lCyhhBr8QTKMkP+xeJxer8wBAQzcnETnVszCD03t82OPm jfN7nU9hgBzoob2GH63j0r/HuRwtvAJo8ND1Fy44uCy63HhJzc4boKu0DzsUd0LcWSnqNPnZLfT T6BFqDYS1YbhYqiHR7OoP5+6HVa3tu2YcgvrzCyVmcmEJVs74sb8ljSjNTymb X-Gm-Gg: ASbGnctvY58bjNAzXZ6EDjX8EE58guUsNe7KErxbKAAEo1OsLiavhRIfpafPX9/9ivi 8FUc1iHKXS4K0UiPY2kpeX7+s7nYX1OWbomZGBMi7IdzWTF3sWsfaSVlDBAUN2rkvxsk+VUClFP 95xLPvWpI6Qk7uBa0UeGx9+YN7TuRg1GCYoQbxgBkqdzZuHA+3SdjaBg0/9Njavt4LWTScLTBoi MfhS+fB+jdYUkmTrO4jfTBXE2skdM6+JvFbbHO0yN2pyXb0Iq3mMPuEXyxxovR0V/b/Sh/vWoBx Or6MZiLUSGa9WBmpJoE9tnElkHo5uN4WbtJUFL+5bC5kByUY7cOv3TOA/qZ1eXMxUmE/vQj8t5T UQRdcRRGc X-Google-Smtp-Source: AGHT+IHnTxKctnloUKYMyN81CQRkVg20e/rdnVY6nVJfRfjYJtoNwoKVWtnMselbpWODmsGd5qZWTsdrHIFU X-Received: by 2002:a17:903:94d:b0:266:9c1a:6def with SMTP id d9443c01a7336-290c9bea18dmr163647135ad.0.1760972215064; Mon, 20 Oct 2025 07:56:55 -0700 (PDT) Received: from postal.iol.unh.edu (postal.iol.unh.edu. [2606:4100:3880:1234::84]) by smtp-relay.gmail.com with ESMTPS id d9443c01a7336-29247206f86sm10681725ad.60.2025.10.20.07.56.54 (version=TLS1_2 cipher=ECDHE-ECDSA-AES128-GCM-SHA256 bits=128/128); Mon, 20 Oct 2025 07:56:55 -0700 (PDT) X-Relaying-Domain: iol.unh.edu Date: Mon, 20 Oct 2025 07:56:55 -0700 (PDT) Message-ID: <68f64db7.170a0220.33dc05.1b49SMTPIN_ADDED_MISSING@mx.google.com> Received: from [172.21.0.3] (unknown [172.18.0.240]) by postal.iol.unh.edu (Postfix) with ESMTP id 56F99604D420; Mon, 20 Oct 2025 10:56:54 -0400 (EDT) Subject: |WARNING| pw157856-157857 [PATCH] [v4,2/2] mailmap: sort mailmap From: dpdklab@iol.unh.edu To: Test Report Cc: dpdk-test-reports@iol.unh.edu In-Reply-To: <20251020140805.1361249-3-bruce.richardson@intel.com> References: <20251020140805.1361249-3-bruce.richardson@intel.com> Content-Type: text/plain X-BeenThere: test-report@dpdk.org X-Mailman-Version: 2.1.29 Precedence: list List-Id: automatic DPDK test reports List-Unsubscribe: , List-Archive: List-Post: List-Help: List-Subscribe: , Errors-To: test-report-bounces@dpdk.org Test-Label: iol-compile-amd64-testing Test-Status: WARNING http://dpdk.org/patch/157857 _Testing issues_ Submitter: Bruce Richardson Date: Monday, October 20 2025 14:08:02 DPDK git baseline: Repo:dpdk Branch: master CommitID:3e19094cb697998972e7f89bdd3ab08ea457ae1f 157856-157857 --> testing issues Upstream job id: Generic-DPDK-Compile-Meson#436287 Test environment and result as below: +-------------------------------+--------------------+-------------------+-------------------+------------------+ | Environment | dpdk_meson_compile | dpdk_msvc_compile | dpdk_compile_spdk | dpdk_compile_ovs | +===============================+====================+===================+===================+==================+ | Ubuntu 20.04 | PASS | SKIPPED | SKIPPED | SKIPPED | +-------------------------------+--------------------+-------------------+-------------------+------------------+ | FreeBSD 14.2 | PASS | SKIPPED | SKIPPED | SKIPPED | +-------------------------------+--------------------+-------------------+-------------------+------------------+ | CentOS Stream 9 | PEND | SKIPPED | PEND | SKIPPED | +-------------------------------+--------------------+-------------------+-------------------+------------------+ | CentOS Stream 10 | PASS | SKIPPED | SKIPPED | SKIPPED | +-------------------------------+--------------------+-------------------+-------------------+------------------+ | Fedora Linux 42 | PEND | SKIPPED | PEND | PEND | +-------------------------------+--------------------+-------------------+-------------------+------------------+ | Debian GNU/Linux 12 | PASS | SKIPPED | WARN | SKIPPED | +-------------------------------+--------------------+-------------------+-------------------+------------------+ | openSUSE Leap 15.6 | PEND | SKIPPED | SKIPPED | SKIPPED | +-------------------------------+--------------------+-------------------+-------------------+------------------+ | Red Hat Enterprise Linux 8.10 | PASS | SKIPPED | SKIPPED | SKIPPED | +-------------------------------+--------------------+-------------------+-------------------+------------------+ | Red Hat Enterprise Linux 9.5 | PASS | SKIPPED | SKIPPED | SKIPPED | +-------------------------------+--------------------+-------------------+-------------------+------------------+ | Ubuntu 22.04 | PEND | SKIPPED | PEND | SKIPPED | +-------------------------------+--------------------+-------------------+-------------------+------------------+ | Windows Server 2022 | SKIPPED | PEND | SKIPPED | SKIPPED | +-------------------------------+--------------------+-------------------+-------------------+------------------+ ==== 20 line log output for Debian GNU/Linux 12 (dpdk_compile_spdk): ==== --- Failed to get log output --- ==== End log output ==== Ubuntu 20.04 Kernel: 4.19 Compiler: gcc gcc (Ubuntu 9.4.0-1ubuntu1~20.04.2) 9.4.0 FreeBSD 14.2 Kernel: 14.2-RELEASE Compiler: clang 18.1.6 CentOS Stream 9 Kernel: 5.15 Compiler: gcc gcc (GCC) 11.5.0 20240719 (Red Hat 11.5.0-11) CentOS Stream 10 Kernel: 5.15 Compiler: gcc gcc (GCC) 14.2.1 20250110 (Red Hat 14.2.1-8) Fedora Linux 42 Kernel: 5.15 Compiler: clang gcc (GCC) 15.2.1 20250808 (Red Hat 15.2.1-1) Debian GNU/Linux 12 Kernel: 5.15 Compiler: gcc gcc (Debian 12.2.0-14+deb12u1) 12.2.0 openSUSE Leap 15.6 Kernel: 5.15 Compiler: gcc gcc (SUSE Linux) 7.5.0 Red Hat Enterprise Linux 8.10 Kernel: 5.15 Compiler: gcc gcc (GCC) 8.5.0 20210514 (Red Hat 8.5.0-22) Red Hat Enterprise Linux 9.5 Kernel: 5.15 Compiler: gcc gcc (GCC) 11.5.0 20240719 (Red Hat 11.5.0-2) Ubuntu 22.04 Kernel: 5.15 Compiler: gcc gcc (Ubuntu 11.4.0-1ubuntu1~22.04) 11.4.0 Windows Server 2022 Kernel: 10.0.20348.2031 Compiler: clang 15.0.7, gcc 14.1.0 (MinGW), and MSVC VS 19.39.33521 To view detailed results, visit: https://lab.dpdk.org/results/dashboard/patchsets/34332/ UNH-IOL DPDK Community Lab To manage your email subscriptions, visit: https://lab.dpdk.org/results/dashboard/preferences/subscriptions/