From mboxrd@z Thu Jan 1 00:00:00 1970 Return-Path: Received: from mails.dpdk.org (mails.dpdk.org [217.70.189.124]) by inbox.dpdk.org (Postfix) with ESMTP id 2098F4898C for ; Mon, 20 Oct 2025 16:57:05 +0200 (CEST) Received: from mails.dpdk.org (localhost [127.0.0.1]) by mails.dpdk.org (Postfix) with ESMTP id 186CD400D6; Mon, 20 Oct 2025 16:57:05 +0200 (CEST) Received: from mail-oo1-f100.google.com (mail-oo1-f100.google.com [209.85.161.100]) by mails.dpdk.org (Postfix) with ESMTP id 4CAF1400D6 for ; Mon, 20 Oct 2025 16:57:04 +0200 (CEST) Received: by mail-oo1-f100.google.com with SMTP id 006d021491bc7-650304a822aso924690eaf.3 for ; Mon, 20 Oct 2025 07:57:04 -0700 (PDT) DKIM-Signature: v=1; a=rsa-sha256; c=relaxed/relaxed; d=iol.unh.edu; s=unh-iol; t=1760972223; x=1761577023; darn=dpdk.org; h=references:in-reply-to:cc:to:from:subject:message-id:date:from:to :cc:subject:date:message-id:reply-to; bh=7EXdQJEHnlkB19hWUj4yyf5EAyimyLy6IVBG0723Vkw=; b=G7+CKWuOUNPFc1VF7uP3gd+dp37/g/wEZJMcrNTNcZO4fT/+9L3n0TUJJlsd9heT46 ZfpDCs30Fty7txKGABYPZCz7TQn2NgEoUveeMA5VtZzgCr82+mSE03WFcC2mN1ekaUsx NFVQjhqX6oI3FHIRgG7xTXi0xmD0fAbYIL1pI= X-Google-DKIM-Signature: v=1; a=rsa-sha256; c=relaxed/relaxed; d=1e100.net; s=20230601; t=1760972223; x=1761577023; h=references:in-reply-to:cc:to:from:subject:message-id:date :x-gm-message-state:from:to:cc:subject:date:message-id:reply-to; bh=7EXdQJEHnlkB19hWUj4yyf5EAyimyLy6IVBG0723Vkw=; b=Q7PnlKio5qVD/5McaDdo1MB6a10ZcoHWNea4p6NZ5RKqrDEm92DiNY2Hiv/LhbZYi3 02ncVnGcgKZmx/tWXgcAcWZQlicLrkEmU2xYAMv8+4lJOWWUUs2EZ1YeYVEtnlBwz7+D nzdsCUxJYRpzYhDJVznNRd6obv+8y7M27E465aAH3ivVeI2mRZTFBWJOzyxfi83aDoED ojm2dCvtfoY2DNgzIRFbzKchOCk2Fv2ocXLX0ZN1j9mjSni0eGvWt7ReAhv5ODviuqd+ hewu5pQ8T9KpdqWUMIqABvf1xnWJs5mRwf1BCJtskS9dVcq+jynUUprykWbvRbq7L3rg GkoQ== X-Gm-Message-State: AOJu0YxxIhITl9FEmQSkePYWn8PIi+btj4i4Jh+cImpe9EFSCXLr2TqC yA/dRkQAkwVWgfdnewlJf0y49ot9MexjyfcjYe1tRjDweV1jheetuuQ6InrvPbMrPRPX/RCK1U9 cclLPfB4ktkOm0STyMigYtE61v4t4z9+KANdhITrWb9JSpbXZxc9kCTd9CNa5 X-Gm-Gg: ASbGncv8x2jssrZH7wH7NanmQfcqMj1x/7lKbV648BnG0et8T6taXBUe0EW24mEy4ZK /FJenf8qUZdhRxS5WNelvCCRlmuxIrqZSS/PPY6iFrx8FVrkV6IPIICDPg1LERhK/Xuk1JLWID/ hFD8mfFsZVdp8Fwc5948LeycodDL/NN9hAZLD/2d2ID9gellpu9ymVCJqrxI5jr5a0CAA9oT7AH WY0fYT7dJea0aBZpjPqZ5blXkuttyj8nGYp14k430s+EdYrUucinB7HvxCs49C2qETG1r0RHRqC efnEbmG7F6iNCMD7g5vqpDRwf2mv8WhLZMzkOZPXoxLjTke3jCUASU6CG6j29ljZR+kA/O3mJXs Y+nsGIQTg X-Google-Smtp-Source: AGHT+IEoqaW1WjSnr0nvRA4HeJoIQ/14vRSCKrgRRong2SfrP/SKT+3tB1iNuPGQw7MWSUWkCTUmGwKiB30s X-Received: by 2002:a05:6820:1b18:b0:64e:ad23:bfad with SMTP id 006d021491bc7-651c7e76395mr5792617eaf.8.1760972223495; Mon, 20 Oct 2025 07:57:03 -0700 (PDT) Received: from postal.iol.unh.edu (postal.iol.unh.edu. [2606:4100:3880:1234::84]) by smtp-relay.gmail.com with ESMTPS id 006d021491bc7-651d3d8582esm165238eaf.8.2025.10.20.07.57.03 (version=TLS1_2 cipher=ECDHE-ECDSA-AES128-GCM-SHA256 bits=128/128); Mon, 20 Oct 2025 07:57:03 -0700 (PDT) X-Relaying-Domain: iol.unh.edu Date: Mon, 20 Oct 2025 07:57:03 -0700 (PDT) Message-ID: <68f64dbf.050a0220.13fc2a.633dSMTPIN_ADDED_MISSING@mx.google.com> Received: from [172.21.0.6] (unknown [172.18.0.240]) by postal.iol.unh.edu (Postfix) with ESMTP id 0652C604D420; Mon, 20 Oct 2025 10:57:03 -0400 (EDT) Subject: |WARNING| pw157856-157857 [PATCH] [v4,2/2] mailmap: sort mailmap From: dpdklab@iol.unh.edu To: Test Report Cc: dpdk-test-reports@iol.unh.edu In-Reply-To: <20251020140805.1361249-3-bruce.richardson@intel.com> References: <20251020140805.1361249-3-bruce.richardson@intel.com> Content-Type: text/plain X-BeenThere: test-report@dpdk.org X-Mailman-Version: 2.1.29 Precedence: list List-Id: automatic DPDK test reports List-Unsubscribe: , List-Archive: List-Post: List-Help: List-Subscribe: , Errors-To: test-report-bounces@dpdk.org Test-Label: iol-compile-amd64-testing Test-Status: WARNING http://dpdk.org/patch/157857 _Testing issues_ Submitter: Bruce Richardson Date: Monday, October 20 2025 14:08:02 DPDK git baseline: Repo:dpdk Branch: master CommitID:3e19094cb697998972e7f89bdd3ab08ea457ae1f 157856-157857 --> testing issues Upstream job id: Generic-DPDK-Compile-Meson#436286 Test environment and result as below: +-------------------------------+--------------------+-------------------+-------------------+------------------+ | Environment | dpdk_meson_compile | dpdk_msvc_compile | dpdk_compile_spdk | dpdk_compile_ovs | +===============================+====================+===================+===================+==================+ | Ubuntu 20.04 | PASS | SKIPPED | SKIPPED | SKIPPED | +-------------------------------+--------------------+-------------------+-------------------+------------------+ | FreeBSD 14.2 | PASS | SKIPPED | SKIPPED | SKIPPED | +-------------------------------+--------------------+-------------------+-------------------+------------------+ | CentOS Stream 9 | PEND | SKIPPED | PEND | SKIPPED | +-------------------------------+--------------------+-------------------+-------------------+------------------+ | CentOS Stream 10 | PASS | SKIPPED | SKIPPED | SKIPPED | +-------------------------------+--------------------+-------------------+-------------------+------------------+ | Fedora Linux 42 | PEND | SKIPPED | PEND | PEND | +-------------------------------+--------------------+-------------------+-------------------+------------------+ | Debian GNU/Linux 12 | PASS | SKIPPED | WARN | SKIPPED | +-------------------------------+--------------------+-------------------+-------------------+------------------+ | openSUSE Leap 15.6 | PEND | SKIPPED | SKIPPED | SKIPPED | +-------------------------------+--------------------+-------------------+-------------------+------------------+ | Red Hat Enterprise Linux 8.10 | PASS | SKIPPED | SKIPPED | SKIPPED | +-------------------------------+--------------------+-------------------+-------------------+------------------+ | Red Hat Enterprise Linux 9.5 | PASS | SKIPPED | SKIPPED | SKIPPED | +-------------------------------+--------------------+-------------------+-------------------+------------------+ | Ubuntu 22.04 | PEND | SKIPPED | PEND | SKIPPED | +-------------------------------+--------------------+-------------------+-------------------+------------------+ | Windows Server 2022 | SKIPPED | PEND | SKIPPED | SKIPPED | +-------------------------------+--------------------+-------------------+-------------------+------------------+ ==== 20 line log output for Debian GNU/Linux 12 (dpdk_compile_spdk): ==== --- Failed to get log output --- ==== End log output ==== Ubuntu 20.04 Kernel: 4.19 Compiler: gcc gcc (Ubuntu 9.4.0-1ubuntu1~20.04.2) 9.4.0 FreeBSD 14.2 Kernel: 14.2-RELEASE Compiler: clang 18.1.6 CentOS Stream 9 Kernel: 5.15 Compiler: gcc gcc (GCC) 11.5.0 20240719 (Red Hat 11.5.0-11) CentOS Stream 10 Kernel: 5.15 Compiler: gcc gcc (GCC) 14.2.1 20250110 (Red Hat 14.2.1-8) Fedora Linux 42 Kernel: 5.15 Compiler: clang gcc (GCC) 15.2.1 20250808 (Red Hat 15.2.1-1) Debian GNU/Linux 12 Kernel: 5.15 Compiler: gcc gcc (Debian 12.2.0-14+deb12u1) 12.2.0 openSUSE Leap 15.6 Kernel: 5.15 Compiler: gcc gcc (SUSE Linux) 7.5.0 Red Hat Enterprise Linux 8.10 Kernel: 5.15 Compiler: gcc gcc (GCC) 8.5.0 20210514 (Red Hat 8.5.0-22) Red Hat Enterprise Linux 9.5 Kernel: 5.15 Compiler: gcc gcc (GCC) 11.5.0 20240719 (Red Hat 11.5.0-2) Ubuntu 22.04 Kernel: 5.15 Compiler: gcc gcc (Ubuntu 11.4.0-1ubuntu1~22.04) 11.4.0 Windows Server 2022 Kernel: 10.0.20348.2031 Compiler: clang 15.0.7, gcc 14.1.0 (MinGW), and MSVC VS 19.39.33521 To view detailed results, visit: https://lab.dpdk.org/results/dashboard/patchsets/34332/ UNH-IOL DPDK Community Lab To manage your email subscriptions, visit: https://lab.dpdk.org/results/dashboard/preferences/subscriptions/