From mboxrd@z Thu Jan 1 00:00:00 1970 Return-Path: Received: from mails.dpdk.org (mails.dpdk.org [217.70.189.124]) by inbox.dpdk.org (Postfix) with ESMTP id C25554898C for ; Mon, 20 Oct 2025 17:02:50 +0200 (CEST) Received: from mails.dpdk.org (localhost [127.0.0.1]) by mails.dpdk.org (Postfix) with ESMTP id B9E134042C; Mon, 20 Oct 2025 17:02:50 +0200 (CEST) Received: from mail-pg1-f227.google.com (mail-pg1-f227.google.com [209.85.215.227]) by mails.dpdk.org (Postfix) with ESMTP id 9F973400D6 for ; Mon, 20 Oct 2025 17:02:46 +0200 (CEST) Received: by mail-pg1-f227.google.com with SMTP id 41be03b00d2f7-b6a7ed1ff9eso1854075a12.0 for ; Mon, 20 Oct 2025 08:02:46 -0700 (PDT) DKIM-Signature: v=1; a=rsa-sha256; c=relaxed/relaxed; d=iol.unh.edu; s=unh-iol; t=1760972566; x=1761577366; darn=dpdk.org; h=references:in-reply-to:cc:to:from:subject:message-id:date:from:to :cc:subject:date:message-id:reply-to; bh=/J2XtP3POA7inS8NngWALbP7LAtwRyZfOx5zLg3wUuk=; b=GqxnvzGYikENx2g4GyV64QvGFviur11ellrNBbyPIwyNnN1bbTrIIySCExwAUcnpxT hKgqRJj431PWw5SwHamHMxvrKti5Mm7GavQnAoCaQeL4aXOQ52ndpieq1inumDG+ISQX REvIoYbauuanWq/VAGpTNz/MWn5PP1sbTEMoA= X-Google-DKIM-Signature: v=1; a=rsa-sha256; c=relaxed/relaxed; d=1e100.net; s=20230601; t=1760972566; x=1761577366; h=references:in-reply-to:cc:to:from:subject:message-id:date :x-gm-message-state:from:to:cc:subject:date:message-id:reply-to; bh=/J2XtP3POA7inS8NngWALbP7LAtwRyZfOx5zLg3wUuk=; b=DRqgZiN+3EavDf0MwdcajplBXJY/RCe815SruhP3MnEXnGa9cmpL3Ct795+xEZq3C7 U7CRxfgYJPbSSsGn7ESEpm0KhVyTwYb9RC9WKSgtwpjxWbdiofzY/KiWkoPdl4QzORrW McBYnd8l1Cu/zMw+z3wGKqP1rAbgbqJgl2b9dFgvAUEfev+pG4r8Rddv+UAa2tlPcj1d 7XDV0vJyzHS6wpEqP+S1oAA6edBwPW6VVPEjSYXu6Ax82mQytkrNnYZJWkMQqC50mDmv lPxbtoGQzyZ+XSCCs7mAMQYuWY88vvvd1YYBEV/Dc9fFdGtMIOCbllnVH5imC+PBaDti OY5Q== X-Gm-Message-State: AOJu0Yz90OGc9xHfaMR+fRNEoOgyq9pHTdxTEnJ27KmqFC7tCmNZYkeu e+0TaQIrq/F036MJmbQvbuPBcJmMcfdKTwRXO39szTTRbsBJGgolgriL/WoOdmWDqhA07R2oxAb 7v5UNur+IeuXs0T0E1dWPSBBlRDfsmLMBeGKXeNFyOl9JXKY9bLT8I7mkd6oU X-Gm-Gg: ASbGncvtTfebV8QvYO4e0OQj7TpeIf1ASju4LXzE0VU+CT25tC0xd9X1LucKf94I3YV 4LwkLHykGIWXP9WXftp0XDEJ6eMJokgrIHuqCg/GoktXjFojewoDoNClFi8F3br+mG4qHgBKiTy OwQCMU9w5MwUhE8Kd3G+xBwB57xXpMvn2tUN7/GMRxwXXguH42hBWrnPkyjoVMD50aX7M0oMlBL vkM9iEFQQ3tHmxVZ0npvLFqcJFOaIftmrBDFxX/7w6rObaMYrR4/AZ0GvrdBPGLwG0ZeQvJ8E3e 9smlXgWGfBDHCcujs/wNdaknd4VAwo2AtHuDNfjCC7pzX9YHqFDNqQBiN9XXh8E16kurdlzSxek DzxsBzBl2 X-Google-Smtp-Source: AGHT+IFZdyJfjr6/oDFbRX4jSJ0LFe6HZjKE+m0aWpzBbv9GJxRsaT2eOVR7L7nU1+QaFPDm9mtX58fC8XrX X-Received: by 2002:a17:903:1c3:b0:274:777b:ca6d with SMTP id d9443c01a7336-290cbb49f9cmr186541125ad.43.1760972565577; Mon, 20 Oct 2025 08:02:45 -0700 (PDT) Received: from postal.iol.unh.edu (postal.iol.unh.edu. [2606:4100:3880:1234::84]) by smtp-relay.gmail.com with ESMTPS id d9443c01a7336-292471c683bsm10470515ad.36.2025.10.20.08.02.45 (version=TLS1_2 cipher=ECDHE-ECDSA-AES128-GCM-SHA256 bits=128/128); Mon, 20 Oct 2025 08:02:45 -0700 (PDT) X-Relaying-Domain: iol.unh.edu Date: Mon, 20 Oct 2025 08:02:45 -0700 (PDT) Message-ID: <68f64f15.170a0220.22c3d4.06e7SMTPIN_ADDED_MISSING@mx.google.com> Received: from [172.21.0.2] (unknown [172.18.0.240]) by postal.iol.unh.edu (Postfix) with ESMTP id D2752604D421; Mon, 20 Oct 2025 11:02:44 -0400 (EDT) Subject: |WARNING| pw157854 [PATCH] [v3,1/1] lib/eal/riscv: optimize rte_memc From: dpdklab@iol.unh.edu To: Test Report Cc: dpdk-test-reports@iol.unh.edu In-Reply-To: <20251020120832.1377782-2-chen.qiguo@zte.com.cn> References: <20251020120832.1377782-2-chen.qiguo@zte.com.cn> Content-Type: text/plain X-BeenThere: test-report@dpdk.org X-Mailman-Version: 2.1.29 Precedence: list List-Id: automatic DPDK test reports List-Unsubscribe: , List-Archive: List-Post: List-Help: List-Subscribe: , Errors-To: test-report-bounces@dpdk.org Test-Label: iol-compile-amd64-testing Test-Status: WARNING http://dpdk.org/patch/157854 _Testing issues_ Submitter: Qiguo Chen Date: Monday, October 20 2025 12:08:32 DPDK git baseline: Repo:dpdk Branch: master CommitID:3e19094cb697998972e7f89bdd3ab08ea457ae1f 157854 --> testing issues Upstream job id: Generic-DPDK-Compile-Meson#436236 Test environment and result as below: +-------------------------------+--------------------+-------------------+------------------+-------------------+-------------------------+----------------------+ | Environment | dpdk_meson_compile | dpdk_compile_spdk | dpdk_compile_ovs | dpdk_msvc_compile | dpdk_llvm_clang_compile | dpdk_mingw64_compile | +===============================+====================+===================+==================+===================+=========================+======================+ | Ubuntu 20.04 | PASS | SKIPPED | SKIPPED | SKIPPED | SKIPPED | SKIPPED | +-------------------------------+--------------------+-------------------+------------------+-------------------+-------------------------+----------------------+ | FreeBSD 14.2 | PASS | SKIPPED | SKIPPED | SKIPPED | SKIPPED | SKIPPED | +-------------------------------+--------------------+-------------------+------------------+-------------------+-------------------------+----------------------+ | Debian GNU/Linux 12 | PASS | WARN | SKIPPED | SKIPPED | SKIPPED | SKIPPED | +-------------------------------+--------------------+-------------------+------------------+-------------------+-------------------------+----------------------+ | Fedora Linux 42 | PASS | WARN | PASS | SKIPPED | SKIPPED | SKIPPED | +-------------------------------+--------------------+-------------------+------------------+-------------------+-------------------------+----------------------+ | CentOS Stream 10 | PASS | SKIPPED | SKIPPED | SKIPPED | SKIPPED | SKIPPED | +-------------------------------+--------------------+-------------------+------------------+-------------------+-------------------------+----------------------+ | CentOS Stream 9 | PASS | WARN | SKIPPED | SKIPPED | SKIPPED | SKIPPED | +-------------------------------+--------------------+-------------------+------------------+-------------------+-------------------------+----------------------+ | openSUSE Leap 15.6 | PASS | SKIPPED | SKIPPED | SKIPPED | SKIPPED | SKIPPED | +-------------------------------+--------------------+-------------------+------------------+-------------------+-------------------------+----------------------+ | Red Hat Enterprise Linux 9.5 | PASS | SKIPPED | SKIPPED | SKIPPED | SKIPPED | SKIPPED | +-------------------------------+--------------------+-------------------+------------------+-------------------+-------------------------+----------------------+ | Ubuntu 24.04 | PASS | WARN | PASS | SKIPPED | SKIPPED | SKIPPED | +-------------------------------+--------------------+-------------------+------------------+-------------------+-------------------------+----------------------+ | Red Hat Enterprise Linux 8.10 | PASS | SKIPPED | SKIPPED | SKIPPED | SKIPPED | SKIPPED | +-------------------------------+--------------------+-------------------+------------------+-------------------+-------------------------+----------------------+ | Alpine Linux 3.22.0 | PASS | SKIPPED | SKIPPED | SKIPPED | SKIPPED | SKIPPED | +-------------------------------+--------------------+-------------------+------------------+-------------------+-------------------------+----------------------+ | Ubuntu 22.04 | PASS | WARN | SKIPPED | SKIPPED | SKIPPED | SKIPPED | +-------------------------------+--------------------+-------------------+------------------+-------------------+-------------------------+----------------------+ | Windows Server 2022 | SKIPPED | SKIPPED | SKIPPED | PASS | PASS | PASS | +-------------------------------+--------------------+-------------------+------------------+-------------------+-------------------------+----------------------+ ==== 20 line log output for Ubuntu 22.04 (dpdk_compile_spdk): ==== --- Failed to get log output --- ==== End log output ==== Ubuntu 20.04 Kernel: 4.19 Compiler: gcc gcc (Ubuntu 9.4.0-1ubuntu1~20.04.2) 9.4.0 FreeBSD 14.2 Kernel: 14.2-RELEASE Compiler: clang 18.1.6 Debian GNU/Linux 12 Kernel: 5.15 Compiler: gcc gcc (Debian 12.2.0-14+deb12u1) 12.2.0 Fedora Linux 42 Kernel: 5.15 Compiler: clang gcc (GCC) 15.2.1 20250808 (Red Hat 15.2.1-1) CentOS Stream 10 Kernel: 5.15 Compiler: gcc gcc (GCC) 14.2.1 20250110 (Red Hat 14.2.1-8) CentOS Stream 9 Kernel: 5.15 Compiler: gcc gcc (GCC) 11.5.0 20240719 (Red Hat 11.5.0-11) openSUSE Leap 15.6 Kernel: 5.15 Compiler: gcc gcc (SUSE Linux) 7.5.0 Red Hat Enterprise Linux 9.5 Kernel: 5.15 Compiler: gcc gcc (GCC) 11.5.0 20240719 (Red Hat 11.5.0-2) Ubuntu 24.04 Kernel: 5.15 Compiler: gcc gcc (Ubuntu 13.3.0-6ubuntu2~24.04) 13.3.0 Red Hat Enterprise Linux 8.10 Kernel: 5.15 Compiler: gcc gcc (GCC) 8.5.0 20210514 (Red Hat 8.5.0-22) Alpine Linux 3.22.0 Kernel: 5.15 Compiler: gcc gcc (Alpine 14.2.0) 14.2.0 Ubuntu 22.04 Kernel: 5.15 Compiler: gcc gcc (Ubuntu 11.4.0-1ubuntu1~22.04) 11.4.0 Windows Server 2022 Kernel: 10.0.20348.2031 Compiler: clang 15.0.7, gcc 14.1.0 (MinGW), and MSVC VS 19.39.33521 To view detailed results, visit: https://lab.dpdk.org/results/dashboard/patchsets/34330/ UNH-IOL DPDK Community Lab To manage your email subscriptions, visit: https://lab.dpdk.org/results/dashboard/preferences/subscriptions/