From mboxrd@z Thu Jan 1 00:00:00 1970 Return-Path: Received: from mails.dpdk.org (mails.dpdk.org [217.70.189.124]) by inbox.dpdk.org (Postfix) with ESMTP id E1CC14898C for ; Mon, 20 Oct 2025 17:13:56 +0200 (CEST) Received: from mails.dpdk.org (localhost [127.0.0.1]) by mails.dpdk.org (Postfix) with ESMTP id BCF85400D6; Mon, 20 Oct 2025 17:13:56 +0200 (CEST) Received: from mail-qk1-f228.google.com (mail-qk1-f228.google.com [209.85.222.228]) by mails.dpdk.org (Postfix) with ESMTP id B552A400D6 for ; Mon, 20 Oct 2025 17:13:54 +0200 (CEST) Received: by mail-qk1-f228.google.com with SMTP id af79cd13be357-8907af237ceso516916285a.3 for ; Mon, 20 Oct 2025 08:13:54 -0700 (PDT) DKIM-Signature: v=1; a=rsa-sha256; c=relaxed/relaxed; d=iol.unh.edu; s=unh-iol; t=1760973234; x=1761578034; darn=dpdk.org; h=references:in-reply-to:cc:to:from:subject:message-id:date:from:to :cc:subject:date:message-id:reply-to; bh=h20oFTvEihzlcRoY0DHOUnTZc1IYec1s0ewVE0U8yZA=; b=g0k2YeiFxzKPDEyNFZqxKe7SgFAaHPfqlkxxpdKzps0Ayo3LViPBiYevy0qnYjKyrw uAo8uPYu2ijK/6x9Jp3qOL7os17LfOdUyqFWBOKIGYHd7mGm20LFUR1d0fNUpJInWNay nUKqs0dgEKvpQbN1pRDbUjViQUD5syQkutZAg= X-Google-DKIM-Signature: v=1; a=rsa-sha256; c=relaxed/relaxed; d=1e100.net; s=20230601; t=1760973234; x=1761578034; h=references:in-reply-to:cc:to:from:subject:message-id:date :x-gm-message-state:from:to:cc:subject:date:message-id:reply-to; bh=h20oFTvEihzlcRoY0DHOUnTZc1IYec1s0ewVE0U8yZA=; b=Ng82A/Bznn2RshE2SgxQnmden0d7CazU5QJX1ZCYkzgluY+gXLhuPxXcblfQB6skmw 8qubz430M9yy5xfXQ468x1PkYKQZ0f/5wrGT2VR9CUCmAm5FiF9XNCre0kBrZm1xsTLS /XugyrkGvgNXwT+6pAe072NtUNzNNIWrQ48irCW4P6rK1Aw0n/djBCI9PxZpqzxRNoJy UB0q4NPX20O7J7iekn46paN+H4ptXhdL+b1htFtbYzk+Wnt7kjKlc+jQrX1WH0ngy32p 6n3dlgkk9wPa+DqTnAH3I/+z7LgOn4gXaMPNST7nggSqF2dlZfvVaUIPCl4L+S5WQIkO HEhA== X-Gm-Message-State: AOJu0YxF9iD179CJNftK173YwC4jh6m1B2Wr9hmWp9VBUkORQwp5//Rm n4hQaArWi7C/tLcVLYvC8UrXae/VJOs5qaZMJJ0UwUsttEIedn/FPMgbcIPt9Dzau3nJnPAdTM9 MJJhIGe9CxdQcNiwaOUkEyXN61fsmsoWU88GHvQdpnaLC X-Gm-Gg: ASbGncvKd6euKpSh5lZUiqA+4aBoyn1Y5T+Nbbib1iyDVQn+5sJAL8d/7rEBjwO9cO4 ZOPb6bJk/KQ3Lg54Ghde0quBgVLvBIEbfbta2+ZgHu4/MHOpXrH0Vf66MsJhEcgq0ghUcFVymIy pb1GQ/kQPRcfXU7l5IV9TyekO/omlilhzCtlF31A52gs/VGC54DWxP6qSOcIyJ0abtsqU86Tnkg WlWx13LEWophRRe/n35UZOSXu8Bdxx83f+DniRe4TYskEDPQZWWBLOCYc181ewquBSO+1KWchqW 8+aO8QDRPTR0gWHi1uuuTN9XTIrA4MUalsgqFIBlL6W9xCX683K2xFkTkWRT8RcS17Sv5gO4mHu iCe4nVNHSdENvYP71WfIyu/jHcxVvjxA= X-Google-Smtp-Source: AGHT+IFIPw//4LUvfjXeKqS1Y04c+vVkmSVCMwKxmFNyCaW7VVFnfYb0YB0b5cO23s46QwpzPeGhhWisHHLn X-Received: by 2002:a05:620a:31a9:b0:892:7dd2:9f14 with SMTP id af79cd13be357-8927dd2a510mr759005385a.25.1760973233903; Mon, 20 Oct 2025 08:13:53 -0700 (PDT) Received: from postal.iol.unh.edu (postal.iol.unh.edu. [132.177.123.84]) by smtp-relay.gmail.com with ESMTPS id af79cd13be357-891c9c35394sm95743585a.0.2025.10.20.08.13.53 (version=TLS1_2 cipher=ECDHE-ECDSA-AES128-GCM-SHA256 bits=128/128); Mon, 20 Oct 2025 08:13:53 -0700 (PDT) X-Relaying-Domain: iol.unh.edu Date: Mon, 20 Oct 2025 08:13:53 -0700 (PDT) Message-ID: <68f651b1.050a0220.3480c6.e107SMTPIN_ADDED_MISSING@mx.google.com> Received: from [172.21.0.2] (unknown [172.18.0.240]) by postal.iol.unh.edu (Postfix) with ESMTP id 753926051830; Mon, 20 Oct 2025 11:13:53 -0400 (EDT) Subject: |WARNING| pw157855 [PATCH] ethdev: revert reject conflicting TX offl From: dpdklab@iol.unh.edu To: Test Report Cc: dpdk-test-reports@iol.unh.edu, Stephen Hemminger In-Reply-To: <20251020123326.80591-1-mb@smartsharesystems.com> References: <20251020123326.80591-1-mb@smartsharesystems.com> Content-Type: text/plain X-BeenThere: test-report@dpdk.org X-Mailman-Version: 2.1.29 Precedence: list List-Id: automatic DPDK test reports List-Unsubscribe: , List-Archive: List-Post: List-Help: List-Subscribe: , Errors-To: test-report-bounces@dpdk.org Test-Label: iol-compile-amd64-testing Test-Status: WARNING http://dpdk.org/patch/157855 _Testing issues_ Submitter: Morten Brorup Date: Monday, October 20 2025 12:33:26 DPDK git baseline: Repo:dpdk-next-net Branch: master CommitID:c3babb4bb7ce96122a966dad7b3da06a379d45f2 157855 --> testing issues Upstream job id: Generic-DPDK-Compile-Meson#436273 Test environment and result as below: +-------------------------------+--------------------+-------------------+-------------------+------------------+-------------------------+----------------------+ | Environment | dpdk_meson_compile | dpdk_msvc_compile | dpdk_compile_spdk | dpdk_compile_ovs | dpdk_llvm_clang_compile | dpdk_mingw64_compile | +===============================+====================+===================+===================+==================+=========================+======================+ | Ubuntu 20.04 | PASS | SKIPPED | SKIPPED | SKIPPED | SKIPPED | SKIPPED | +-------------------------------+--------------------+-------------------+-------------------+------------------+-------------------------+----------------------+ | FreeBSD 14.2 | PASS | SKIPPED | SKIPPED | SKIPPED | SKIPPED | SKIPPED | +-------------------------------+--------------------+-------------------+-------------------+------------------+-------------------------+----------------------+ | CentOS Stream 9 | PASS | SKIPPED | WARN | SKIPPED | SKIPPED | SKIPPED | +-------------------------------+--------------------+-------------------+-------------------+------------------+-------------------------+----------------------+ | CentOS Stream 10 | PASS | SKIPPED | SKIPPED | SKIPPED | SKIPPED | SKIPPED | +-------------------------------+--------------------+-------------------+-------------------+------------------+-------------------------+----------------------+ | Debian GNU/Linux 12 | PASS | SKIPPED | WARN | SKIPPED | SKIPPED | SKIPPED | +-------------------------------+--------------------+-------------------+-------------------+------------------+-------------------------+----------------------+ | Fedora Linux 42 | PASS | SKIPPED | WARN | PASS | SKIPPED | SKIPPED | +-------------------------------+--------------------+-------------------+-------------------+------------------+-------------------------+----------------------+ | openSUSE Leap 15.6 | PASS | SKIPPED | SKIPPED | SKIPPED | SKIPPED | SKIPPED | +-------------------------------+--------------------+-------------------+-------------------+------------------+-------------------------+----------------------+ | Red Hat Enterprise Linux 8.10 | PASS | SKIPPED | SKIPPED | SKIPPED | SKIPPED | SKIPPED | +-------------------------------+--------------------+-------------------+-------------------+------------------+-------------------------+----------------------+ | Ubuntu 22.04 | PASS | SKIPPED | WARN | SKIPPED | SKIPPED | SKIPPED | +-------------------------------+--------------------+-------------------+-------------------+------------------+-------------------------+----------------------+ | Ubuntu 24.04 | PASS | SKIPPED | WARN | PASS | SKIPPED | SKIPPED | +-------------------------------+--------------------+-------------------+-------------------+------------------+-------------------------+----------------------+ | Red Hat Enterprise Linux 9.5 | PASS | SKIPPED | SKIPPED | SKIPPED | SKIPPED | SKIPPED | +-------------------------------+--------------------+-------------------+-------------------+------------------+-------------------------+----------------------+ | Alpine Linux 3.22.0 | PASS | SKIPPED | SKIPPED | SKIPPED | SKIPPED | SKIPPED | +-------------------------------+--------------------+-------------------+-------------------+------------------+-------------------------+----------------------+ | Windows Server 2022 | SKIPPED | PASS | SKIPPED | SKIPPED | PASS | PASS | +-------------------------------+--------------------+-------------------+-------------------+------------------+-------------------------+----------------------+ ==== 20 line log output for Ubuntu 24.04 (dpdk_compile_spdk): ==== --- Failed to get log output --- ==== End log output ==== Ubuntu 20.04 Kernel: 4.19 Compiler: gcc gcc (Ubuntu 9.4.0-1ubuntu1~20.04.2) 9.4.0 FreeBSD 14.2 Kernel: 14.2-RELEASE Compiler: clang 18.1.6 CentOS Stream 9 Kernel: 5.15 Compiler: gcc gcc (GCC) 11.5.0 20240719 (Red Hat 11.5.0-11) CentOS Stream 10 Kernel: 5.15 Compiler: gcc gcc (GCC) 14.2.1 20250110 (Red Hat 14.2.1-8) Debian GNU/Linux 12 Kernel: 5.15 Compiler: gcc gcc (Debian 12.2.0-14+deb12u1) 12.2.0 Fedora Linux 42 Kernel: 5.15 Compiler: clang gcc (GCC) 15.2.1 20250808 (Red Hat 15.2.1-1) openSUSE Leap 15.6 Kernel: 5.15 Compiler: gcc gcc (SUSE Linux) 7.5.0 Red Hat Enterprise Linux 8.10 Kernel: 5.15 Compiler: gcc gcc (GCC) 8.5.0 20210514 (Red Hat 8.5.0-22) Ubuntu 22.04 Kernel: 5.15 Compiler: gcc gcc (Ubuntu 11.4.0-1ubuntu1~22.04) 11.4.0 Ubuntu 24.04 Kernel: 5.15 Compiler: gcc gcc (Ubuntu 13.3.0-6ubuntu2~24.04) 13.3.0 Red Hat Enterprise Linux 9.5 Kernel: 5.15 Compiler: gcc gcc (GCC) 11.5.0 20240719 (Red Hat 11.5.0-2) Alpine Linux 3.22.0 Kernel: 5.15 Compiler: gcc gcc (Alpine 14.2.0) 14.2.0 Windows Server 2022 Kernel: 10.0.20348.2031 Compiler: clang 15.0.7, gcc 14.1.0 (MinGW), and MSVC VS 19.39.33521 To view detailed results, visit: https://lab.dpdk.org/results/dashboard/patchsets/34331/ UNH-IOL DPDK Community Lab To manage your email subscriptions, visit: https://lab.dpdk.org/results/dashboard/preferences/subscriptions/