From mboxrd@z Thu Jan 1 00:00:00 1970 Return-Path: Received: from mails.dpdk.org (mails.dpdk.org [217.70.189.124]) by inbox.dpdk.org (Postfix) with ESMTP id 074754898C for ; Mon, 20 Oct 2025 17:15:45 +0200 (CEST) Received: from mails.dpdk.org (localhost [127.0.0.1]) by mails.dpdk.org (Postfix) with ESMTP id 02462400D6; Mon, 20 Oct 2025 17:15:45 +0200 (CEST) Received: from mail-il1-f228.google.com (mail-il1-f228.google.com [209.85.166.228]) by mails.dpdk.org (Postfix) with ESMTP id 360F7400D6 for ; Mon, 20 Oct 2025 17:15:43 +0200 (CEST) Received: by mail-il1-f228.google.com with SMTP id e9e14a558f8ab-430a5fe0c5cso37010825ab.0 for ; Mon, 20 Oct 2025 08:15:43 -0700 (PDT) DKIM-Signature: v=1; a=rsa-sha256; c=relaxed/relaxed; d=iol.unh.edu; s=unh-iol; t=1760973342; x=1761578142; darn=dpdk.org; h=cc:to:from:subject:message-id:date:from:to:cc:subject:date :message-id:reply-to; bh=knj129TJXzSe1GF7ov5rNvekh3np3mPmQ3k/p+qG958=; b=dElIBLXZhfO4v0tb4lnz8fRPXUTjHUTn25+8I/k1LxJ+6vp5juNTUlqRAEJsvSFdBa PKTsDUmVijF5QTvNgjgcLLIVfMEYWJL85pxQp3Ft+trpEwEBwg6PqNGaG+ruDRgBxJ2c Z11aWR9/sNKBygP2Ha3vBVHwbPDqWk5d13y3w= X-Google-DKIM-Signature: v=1; a=rsa-sha256; c=relaxed/relaxed; d=1e100.net; s=20230601; t=1760973342; x=1761578142; h=cc:to:from:subject:message-id:date:x-gm-message-state:from:to:cc :subject:date:message-id:reply-to; bh=knj129TJXzSe1GF7ov5rNvekh3np3mPmQ3k/p+qG958=; b=BHZXmIiykiL5ahagNIOERy+aD/rJQ9cmNDYkefiyXDzFxo/hvvv+5KxcFkgZZhT1RO 78eYxwjFXI5D1vQLhNuPJWVIOPJgnNLKA0vTsflr+ShjzoV2w/8nYJX80LNenzHCtvJB dQGuJyalvSvAXNvpDxaL0enAZw49I7N1omBpxY6Hfs1OUNlYWDbXfIIirAHB80CwKDaE joxC1tEmjbE8v31AfH5pHzxBu1xwLVb71TJLwRxfa43TBgJTrgRS2a4Q5zCHLCsNDrwy gnfuiTlMRtwfdSox6zDPH3HmAVfuVyc377GQiq9vPqAffXu7iqFPSax5XSR9hCdj7Inq NNUA== X-Gm-Message-State: AOJu0YxU2RwG6XSXBK1YUGtnfV6ehrRIHnctarPtUfVkBKRlIlOJwkll cxC44xllaMW8FaiNgNobhFEMrSGxQ17v689uFHNnXmFHi1UZ+KpyrJbOE4jBdcF34icgWlxRFO2 CN3oMzqQO02cA42DR52S+XgZpceSzqTNGGiKa/9Zvew/8Mg73qQ4Q X-Gm-Gg: ASbGnct47m96c2aFh/4g4OaezXP0pTymvOtYt7Ska9r2NJ0MYUsNvQ/vUr3kWam1eon rZEVBPzPA4jB3HuCVOMEXF2wmDqalnh7lH+HxpSXuTq+6hMsNQYQc+ZkjvDdFZkG+pilXYxKu2H X9gvibnjTdTxx9Nqpm7MqhXw9A5u5HteDbKbhSmMtR3twe0rk3O9szVPpN9YWqlzanQVFJFyM1H zPn1mFA+FiwnLZ4hkDgs12QnWSXBuLUR0RFX7kLKYcsd1og+bHjDaSMJ90nWFVlrYUr8MSIUudU b7tp3JMDmb/lxr5GIIfz7bkD6yx9IqKe13Obofzaqy5U6XZUauhkajaUIvAMDdU1I70sXtiuxdx OJUYFmoIT X-Google-Smtp-Source: AGHT+IGHMtjVnKRq9+gwehZxX+rUST5piU4WIcbXkm28JsaTMsiIM8wWE5rRTwVUJL7mhlDwOkf314n1KPS3 X-Received: by 2002:a05:6e02:168a:b0:430:9f96:23c8 with SMTP id e9e14a558f8ab-430c52507c1mr187758495ab.14.1760973342520; Mon, 20 Oct 2025 08:15:42 -0700 (PDT) Received: from postal.iol.unh.edu (postal.iol.unh.edu. [2606:4100:3880:1234::84]) by smtp-relay.gmail.com with ESMTPS id e9e14a558f8ab-430d07cb466sm9046905ab.34.2025.10.20.08.15.42 (version=TLS1_2 cipher=ECDHE-ECDSA-AES128-GCM-SHA256 bits=128/128); Mon, 20 Oct 2025 08:15:42 -0700 (PDT) X-Relaying-Domain: iol.unh.edu Date: Mon, 20 Oct 2025 08:15:42 -0700 (PDT) Message-ID: <68f6521e.050a0220.344d4a.c7abSMTPIN_ADDED_MISSING@mx.google.com> Received: from [172.21.0.3] (unknown [172.18.0.240]) by postal.iol.unh.edu (Postfix) with ESMTP id 11C5C6051830; Mon, 20 Oct 2025 11:15:42 -0400 (EDT) Subject: |SUCCESS| [GIT MASTER] 3b43ce3f4a54468e7ef65760c2fd7b4d6ee6d9fc From: dpdklab@iol.unh.edu To: Test Report Cc: dpdk-test-reports@iol.unh.edu, Xueming Li , Christian Ehrhardt , Kevin Traynor , Luca Boccassi Content-Type: text/plain X-BeenThere: test-report@dpdk.org X-Mailman-Version: 2.1.29 Precedence: list List-Id: automatic DPDK test reports List-Unsubscribe: , List-Archive: List-Post: List-Help: List-Subscribe: , Errors-To: test-report-bounces@dpdk.org _Testing PASS_ Branch: tags/v22.11 3b43ce3f4a54468e7ef65760c2fd7b4d6ee6d9fc --> testing pass Upstream job id: Generic-DPDK-Compile-Meson#436132 Test environment and result as below: +------------------------------+--------------------+ | Environment | dpdk_meson_compile | +==============================+====================+ | Red Hat Enterprise Linux 9.5 | PASS | +------------------------------+--------------------+ | Ubuntu 20.04 | PASS | +------------------------------+--------------------+ | Fedora Linux 42 | PASS | +------------------------------+--------------------+ | Ubuntu 24.04 | PASS | +------------------------------+--------------------+ | CentOS Stream 10 | PASS | +------------------------------+--------------------+ | Debian GNU/Linux 12 | PASS | +------------------------------+--------------------+ | Ubuntu 22.04 | PASS | +------------------------------+--------------------+ | CentOS Stream 9 | PASS | +------------------------------+--------------------+ Red Hat Enterprise Linux 9.5 Kernel: 5.4 Compiler: gcc gcc (GCC) 11.5.0 20240719 (Red Hat 11.5.0-2) Ubuntu 20.04 Kernel: 5.15 Compiler: aarch64-linux-gnu-gcc gcc (Ubuntu 9.4.0-1ubuntu1~20.04.2) 9.4.0 Fedora Linux 42 Kernel: 5.4 Compiler: gcc gcc (GCC) 15.2.1 20250808 (Red Hat 15.2.1-1) Ubuntu 24.04 Kernel: 5.4 Compiler: gcc gcc (Ubuntu 13.3.0-6ubuntu2~24.04) 13.3.0 CentOS Stream 10 Kernel: 5.4 Compiler: gcc gcc (GCC) 14.2.1 20250110 (Red Hat 14.2.1-8) Debian GNU/Linux 12 Kernel: 5.4 Compiler: gcc gcc (Debian 12.2.0-14+deb12u1) 12.2.0 Ubuntu 22.04 Kernel: 5.4 Compiler: gcc gcc (Ubuntu 11.4.0-1ubuntu1~22.04) 11.4.0 CentOS Stream 9 Kernel: 5.4 Compiler: gcc gcc (GCC) 11.5.0 20240719 (Red Hat 11.5.0-11) To view detailed results, visit: https://lab.dpdk.org/results/dashboard/tarballs/35277/ UNH-IOL DPDK Community Lab To manage your email subscriptions, visit: https://lab.dpdk.org/results/dashboard/preferences/subscriptions/