From mboxrd@z Thu Jan 1 00:00:00 1970 Return-Path: Received: from mails.dpdk.org (mails.dpdk.org [217.70.189.124]) by inbox.dpdk.org (Postfix) with ESMTP id 5416A4898C for ; Mon, 20 Oct 2025 17:17:54 +0200 (CEST) Received: from mails.dpdk.org (localhost [127.0.0.1]) by mails.dpdk.org (Postfix) with ESMTP id 3195B400D6; Mon, 20 Oct 2025 17:17:54 +0200 (CEST) Received: from mail-qk1-f228.google.com (mail-qk1-f228.google.com [209.85.222.228]) by mails.dpdk.org (Postfix) with ESMTP id 6727F400D6 for ; Mon, 20 Oct 2025 17:17:53 +0200 (CEST) Received: by mail-qk1-f228.google.com with SMTP id af79cd13be357-891208f6185so434190085a.1 for ; Mon, 20 Oct 2025 08:17:53 -0700 (PDT) DKIM-Signature: v=1; a=rsa-sha256; c=relaxed/relaxed; d=iol.unh.edu; s=unh-iol; t=1760973473; x=1761578273; darn=dpdk.org; h=references:in-reply-to:cc:to:from:subject:message-id:date:from:to :cc:subject:date:message-id:reply-to; bh=PenrUKb0p6g8OTl6C6rsYis0O5HlSnWlZghwvnjX0RM=; b=cpP/luILMoGMxT804wGs+betOcnUnvnEVxD/A5vckwfrdzSkxTlgt9VipRkaVaFWGb NEadv9KxEN2NW92bBMWmA9RnvYL6RNibknrjy8Dx5Bhp0UhrGCA2VRofloEKwdANWdGE t0IkUIpXX58y80aWdUtKGzFuzaIkKWhaGTVig= X-Google-DKIM-Signature: v=1; a=rsa-sha256; c=relaxed/relaxed; d=1e100.net; s=20230601; t=1760973473; x=1761578273; h=references:in-reply-to:cc:to:from:subject:message-id:date :x-gm-message-state:from:to:cc:subject:date:message-id:reply-to; bh=PenrUKb0p6g8OTl6C6rsYis0O5HlSnWlZghwvnjX0RM=; b=AmwP9yIRiwR6Q9smhB7+QSAvdPoqS98Cq6zKvVSfOJCe/lyg28R/RRA6iQePH1XYPU Q+lpHFztvRisXEYNrD+s2/eYrRv4YpjyK+k9TX3VUGIJyVuPQexMfnm/hzlH2CytSUbq GRs8t1Dw4TDgmh4dUCiPrZ4LiKX5/uPrCWk4UpeXrAhlhsOlhrvETZWIsteUmNeU5AZs evtEhza1rDejHZnZs8JMm7bCFFzRig/MOlWw0pXX1D1D9kuY2s87PNyFGppUI3nynCDA yxG0zT4PHZAcimi651Z621p2ZNh3oPwFFRotT7riniD0XuZDQjLHbtTkkjO/6S+4U9pD eOkw== X-Gm-Message-State: AOJu0YwPNZc3k/PugX988jmNNiSyqHPYwtF2P3smQjErxDoWBgHQivvN dM+b/Llm0SMMyIxnPfc5gVW5Tri8lgdJYTFobwZzj0/37wPhu4673peAuBGRp3UelLnbpQZyWKA UsS4MWx5/3Cnjb9HhV6zmW/X4k6voAkFOg/Yjw2WK50wyKefiBDTFNd4mIlUW X-Gm-Gg: ASbGnctTuq9sJf1hMQd2W7KGWxUZ3t+s2hLrTvZGlwwK8hL6CTiKz6XhtB3QpYrnkzg 8dbJbXMWRzTKjoI2ZgWyib4EiB/PLaJNhj8d9e45jnIDyYde1HBwpm9hSgirIZQ0QZ72q6oLgzq 3JWPtwrjP3KdIfFqzTwGVG/mXpOv0V7QLbg5MaHIqHApc5cdr0F18XkFy1H3o8jgn+aObFZBgV8 U9AuSmO4lJNGrQTE8QFmeE7/Cw0b0i6ftkPh/2BNJfUBp6DE+a3QqmP5QoohqlXvNoM4/aJ9Sjb HVRqGvUF53IAH46XVyr3FIe1M3xDaELHGqMhWTQGKQL70qL+gLQloQcJZWWSnlwCDG95bk/gGLv uw4volBwz X-Google-Smtp-Source: AGHT+IHd1zQMYuw/jNA7cjkHwhwpULXdi+wW25pNo/3oGsAKkB0Rb8fw9eHMVassqiYCN8jNTcaT3kEYWY+d X-Received: by 2002:a05:622a:3cd:b0:4e8:a607:3b0e with SMTP id d75a77b69052e-4e8a6073c0dmr163286841cf.38.1760973472660; Mon, 20 Oct 2025 08:17:52 -0700 (PDT) Received: from postal.iol.unh.edu (postal.iol.unh.edu. [2606:4100:3880:1234::84]) by smtp-relay.gmail.com with ESMTPS id 6a1803df08f44-87cf547d404sm10463386d6.23.2025.10.20.08.17.52 (version=TLS1_2 cipher=ECDHE-ECDSA-AES128-GCM-SHA256 bits=128/128); Mon, 20 Oct 2025 08:17:52 -0700 (PDT) X-Relaying-Domain: iol.unh.edu Date: Mon, 20 Oct 2025 08:17:52 -0700 (PDT) Message-ID: <68f652a0.050a0220.d407.12bfSMTPIN_ADDED_MISSING@mx.google.com> Received: from [172.21.0.3] (unknown [172.18.0.240]) by postal.iol.unh.edu (Postfix) with ESMTP id 558A06051830; Mon, 20 Oct 2025 11:17:52 -0400 (EDT) Subject: |SUCCESS| pw157855 [PATCH] ethdev: revert reject conflicting TX offl From: dpdklab@iol.unh.edu To: Test Report Cc: dpdk-test-reports@iol.unh.edu, Stephen Hemminger In-Reply-To: <20251020123326.80591-1-mb@smartsharesystems.com> References: <20251020123326.80591-1-mb@smartsharesystems.com> Content-Type: text/plain X-BeenThere: test-report@dpdk.org X-Mailman-Version: 2.1.29 Precedence: list List-Id: automatic DPDK test reports List-Unsubscribe: , List-Archive: List-Post: List-Help: List-Subscribe: , Errors-To: test-report-bounces@dpdk.org Test-Label: iol-unit-amd64-testing Test-Status: SUCCESS http://dpdk.org/patch/157855 _Testing PASS_ Submitter: Morten Brorup Date: Monday, October 20 2025 12:33:26 DPDK git baseline: Repo:dpdk-next-net Branch: master CommitID:c3babb4bb7ce96122a966dad7b3da06a379d45f2 157855 --> testing pass Upstream job id: Generic-Unit-Test-DPDK#383624 Test environment and result as below: +-------------------------------+----------------+ | Environment | dpdk_unit_test | +===============================+================+ | Fedora Linux 40 | PASS | +-------------------------------+----------------+ | Debian GNU/Linux 12 | PASS | +-------------------------------+----------------+ | CentOS Stream 10 | PASS | +-------------------------------+----------------+ | Fedora Linux 41 | PASS | +-------------------------------+----------------+ | CentOS Stream 9 | PASS | +-------------------------------+----------------+ | Ubuntu 22.04 | PASS | +-------------------------------+----------------+ | Red Hat Enterprise Linux 8.10 | PASS | +-------------------------------+----------------+ | Fedora Linux 42 | PASS | +-------------------------------+----------------+ | Ubuntu 24.04 | PASS | +-------------------------------+----------------+ | Ubuntu 20.04 | PASS | +-------------------------------+----------------+ | Red Hat Enterprise Linux 9.5 | PASS | +-------------------------------+----------------+ | Windows Server 2022 | PASS | +-------------------------------+----------------+ Fedora Linux 40 Kernel: 5.15 Compiler: gcc gcc (GCC) 14.2.1 20240912 (Red Hat 14.2.1-3) Debian GNU/Linux 12 Kernel: 5.15 Compiler: gcc gcc (Debian 12.2.0-14+deb12u1) 12.2.0 CentOS Stream 10 Kernel: 5.15 Compiler: gcc gcc (GCC) 14.2.1 20250110 (Red Hat 14.2.1-8) Fedora Linux 41 Kernel: 5.15 Compiler: clang gcc (GCC) 14.3.1 20250523 (Red Hat 14.3.1-1) CentOS Stream 9 Kernel: 5.15 Compiler: gcc gcc (GCC) 11.5.0 20240719 (Red Hat 11.5.0-11) Ubuntu 22.04 Kernel: 5.15 Compiler: gcc gcc (Ubuntu 11.4.0-1ubuntu1~22.04) 11.4.0 Red Hat Enterprise Linux 8.10 Kernel: 5.15 Compiler: gcc gcc (GCC) 8.5.0 20210514 (Red Hat 8.5.0-22) Fedora Linux 42 Kernel: 5.15 Compiler: clang gcc (GCC) 15.2.1 20250808 (Red Hat 15.2.1-1) Ubuntu 24.04 Kernel: 5.15 Compiler: gcc gcc (Ubuntu 13.3.0-6ubuntu2~24.04) 13.3.0 Ubuntu 20.04 Kernel: 5.15 Compiler: gcc gcc (Ubuntu 9.4.0-1ubuntu1~20.04.2) 9.4.0 Red Hat Enterprise Linux 9.5 Kernel: 5.15 Compiler: gcc gcc (GCC) 11.5.0 20240719 (Red Hat 11.5.0-2) Windows Server 2022 Kernel: 10.0.20348.2031 Compiler: clang 15.0.7, gcc 14.1.0 (MinGW), and MSVC VS 19.39.33521 To view detailed results, visit: https://lab.dpdk.org/results/dashboard/patchsets/34331/ UNH-IOL DPDK Community Lab To manage your email subscriptions, visit: https://lab.dpdk.org/results/dashboard/preferences/subscriptions/