From mboxrd@z Thu Jan 1 00:00:00 1970 Return-Path: Received: from mails.dpdk.org (mails.dpdk.org [217.70.189.124]) by inbox.dpdk.org (Postfix) with ESMTP id A27A34898C for ; Mon, 20 Oct 2025 17:21:36 +0200 (CEST) Received: from mails.dpdk.org (localhost [127.0.0.1]) by mails.dpdk.org (Postfix) with ESMTP id 9A55B400D6; Mon, 20 Oct 2025 17:21:36 +0200 (CEST) Received: from mail-qv1-f97.google.com (mail-qv1-f97.google.com [209.85.219.97]) by mails.dpdk.org (Postfix) with ESMTP id 82C96400D6 for ; Mon, 20 Oct 2025 17:21:35 +0200 (CEST) Received: by mail-qv1-f97.google.com with SMTP id 6a1803df08f44-87a092251eeso101938196d6.0 for ; Mon, 20 Oct 2025 08:21:35 -0700 (PDT) DKIM-Signature: v=1; a=rsa-sha256; c=relaxed/relaxed; d=iol.unh.edu; s=unh-iol; t=1760973695; x=1761578495; darn=dpdk.org; h=cc:to:from:subject:message-id:date:from:to:cc:subject:date :message-id:reply-to; bh=i3dUutaLmpqW8rkWeRTfI4CXwYCokBWtd/6Xm853c4Q=; b=grQMvXu5fISy0rmgNzMyPHU3ZCLJdw/qUa/tB9zcL4gIjqrqeLAuWOBcBHvu+hW5RJ UlKm02Ftg5H5Ly1EyNKOLdI6ywSSiW0pn7uhd7kEotEtShNTIEd2RhTufdgDG0x1ndMz KmnE2lNiSpz7P1otUqxC14OPII1hkjWsE4eAk= X-Google-DKIM-Signature: v=1; a=rsa-sha256; c=relaxed/relaxed; d=1e100.net; s=20230601; t=1760973695; x=1761578495; h=cc:to:from:subject:message-id:date:x-gm-message-state:from:to:cc :subject:date:message-id:reply-to; bh=i3dUutaLmpqW8rkWeRTfI4CXwYCokBWtd/6Xm853c4Q=; b=P+H1psm320uqABw/XTdIFgCg9rePGnBPdygYWtskURFYuXriib3Io39s+Gc2StI9gu 6D9DEEyCveb28qpluQMOz+Ud0Vbj4jctIA42KMoYwbFjkfXiCrcdCY0NOChgezCpTz28 SDD5Y5bGruOf+L8TkwlPP3RazIX2iblOoyLkblBr5sHw2W1b02YnXHwpYGoNKsO+SaET gz9Twv1YnehsIXKJXz176awbRPfTnZUCHaZZjCynf1gqy64hdSleWleyLN/QEwbdCU+1 718dfX2zXgMbpz/KRx39RmfG7RBIKvabEVR2VulX/VtSj4xR5k9v/5YGl//ielFKSwCh PyGg== X-Gm-Message-State: AOJu0YxRD6M0MhvxQ6SFNSXkMV3573gFmy2Pnc2U7bAg4NF/yLYRrspo 7Jl7dSZZDA2tHw5rhS8lwofJ4oXcWuzN+cPxIxkNrsRO27CiSp1pOWKWUYyQTzayk6UFSFEkveP yt0bSbNCAy/NwCUx7oMvaDJ4Bbe5cuCQTwwPnWzeliEJ5R1FMQ6/Jjhhpjo7u X-Gm-Gg: ASbGncss8IxFOhx0ld3rJ65C0NDFkgqj0M60AUU3u/p/K0Aq/bDqoC30dJz+1rnfuxb Mu/Ii48dtRqDNL4HTH+/0ytE0CiB+03re3FnXXMQT442CijAxQaOYssQI0XG7srzh6JMehFECMq fq/8vtewzj7TuaHA5ydofQl6KOIrXtX9RPl2Bt8Xn4oMiTqx77To81y2eBrOewzPeyu1sYSFkuy PTg55i0YowVajKS5lBVKA2s8KikKuLrG1XWcaiu12sAyTxBaGHj7GMPWhzgMSLl/WGCzuF22JMM Tf+tIIA9qaVj9+yLWREhbJiTgAt2rJnrbYhLj9ITqb9Ce+VXz/K4RDIIj/+RigMrV/qS8dXrHM2 yukIbYP/B X-Google-Smtp-Source: AGHT+IGwTOYpuOVrOMW44ggEx6585ntiIuyJ9exeSlCcdiSIYqKgg30FKFkaPNqETKqPRlKzF0Y6LPk1H9JC X-Received: by 2002:a05:6214:406:b0:87c:8b5:1afd with SMTP id 6a1803df08f44-87c0c5ccf18mr210851936d6.2.1760973694710; Mon, 20 Oct 2025 08:21:34 -0700 (PDT) Received: from postal.iol.unh.edu (postal.iol.unh.edu. [2606:4100:3880:1234::84]) by smtp-relay.gmail.com with ESMTPS id 6a1803df08f44-87ce9f600f8sm10813056d6.6.2025.10.20.08.21.34 (version=TLS1_2 cipher=ECDHE-ECDSA-AES128-GCM-SHA256 bits=128/128); Mon, 20 Oct 2025 08:21:34 -0700 (PDT) X-Relaying-Domain: iol.unh.edu Date: Mon, 20 Oct 2025 08:21:34 -0700 (PDT) Message-ID: <68f6537e.050a0220.38d62d.1663SMTPIN_ADDED_MISSING@mx.google.com> Received: from [172.21.0.2] (unknown [172.18.0.240]) by postal.iol.unh.edu (Postfix) with ESMTP id 680006051830; Mon, 20 Oct 2025 11:21:34 -0400 (EDT) Subject: |SUCCESS| [GIT MASTER] c3babb4bb7ce96122a966dad7b3da06a379d45f2 From: dpdklab@iol.unh.edu To: Test Report Cc: dpdk-test-reports@iol.unh.edu, Stephen Hemminger Content-Type: text/plain X-BeenThere: test-report@dpdk.org X-Mailman-Version: 2.1.29 Precedence: list List-Id: automatic DPDK test reports List-Unsubscribe: , List-Archive: List-Post: List-Help: List-Subscribe: , Errors-To: test-report-bounces@dpdk.org _Testing PASS_ Branch: dpdk-next-net c3babb4bb7ce96122a966dad7b3da06a379d45f2 --> testing pass Upstream job id: Generic-Unit-Test-DPDK#383529 Test environment and result as below: +------------------------------+--------------+------------------------------+---------------------------+----------------+ | Environment | lpm_autotest | cryptodev_sw_snow3g_autotest | cryptodev_sw_zuc_autotest | dpdk_unit_test | +==============================+==============+==============================+===========================+================+ | Ubuntu 20.04 | PASS | SKIPPED | SKIPPED | PASS | +------------------------------+--------------+------------------------------+---------------------------+----------------+ | Debian 12 (arm) | SKIPPED | PASS | PASS | SKIPPED | +------------------------------+--------------+------------------------------+---------------------------+----------------+ | CentOS Stream 9 | SKIPPED | SKIPPED | SKIPPED | PASS | +------------------------------+--------------+------------------------------+---------------------------+----------------+ | CentOS Stream 10 | SKIPPED | SKIPPED | SKIPPED | PASS | +------------------------------+--------------+------------------------------+---------------------------+----------------+ | Fedora Linux 40 | SKIPPED | SKIPPED | SKIPPED | PASS | +------------------------------+--------------+------------------------------+---------------------------+----------------+ | Ubuntu 22.04 | SKIPPED | SKIPPED | SKIPPED | PASS | +------------------------------+--------------+------------------------------+---------------------------+----------------+ | Debian GNU/Linux 12 | SKIPPED | SKIPPED | SKIPPED | PASS | +------------------------------+--------------+------------------------------+---------------------------+----------------+ | Fedora Linux 42 | SKIPPED | SKIPPED | SKIPPED | PASS | +------------------------------+--------------+------------------------------+---------------------------+----------------+ | Fedora Linux 41 | SKIPPED | SKIPPED | SKIPPED | PASS | +------------------------------+--------------+------------------------------+---------------------------+----------------+ | Ubuntu 24.04 | SKIPPED | SKIPPED | SKIPPED | PASS | +------------------------------+--------------+------------------------------+---------------------------+----------------+ | Red Hat Enterprise Linux 9.5 | SKIPPED | SKIPPED | SKIPPED | PASS | +------------------------------+--------------+------------------------------+---------------------------+----------------+ Ubuntu 20.04 Kernel: 5.4 Compiler: gcc gcc (Ubuntu 9.4.0-1ubuntu1~20.04.2) 9.4.0 Debian 12 (arm) Kernel: Depends on container host Compiler: gcc (Debian 12.2.0-14) 12.2.0 CentOS Stream 9 Kernel: 5.4 Compiler: gcc gcc (GCC) 11.5.0 20240719 (Red Hat 11.5.0-11) CentOS Stream 10 Kernel: 5.4 Compiler: gcc gcc (GCC) 14.2.1 20250110 (Red Hat 14.2.1-8) Fedora Linux 40 Kernel: 5.4 Compiler: clang gcc (GCC) 14.2.1 20240912 (Red Hat 14.2.1-3) Ubuntu 22.04 Kernel: 5.15 Compiler: gcc gcc (Ubuntu 11.4.0-1ubuntu1~22.04.2) 11.4.0 Debian GNU/Linux 12 Kernel: 5.4 Compiler: gcc gcc (Debian 12.2.0-14+deb12u1) 12.2.0 Fedora Linux 42 Kernel: 5.4 Compiler: clang gcc (GCC) 15.2.1 20250808 (Red Hat 15.2.1-1) Fedora Linux 41 Kernel: 5.4 Compiler: clang gcc (GCC) 14.3.1 20250523 (Red Hat 14.3.1-1) Ubuntu 24.04 Kernel: 5.4 Compiler: gcc gcc (Ubuntu 13.3.0-6ubuntu2~24.04) 13.3.0 Red Hat Enterprise Linux 9.5 Kernel: 5.4 Compiler: gcc gcc (GCC) 11.5.0 20240719 (Red Hat 11.5.0-2) To view detailed results, visit: https://lab.dpdk.org/results/dashboard/tarballs/35281/ UNH-IOL DPDK Community Lab To manage your email subscriptions, visit: https://lab.dpdk.org/results/dashboard/preferences/subscriptions/