From mboxrd@z Thu Jan 1 00:00:00 1970 Return-Path: Received: from mails.dpdk.org (mails.dpdk.org [217.70.189.124]) by inbox.dpdk.org (Postfix) with ESMTP id 3801A4898C for ; Mon, 20 Oct 2025 17:49:37 +0200 (CEST) Received: from mails.dpdk.org (localhost [127.0.0.1]) by mails.dpdk.org (Postfix) with ESMTP id 170CE400D6; Mon, 20 Oct 2025 17:49:37 +0200 (CEST) Received: from mail-pj1-f97.google.com (mail-pj1-f97.google.com [209.85.216.97]) by mails.dpdk.org (Postfix) with ESMTP id 5315A400D6 for ; Mon, 20 Oct 2025 17:49:35 +0200 (CEST) Received: by mail-pj1-f97.google.com with SMTP id 98e67ed59e1d1-33bc2178d6aso3036071a91.0 for ; Mon, 20 Oct 2025 08:49:35 -0700 (PDT) DKIM-Signature: v=1; a=rsa-sha256; c=relaxed/relaxed; d=iol.unh.edu; s=unh-iol; t=1760975374; x=1761580174; darn=dpdk.org; h=references:in-reply-to:cc:to:from:subject:message-id:date:from:to :cc:subject:date:message-id:reply-to; bh=+j2dc25+1mlVQSz6DTrLZYhSuCwckPqMgxrrXyCrrJk=; b=MAWLmvkPU0jBfluASrzCgERJXOmdP525sAv8susy+1NcZQ9T0Um3gF7YpsfPp1HyEH jYQ2A+EdUT5/X6atlz8sf7Eadq5HqRlyeOAxOFjdahShrj7fUbIIQthLwSFUNSnVQCDl wZu401yYNHH1QJN3hHrDkLFbeCTtJ3bSFwkhs= X-Google-DKIM-Signature: v=1; a=rsa-sha256; c=relaxed/relaxed; d=1e100.net; s=20230601; t=1760975374; x=1761580174; h=references:in-reply-to:cc:to:from:subject:message-id:date :x-gm-message-state:from:to:cc:subject:date:message-id:reply-to; bh=+j2dc25+1mlVQSz6DTrLZYhSuCwckPqMgxrrXyCrrJk=; b=oVHLXUbQ/+FSgNF7CrMXcUA01NSkiGsI5lPPfDw2YE3OnDet+2GPJaYbuKDOnJ9LDo 8QbS7grBe3IP9MykADTIfsNv0PW0X3M4aOZSF+2aapgEqcHFUDCWo4ekePhXLSUimxsV vyUgnXrLSqPZ7iIIHPKdt849VS9W0IgRJ9OeBh75ODvabWkjMXaXt+A/dEpw0f+Qqbsh JrttqDgmXWYAY7NMhg+NCSRQ0KelMxOLeg6+nmkQco0p3PMt9DTc8WTMNe747TuRBl9U J3y9HWl1DBHVU6jD3mNk1F5Qf4VYIw8iw0Ax2FcrK3NwBJM0gF0wN+a0IFo6XBVZI6Xs kFJg== X-Gm-Message-State: AOJu0YxLj/Ennueb6qczC/qcvv0JY+l5lSMTirDDvCOZ5Iu9Ync4IHfr GWw+uy/FKSzrdm52yj3SjcUVtp/aYxZBxu4AaV4ZYi7X7r8Peu9RvmkuyxG/9fmSJ0brEcOvSU6 Cn6X3y59SrhaFy4ba0ILJDWU5awTEMYw8FhOUtXdVZ6R7/nzZV3Gc4vAr2xd0 X-Gm-Gg: ASbGncuszJmxzyzEb3vL98MPEiDSj7XcL910PbewoHhfYXBTwWaSM/sfS6aza0E5GH8 ImHy9eaCnnzBKSS+F5GJojt7Gj5cOz2IgUfj2Uqyi1tYiNFKqueCD/ixIBidJOZ2pZuwZibxx5m MNP/2SfzbliW8eV0x8bjAcZk1q98pQ7+9KCU1I9W6bq6bVsaFk7lerqoiBp7ZmEW8Ggk5+5Hx3X /9Ahfuh8DIDPnBh0v/UMkQjzYyKAGjGiBsJKx6keqVQDXz9qzurkpa1lMaYvqgq6oXHuq9+B8+O sUUgrR9Ra/o/KEu+brOfTjltu9W8lcPsSps5SYGCsWWENewoK+pPYZfC5SxubVM77Qh5X9QsUr9 lzlqeq6iF X-Google-Smtp-Source: AGHT+IFlTFzx4jRMrSejiLQZgnFlfFMP4zEBq+g3FH6a9Vr1EQ9ocna3VnS6xPV7QjwxT99Ixh/mXO0cTu1O X-Received: by 2002:a17:90b:28c4:b0:336:b563:993a with SMTP id 98e67ed59e1d1-33bcf8e72f4mr19621719a91.23.1760975374248; Mon, 20 Oct 2025 08:49:34 -0700 (PDT) Received: from postal.iol.unh.edu (postal.iol.unh.edu. [2606:4100:3880:1234::84]) by smtp-relay.gmail.com with ESMTPS id 98e67ed59e1d1-33ba927055asm406624a91.0.2025.10.20.08.49.34 (version=TLS1_2 cipher=ECDHE-ECDSA-AES128-GCM-SHA256 bits=128/128); Mon, 20 Oct 2025 08:49:34 -0700 (PDT) X-Relaying-Domain: iol.unh.edu Date: Mon, 20 Oct 2025 08:49:34 -0700 (PDT) Message-ID: <68f65a0e.170a0220.312d00.f242SMTPIN_ADDED_MISSING@mx.google.com> Received: from [172.21.0.2] (unknown [172.18.0.240]) by postal.iol.unh.edu (Postfix) with ESMTP id 7DB776051830; Mon, 20 Oct 2025 11:49:33 -0400 (EDT) Subject: |SUCCESS| pw157856-157857 [PATCH] [v4,2/2] mailmap: sort mailmap From: dpdklab@iol.unh.edu To: Test Report Cc: dpdk-test-reports@iol.unh.edu In-Reply-To: <20251020140805.1361249-3-bruce.richardson@intel.com> References: <20251020140805.1361249-3-bruce.richardson@intel.com> Content-Type: text/plain X-BeenThere: test-report@dpdk.org X-Mailman-Version: 2.1.29 Precedence: list List-Id: automatic DPDK test reports List-Unsubscribe: , List-Archive: List-Post: List-Help: List-Subscribe: , Errors-To: test-report-bounces@dpdk.org Test-Label: iol-unit-amd64-testing Test-Status: SUCCESS http://dpdk.org/patch/157857 _Testing PASS_ Submitter: Bruce Richardson Date: Monday, October 20 2025 14:08:02 DPDK git baseline: Repo:dpdk Branch: master CommitID:3e19094cb697998972e7f89bdd3ab08ea457ae1f 157856-157857 --> testing pass Upstream job id: Generic-Unit-Test-DPDK#383650 Test environment and result as below: +-------------------------------+----------------+ | Environment | dpdk_unit_test | +===============================+================+ | Debian GNU/Linux 12 | PASS | +-------------------------------+----------------+ | Fedora Linux 40 | PASS | +-------------------------------+----------------+ | CentOS Stream 9 | PASS | +-------------------------------+----------------+ | CentOS Stream 10 | PASS | +-------------------------------+----------------+ | Fedora Linux 41 | PASS | +-------------------------------+----------------+ | Ubuntu 22.04 | PASS | +-------------------------------+----------------+ | Fedora Linux 42 | PASS | +-------------------------------+----------------+ | Red Hat Enterprise Linux 8.10 | PASS | +-------------------------------+----------------+ | Ubuntu 20.04 | PASS | +-------------------------------+----------------+ | Ubuntu 24.04 | PASS | +-------------------------------+----------------+ | Red Hat Enterprise Linux 9.5 | PASS | +-------------------------------+----------------+ | Windows Server 2022 | PASS | +-------------------------------+----------------+ Debian GNU/Linux 12 Kernel: 5.15 Compiler: gcc gcc (Debian 12.2.0-14+deb12u1) 12.2.0 Fedora Linux 40 Kernel: 5.15 Compiler: clang gcc (GCC) 14.2.1 20240912 (Red Hat 14.2.1-3) CentOS Stream 9 Kernel: 5.15 Compiler: gcc gcc (GCC) 11.5.0 20240719 (Red Hat 11.5.0-11) CentOS Stream 10 Kernel: 5.15 Compiler: gcc gcc (GCC) 14.2.1 20250110 (Red Hat 14.2.1-8) Fedora Linux 41 Kernel: 5.15 Compiler: gcc gcc (GCC) 14.3.1 20250523 (Red Hat 14.3.1-1) Ubuntu 22.04 Kernel: 5.15 Compiler: gcc gcc (Ubuntu 11.4.0-1ubuntu1~22.04) 11.4.0 Fedora Linux 42 Kernel: 5.15 Compiler: gcc gcc (GCC) 15.2.1 20250808 (Red Hat 15.2.1-1) Red Hat Enterprise Linux 8.10 Kernel: 5.15 Compiler: gcc gcc (GCC) 8.5.0 20210514 (Red Hat 8.5.0-22) Ubuntu 20.04 Kernel: 5.15 Compiler: gcc gcc (Ubuntu 9.4.0-1ubuntu1~20.04.2) 9.4.0 Ubuntu 24.04 Kernel: 5.15 Compiler: gcc gcc (Ubuntu 13.3.0-6ubuntu2~24.04) 13.3.0 Red Hat Enterprise Linux 9.5 Kernel: 5.15 Compiler: gcc gcc (GCC) 11.5.0 20240719 (Red Hat 11.5.0-2) Windows Server 2022 Kernel: 10.0.20348.2031 Compiler: clang 15.0.7, gcc 14.1.0 (MinGW), and MSVC VS 19.39.33521 To view detailed results, visit: https://lab.dpdk.org/results/dashboard/patchsets/34332/ UNH-IOL DPDK Community Lab To manage your email subscriptions, visit: https://lab.dpdk.org/results/dashboard/preferences/subscriptions/