From mboxrd@z Thu Jan 1 00:00:00 1970 Return-Path: Received: from mails.dpdk.org (mails.dpdk.org [217.70.189.124]) by inbox.dpdk.org (Postfix) with ESMTP id DCF7A4898C for ; Mon, 20 Oct 2025 17:57:28 +0200 (CEST) Received: from mails.dpdk.org (localhost [127.0.0.1]) by mails.dpdk.org (Postfix) with ESMTP id D6BC140611; Mon, 20 Oct 2025 17:57:28 +0200 (CEST) Received: from mail-pg1-f225.google.com (mail-pg1-f225.google.com [209.85.215.225]) by mails.dpdk.org (Postfix) with ESMTP id CB21740611 for ; Mon, 20 Oct 2025 17:57:26 +0200 (CEST) Received: by mail-pg1-f225.google.com with SMTP id 41be03b00d2f7-b62ed9c3e79so3108321a12.0 for ; Mon, 20 Oct 2025 08:57:26 -0700 (PDT) DKIM-Signature: v=1; a=rsa-sha256; c=relaxed/relaxed; d=iol.unh.edu; s=unh-iol; t=1760975846; x=1761580646; darn=dpdk.org; h=references:in-reply-to:cc:to:from:subject:message-id:date:from:to :cc:subject:date:message-id:reply-to; bh=ALI5d7u+r05hbQHkF90aeKF4etK4eMoeT5IXfDR2VHU=; b=S7p4qGzqY4t7ZYifcLqBvSm30J5JWmq1Q0Wfbks93LlHgchIhu5skqCKGlxAItM3tp JPiHQes/ZoJn4JaK6gkfmyaDdjIpUWFSnkVQHnHuD3qiyzCZ0boEldjxq4LAqZZQSZgW zC/0GGVALfkCvCwhOiiUUagmOldn/W5YiIO2k= X-Google-DKIM-Signature: v=1; a=rsa-sha256; c=relaxed/relaxed; d=1e100.net; s=20230601; t=1760975846; x=1761580646; h=references:in-reply-to:cc:to:from:subject:message-id:date :x-gm-message-state:from:to:cc:subject:date:message-id:reply-to; bh=ALI5d7u+r05hbQHkF90aeKF4etK4eMoeT5IXfDR2VHU=; b=YCEvyxnHAgXsU8OohiBz20AiPS5jIUB5y9tTxJRhYOMknsRZrkQq77RM76JJZzlcif s2WGO0V4XWqtFD4en+/Lfu/0qb84Fb6Dqq8EzrGPPfuWixcyDBp+6rDLVRShgukhiYmh a3a6fg5yrEauSo1RDZ3Uxumaeyq5l9G90hbEPRrShvfFkQbB4G2E6kOM6qDiSA5h9/5r xNHRSS9KEjgNnM+tXp2F2dfOcRiWRxsDsP9m7gV8n9SDvgiZ+6EFnCRbMGe7JsrGzq2p iHccp5YdK5ztbFztDGmFWvIE7ObY8PrN5/SrYsD/ySgaOfUSKJhhZKithtxSrBVDCsI+ o7kg== X-Gm-Message-State: AOJu0YyILpYx+mHKjHiTKtymny410hekoltNjKTPaGGCwNSI7akH8rh9 OUVMte6jYT4+sFcH3NnwvOBxm3Fqc1CjKcAQz4LHGZrrsHwTzre+BBYsMz+qrrjimWv+VyeuZcx DWm0x+A9+GNfbR+MBk67ZdCL12G9El+5/8jvrdcGPBBRb X-Gm-Gg: ASbGncvhfQISPRK7/xwJIiRVcOAb1Ll2J+f3teWiGCscQknUhu5iWuFSKmEdCxUayjf uC+AdcKN6SJYKARoEdCH5SdECUPXVn9yPwrBOWJuOHPAg1aqrUNb3UvbLjvkjkzeQcXAoi+5deS lNJYEacXNjp9GE8Twg292/EAe7W+kf6bmFR1ZGBPAmVLqLIEadKhavqgS7IfB6vNaJ0p42gZnVP 7mgcVMv5uIHfAch0jZg0nEClP4L32kxdp044QOubRZsN9ce8JnUbjYgwLkJxOGstOcI5klTQ+y7 fFm70Yn7FsljrxuUoob6UfjYp9abrnap6f8ZCvdp9yv+1hKRJLR7XsdmhpopGMNGPNGeIVDgCH1 qywOKLT1HNgySbl0wcnMQmhgVSr1Jivk= X-Google-Smtp-Source: AGHT+IFUc9nl4pDfu2ZlfxgeGWGLoJpCZoUI4Bfo1rX7mK+9dB5XLg5feXiHR5YaTxfaTPoRe4tID9iyh8zs X-Received: by 2002:a17:903:120b:b0:290:cd5f:a876 with SMTP id d9443c01a7336-290cd5fa92emr170586855ad.13.1760975846002; Mon, 20 Oct 2025 08:57:26 -0700 (PDT) Received: from postal.iol.unh.edu (postal.iol.unh.edu. [132.177.123.84]) by smtp-relay.gmail.com with ESMTPS id d9443c01a7336-292471c5aa6sm10728115ad.32.2025.10.20.08.57.25 (version=TLS1_2 cipher=ECDHE-ECDSA-AES128-GCM-SHA256 bits=128/128); Mon, 20 Oct 2025 08:57:25 -0700 (PDT) X-Relaying-Domain: iol.unh.edu Date: Mon, 20 Oct 2025 08:57:25 -0700 (PDT) Message-ID: <68f65be5.170a0220.2314a3.2700SMTPIN_ADDED_MISSING@mx.google.com> Received: from [172.21.0.2] (unknown [172.18.0.240]) by postal.iol.unh.edu (Postfix) with ESMTP id 48A106051830; Mon, 20 Oct 2025 11:57:25 -0400 (EDT) Subject: |WARNING| pw157856-157857 [PATCH] [v4,2/2] mailmap: sort mailmap From: dpdklab@iol.unh.edu To: Test Report Cc: dpdk-test-reports@iol.unh.edu In-Reply-To: <20251020140805.1361249-3-bruce.richardson@intel.com> References: <20251020140805.1361249-3-bruce.richardson@intel.com> Content-Type: text/plain X-BeenThere: test-report@dpdk.org X-Mailman-Version: 2.1.29 Precedence: list List-Id: automatic DPDK test reports List-Unsubscribe: , List-Archive: List-Post: List-Help: List-Subscribe: , Errors-To: test-report-bounces@dpdk.org Test-Label: iol-compile-amd64-testing Test-Status: WARNING http://dpdk.org/patch/157857 _Testing issues_ Submitter: Bruce Richardson Date: Monday, October 20 2025 14:08:02 DPDK git baseline: Repo:dpdk Branch: master CommitID:3e19094cb697998972e7f89bdd3ab08ea457ae1f 157856-157857 --> testing issues Upstream job id: Generic-DPDK-Compile-Meson#436294 Test environment and result as below: +-------------------------------+--------------------+-------------------+-------------------+------------------+-------------------------+----------------------+ | Environment | dpdk_meson_compile | dpdk_msvc_compile | dpdk_compile_spdk | dpdk_compile_ovs | dpdk_llvm_clang_compile | dpdk_mingw64_compile | +===============================+====================+===================+===================+==================+=========================+======================+ | Ubuntu 20.04 | PASS | SKIPPED | SKIPPED | SKIPPED | SKIPPED | SKIPPED | +-------------------------------+--------------------+-------------------+-------------------+------------------+-------------------------+----------------------+ | FreeBSD 14.2 | PASS | SKIPPED | SKIPPED | SKIPPED | SKIPPED | SKIPPED | +-------------------------------+--------------------+-------------------+-------------------+------------------+-------------------------+----------------------+ | CentOS Stream 9 | PASS | SKIPPED | WARN | SKIPPED | SKIPPED | SKIPPED | +-------------------------------+--------------------+-------------------+-------------------+------------------+-------------------------+----------------------+ | CentOS Stream 10 | PASS | SKIPPED | SKIPPED | SKIPPED | SKIPPED | SKIPPED | +-------------------------------+--------------------+-------------------+-------------------+------------------+-------------------------+----------------------+ | Fedora Linux 42 | PASS | SKIPPED | WARN | PASS | SKIPPED | SKIPPED | +-------------------------------+--------------------+-------------------+-------------------+------------------+-------------------------+----------------------+ | Debian GNU/Linux 12 | PASS | SKIPPED | WARN | SKIPPED | SKIPPED | SKIPPED | +-------------------------------+--------------------+-------------------+-------------------+------------------+-------------------------+----------------------+ | openSUSE Leap 15.6 | PASS | SKIPPED | SKIPPED | SKIPPED | SKIPPED | SKIPPED | +-------------------------------+--------------------+-------------------+-------------------+------------------+-------------------------+----------------------+ | Red Hat Enterprise Linux 8.10 | PASS | SKIPPED | SKIPPED | SKIPPED | SKIPPED | SKIPPED | +-------------------------------+--------------------+-------------------+-------------------+------------------+-------------------------+----------------------+ | Red Hat Enterprise Linux 9.5 | PASS | SKIPPED | SKIPPED | SKIPPED | SKIPPED | SKIPPED | +-------------------------------+--------------------+-------------------+-------------------+------------------+-------------------------+----------------------+ | Ubuntu 22.04 | PASS | SKIPPED | WARN | SKIPPED | SKIPPED | SKIPPED | +-------------------------------+--------------------+-------------------+-------------------+------------------+-------------------------+----------------------+ | Ubuntu 24.04 | PASS | SKIPPED | WARN | PASS | SKIPPED | SKIPPED | +-------------------------------+--------------------+-------------------+-------------------+------------------+-------------------------+----------------------+ | Alpine Linux 3.22.0 | PASS | SKIPPED | SKIPPED | SKIPPED | SKIPPED | SKIPPED | +-------------------------------+--------------------+-------------------+-------------------+------------------+-------------------------+----------------------+ | Windows Server 2022 | SKIPPED | PASS | SKIPPED | SKIPPED | PASS | PASS | +-------------------------------+--------------------+-------------------+-------------------+------------------+-------------------------+----------------------+ ==== 20 line log output for Ubuntu 24.04 (dpdk_compile_spdk): ==== --- Failed to get log output --- ==== End log output ==== Ubuntu 20.04 Kernel: 4.19 Compiler: gcc gcc (Ubuntu 9.4.0-1ubuntu1~20.04.2) 9.4.0 FreeBSD 14.2 Kernel: 14.2-RELEASE Compiler: clang 18.1.6 CentOS Stream 9 Kernel: 5.15 Compiler: gcc gcc (GCC) 11.5.0 20240719 (Red Hat 11.5.0-11) CentOS Stream 10 Kernel: 5.15 Compiler: gcc gcc (GCC) 14.2.1 20250110 (Red Hat 14.2.1-8) Fedora Linux 42 Kernel: 5.15 Compiler: clang gcc (GCC) 15.2.1 20250808 (Red Hat 15.2.1-1) Debian GNU/Linux 12 Kernel: 5.15 Compiler: gcc gcc (Debian 12.2.0-14+deb12u1) 12.2.0 openSUSE Leap 15.6 Kernel: 5.15 Compiler: gcc gcc (SUSE Linux) 7.5.0 Red Hat Enterprise Linux 8.10 Kernel: 5.15 Compiler: gcc gcc (GCC) 8.5.0 20210514 (Red Hat 8.5.0-22) Red Hat Enterprise Linux 9.5 Kernel: 5.15 Compiler: gcc gcc (GCC) 11.5.0 20240719 (Red Hat 11.5.0-2) Ubuntu 22.04 Kernel: 5.15 Compiler: gcc gcc (Ubuntu 11.4.0-1ubuntu1~22.04) 11.4.0 Ubuntu 24.04 Kernel: 5.15 Compiler: gcc gcc (Ubuntu 13.3.0-6ubuntu2~24.04) 13.3.0 Alpine Linux 3.22.0 Kernel: 5.15 Compiler: gcc gcc (Alpine 14.2.0) 14.2.0 Windows Server 2022 Kernel: 10.0.20348.2031 Compiler: clang 15.0.7, gcc 14.1.0 (MinGW), and MSVC VS 19.39.33521 To view detailed results, visit: https://lab.dpdk.org/results/dashboard/patchsets/34332/ UNH-IOL DPDK Community Lab To manage your email subscriptions, visit: https://lab.dpdk.org/results/dashboard/preferences/subscriptions/