From mboxrd@z Thu Jan 1 00:00:00 1970 Return-Path: Received: from mails.dpdk.org (mails.dpdk.org [217.70.189.124]) by inbox.dpdk.org (Postfix) with ESMTP id D6D324898D for ; Mon, 20 Oct 2025 18:45:18 +0200 (CEST) Received: from mails.dpdk.org (localhost [127.0.0.1]) by mails.dpdk.org (Postfix) with ESMTP id C6F7C40E4C; Mon, 20 Oct 2025 18:45:18 +0200 (CEST) Received: from mail-yw1-f228.google.com (mail-yw1-f228.google.com [209.85.128.228]) by mails.dpdk.org (Postfix) with ESMTP id 7144E40E49 for ; Mon, 20 Oct 2025 18:45:17 +0200 (CEST) Received: by mail-yw1-f228.google.com with SMTP id 00721157ae682-78487b0960bso21328847b3.2 for ; Mon, 20 Oct 2025 09:45:17 -0700 (PDT) DKIM-Signature: v=1; a=rsa-sha256; c=relaxed/relaxed; d=iol.unh.edu; s=unh-iol; t=1760978717; x=1761583517; darn=dpdk.org; h=references:in-reply-to:cc:to:from:subject:message-id:date:from:to :cc:subject:date:message-id:reply-to; bh=tU/Zi5DJh8oEgNnXddOR1CiEZdiGdkM5PU2Gs4ikSWo=; b=ZUm503remaiNXejtl77BFif6LLZfDJe356vSu1SxZpjN+CtGeZqe4ib/kYHuq1iWl5 MvySloxjB9gQXFdWkffVu0nb8PLnskiLlNWWEG6A1vYWSnkJYODd3FpiMkc7zBhg+W0t MV8DDtoW8t9n18DJDW/1eOyYES/wWt9XK/Ehg= X-Google-DKIM-Signature: v=1; a=rsa-sha256; c=relaxed/relaxed; d=1e100.net; s=20230601; t=1760978717; x=1761583517; h=references:in-reply-to:cc:to:from:subject:message-id:date :x-gm-message-state:from:to:cc:subject:date:message-id:reply-to; bh=tU/Zi5DJh8oEgNnXddOR1CiEZdiGdkM5PU2Gs4ikSWo=; b=j8zM3M72iDFySQFTi4jztCtFF+ypcefxx1SHcunfvmYl98ExJes5Nqpx6ymDvVRVGx v0+eNyWOqyITgWFVlVbxtP5uaGH4NEOmRjJfSGUveqRayaE8Z/PqpQeVBWFzWG3FkyYt haArKEsDJfLufxLte2I9RnD/bs3bshW98yblLcAU5GVHxr6vlsZStGuVhx/XL9gtd8AC F5ir8nOPRrhi8/14BsVQ6P2BUO6ypCFPGfXQbkn8R/sR1dRRM/W+8QShqcKGSBy1tkx4 HnZXATCjOZzuzvE7pbZb+LjMwxKM+nPxCtUAxYRO6okBg97MghyFyjHXXeRyuBGZMjOB oCMw== X-Gm-Message-State: AOJu0Yx6hPSgGVvNMmQtkgNF1528FqhLNWHU94tfQVcvy0sW1XCFQYL3 UGgEIgtJuepmjlbSLNgFCrmncNCsRskiElpb/QkBBbh3zzzPpYKUX/EpQ0IJnTd8JO+CIMvg3ud pyRWQeirU1Y7FaHJVZwpvToIM27RNU1bUy4Ok0fUm3UMT X-Gm-Gg: ASbGnctIxA6pUvKgVte/hf3aYyAWOCDkcEjR+uWHxoUIHdwt3TcVDYFcv+y3GmRWRKY ZDiIE/cznimYHF4ggkxmzU0bOGO615pfWue9YecpAfFmOm6gU7fzx+8aIKSaAG/AOnSP1FsNoFe Y3iYU22nFmUIHaWBsJTE8kid0xPITSYqqHkjMT7IYRt8xyizy0j/3cxcm17XIkkSumnRzybkrMG Awy5dZidGvJq46hxZlCDaXUKIVnIijSmUgbdDLBZJrA+5fQ8FEfjwfgziPaKNO3Ku91RH2fY7Uj PXdejqSH8vMJOkt8sOOdyd+hNlPgEdoAI5Qwt7yD8y1iRz9hADFkVE7QGz3oxsXo0zZxG6tqLSh /dB+6CLemF/ZaNeaacMJU0rNRENnWO0w= X-Google-Smtp-Source: AGHT+IGdHe7WNmJQiCx3FCkKxtiqEPEY7KoGUSy/m+RouO5ZOKkE5ZAJCsYJf0cmeynX+3m9F2nx5h5XXcMS X-Received: by 2002:a05:690c:67c5:b0:780:fdbb:5281 with SMTP id 00721157ae682-7836d169b52mr116590297b3.8.1760978716824; Mon, 20 Oct 2025 09:45:16 -0700 (PDT) Received: from postal.iol.unh.edu (postal.iol.unh.edu. [132.177.123.84]) by smtp-relay.gmail.com with ESMTPS id 00721157ae682-7846a69f076sm6850177b3.32.2025.10.20.09.45.16 (version=TLS1_2 cipher=ECDHE-ECDSA-AES128-GCM-SHA256 bits=128/128); Mon, 20 Oct 2025 09:45:16 -0700 (PDT) X-Relaying-Domain: iol.unh.edu Date: Mon, 20 Oct 2025 09:45:16 -0700 (PDT) Message-ID: <68f6671c.050a0220.38bb41.566cSMTPIN_ADDED_MISSING@mx.google.com> Received: from [172.21.0.3] (unknown [172.18.0.240]) by postal.iol.unh.edu (Postfix) with ESMTP id 8975E6051830; Mon, 20 Oct 2025 12:45:16 -0400 (EDT) Subject: |SUCCESS| pw157858 [PATCH] devtools/test-meson-builds: reduce output From: dpdklab@iol.unh.edu To: Test Report Cc: dpdk-test-reports@iol.unh.edu In-Reply-To: <20251020155536.1965938-1-bruce.richardson@intel.com> References: <20251020155536.1965938-1-bruce.richardson@intel.com> Content-Type: text/plain X-BeenThere: test-report@dpdk.org X-Mailman-Version: 2.1.29 Precedence: list List-Id: automatic DPDK test reports List-Unsubscribe: , List-Archive: List-Post: List-Help: List-Subscribe: , Errors-To: test-report-bounces@dpdk.org Test-Label: iol-compile-amd64-testing Test-Status: SUCCESS http://dpdk.org/patch/157858 _Testing PASS_ Submitter: Bruce Richardson Date: Monday, October 20 2025 15:55:36 DPDK git baseline: Repo:dpdk Branch: master CommitID:0a3410709d0d35c4914e468f2606c69b615d48e7 157858 --> testing pass Upstream job id: Windows-Compile-DPDK-Native#31778 Test environment and result as below: +---------------------+--------------------+-------------------+-------------------------+----------------------+ | Environment | dpdk_meson_compile | dpdk_msvc_compile | dpdk_llvm_clang_compile | dpdk_mingw64_compile | +=====================+====================+===================+=========================+======================+ | Ubuntu 20.04 | PASS | SKIPPED | SKIPPED | SKIPPED | +---------------------+--------------------+-------------------+-------------------------+----------------------+ | FreeBSD 14.2 | PASS | SKIPPED | SKIPPED | SKIPPED | +---------------------+--------------------+-------------------+-------------------------+----------------------+ | Windows Server 2022 | SKIPPED | PASS | PASS | PASS | +---------------------+--------------------+-------------------+-------------------------+----------------------+ Ubuntu 20.04 Kernel: 4.19 Compiler: gcc gcc (Ubuntu 9.4.0-1ubuntu1~20.04.2) 9.4.0 FreeBSD 14.2 Kernel: 14.2-RELEASE Compiler: clang 18.1.6 Windows Server 2022 Kernel: 10.0.20348.2031 Compiler: clang 15.0.7, gcc 14.1.0 (MinGW), and MSVC VS 19.39.33521 To view detailed results, visit: https://lab.dpdk.org/results/dashboard/patchsets/34333/ UNH-IOL DPDK Community Lab To manage your email subscriptions, visit: https://lab.dpdk.org/results/dashboard/preferences/subscriptions/