From mboxrd@z Thu Jan 1 00:00:00 1970 Return-Path: Received: from mails.dpdk.org (mails.dpdk.org [217.70.189.124]) by inbox.dpdk.org (Postfix) with ESMTP id BC17A4898D for ; Mon, 20 Oct 2025 18:55:26 +0200 (CEST) Received: from mails.dpdk.org (localhost [127.0.0.1]) by mails.dpdk.org (Postfix) with ESMTP id B7C5C402B0; Mon, 20 Oct 2025 18:55:26 +0200 (CEST) Received: from mail-pl1-f225.google.com (mail-pl1-f225.google.com [209.85.214.225]) by mails.dpdk.org (Postfix) with ESMTP id D171A402B0 for ; Mon, 20 Oct 2025 18:55:25 +0200 (CEST) Received: by mail-pl1-f225.google.com with SMTP id d9443c01a7336-27eec33b737so69153105ad.1 for ; Mon, 20 Oct 2025 09:55:25 -0700 (PDT) DKIM-Signature: v=1; a=rsa-sha256; c=relaxed/relaxed; d=iol.unh.edu; s=unh-iol; t=1760979325; x=1761584125; darn=dpdk.org; h=references:in-reply-to:cc:to:from:subject:message-id:date:from:to :cc:subject:date:message-id:reply-to; bh=WOxAkNp+LN6Ga2qWrVmrqvnrqUhlAx1CrLQdKQYkn8k=; b=jpnpyEFxAKIAOUKcl890qNHh4loC2qmP0g+eCKyu98dj2MZh5zNEER1tRrl0Mu4oUf IV9R0h78RNbT0BwQ9TA+uYhE+X2OHe7UDDehCAHs7W5y6WV2l7Pi/nEmS1mWp7pxP6+Z NAZ/4kny7xCesWQRbhy6HB/s8Meaw/1OKbCzY= X-Google-DKIM-Signature: v=1; a=rsa-sha256; c=relaxed/relaxed; d=1e100.net; s=20230601; t=1760979325; x=1761584125; h=references:in-reply-to:cc:to:from:subject:message-id:date :x-gm-message-state:from:to:cc:subject:date:message-id:reply-to; bh=WOxAkNp+LN6Ga2qWrVmrqvnrqUhlAx1CrLQdKQYkn8k=; b=nTLqH0S+C84FluzReygnPDBVoyVuVcvkJPBjyI+qJC66McGyfXePIFvUolveM5AZw4 Y1jSJBwWdCN6FQ8kyeff0AW0OXWGFsa2HSU/f6N4/4KQHO0YPU+aUOhi7UA7F2PUNAB3 t3cUB5+kelzou2A3D6jY0kG+UvNUgTwL11kjjNPuRPPHfqYwVNUlXf3fbxI7zH/l7MKL J0nFvPSoBSrpKE9YpngaBSPc2ebdHXuCsBc7HGLOlXlu+3WUb2LIRp8k4vTNU+G5dKuX Lgp+Lmr0+PfUvJ+veeH0uss9yNgImxsLBasGyxnJJbng05apYN5XeTVs2rR4kW87k+3l 0AQQ== X-Gm-Message-State: AOJu0YwGtxsBQlg06sggRsxTP51fK0UdwTsYDfX8LvN67oJsSZ55FvkW HYESfCIPUvZJo+y6xreIbLbJjs1iQF8jd0y0JjJFpSQ9XLirTE3aTPQL+rR/HU5fQlVNdGIP0eW uKyUN2NueFqJ+oveaQGXTWgPucajQxAxs1n7YddhYiSxa X-Gm-Gg: ASbGncsuOfMIx9AvWH5MdZ1SOKyNtZdavB4mfwkD7+ZKJha0kNN2VGg+yaK1uLtFoIN aZJBR9ZEYn+AkfSKNJ8HL6uMtQac57lFVj7me5TLk5SyGgBOxV/OEAKsrwipoXEsejRPNnkVFfJ ys3aHLtidGeRinnsaci75THheHT6M4zDrFBAGN0GbgB3fJToVbYADknONdmNiiD2iZxGBpOys0t koWfOFZOPm1CQa/u+O90gioIuwip4pJ8T46ov2vUDzPeIEB6pueUMmIbZza7c9iHYSgqMzMRr6f uNS/nuQNZttyLcX72Yc/d2vw1qfmXLazw5dLMDRMa2BduwVnoITH17mC90TB2ow5ZhojGNOJeVX z6TeAlq9Kxlh/UOEcoNIT1JzTB7aIwok= X-Google-Smtp-Source: AGHT+IG0HsQAMg0lZzjCocIYan5w+wW8pryVc120NJk81V+7ZAb6AnyYQ6QmQ+U8uazZM5Jb2XkBz6ron/W6 X-Received: by 2002:a17:903:46c7:b0:274:aab9:4ed4 with SMTP id d9443c01a7336-290cb65f861mr181151485ad.57.1760979325076; Mon, 20 Oct 2025 09:55:25 -0700 (PDT) Received: from postal.iol.unh.edu (postal.iol.unh.edu. [132.177.123.84]) by smtp-relay.gmail.com with ESMTPS id d9443c01a7336-292471c5c7dsm10265435ad.38.2025.10.20.09.55.24 (version=TLS1_2 cipher=ECDHE-ECDSA-AES128-GCM-SHA256 bits=128/128); Mon, 20 Oct 2025 09:55:25 -0700 (PDT) X-Relaying-Domain: iol.unh.edu Date: Mon, 20 Oct 2025 09:55:25 -0700 (PDT) Message-ID: <68f6697d.170a0220.36c883.00a2SMTPIN_ADDED_MISSING@mx.google.com> Received: from [172.21.0.3] (unknown [172.18.0.240]) by postal.iol.unh.edu (Postfix) with ESMTP id 5D7AD6051830; Mon, 20 Oct 2025 12:55:24 -0400 (EDT) Subject: |SUCCESS| pw157858 [PATCH] devtools/test-meson-builds: reduce output From: dpdklab@iol.unh.edu To: Test Report Cc: dpdk-test-reports@iol.unh.edu In-Reply-To: <20251020155536.1965938-1-bruce.richardson@intel.com> References: <20251020155536.1965938-1-bruce.richardson@intel.com> Content-Type: text/plain X-BeenThere: test-report@dpdk.org X-Mailman-Version: 2.1.29 Precedence: list List-Id: automatic DPDK test reports List-Unsubscribe: , List-Archive: List-Post: List-Help: List-Subscribe: , Errors-To: test-report-bounces@dpdk.org Test-Label: iol-unit-amd64-testing Test-Status: SUCCESS http://dpdk.org/patch/157858 _Testing PASS_ Submitter: Bruce Richardson Date: Monday, October 20 2025 15:55:36 DPDK git baseline: Repo:dpdk Branch: master CommitID:0a3410709d0d35c4914e468f2606c69b615d48e7 157858 --> testing pass Upstream job id: Generic-VM-Unit-Test-DPDK#31949 Test environment and result as below: +-------------------------------+----------------+ | Environment | dpdk_unit_test | +===============================+================+ | Fedora Linux 41 | PASS | +-------------------------------+----------------+ | Fedora Linux 40 | PASS | +-------------------------------+----------------+ | Windows Server 2022 | PASS | +-------------------------------+----------------+ | Ubuntu 20.04 | PASS | +-------------------------------+----------------+ | Fedora Linux 42 | PASS | +-------------------------------+----------------+ | CentOS Stream 9 | PASS | +-------------------------------+----------------+ | Debian GNU/Linux 12 | PASS | +-------------------------------+----------------+ | CentOS Stream 10 | PASS | +-------------------------------+----------------+ | Red Hat Enterprise Linux 9.5 | PASS | +-------------------------------+----------------+ | Red Hat Enterprise Linux 8.10 | PASS | +-------------------------------+----------------+ | Ubuntu 24.04 | PASS | +-------------------------------+----------------+ | Ubuntu 22.04 | PASS | +-------------------------------+----------------+ Fedora Linux 41 Kernel: 5.15 Compiler: gcc gcc (GCC) 14.3.1 20250523 (Red Hat 14.3.1-1) Fedora Linux 40 Kernel: 5.15 Compiler: gcc gcc (GCC) 14.2.1 20240912 (Red Hat 14.2.1-3) Windows Server 2022 Kernel: 10.0.20348.2031 Compiler: clang 15.0.7, gcc 14.1.0 (MinGW), and MSVC VS 19.39.33521 Ubuntu 20.04 Kernel: 5.15 Compiler: gcc gcc (Ubuntu 9.4.0-1ubuntu1~20.04.2) 9.4.0 Fedora Linux 42 Kernel: 5.15 Compiler: clang gcc (GCC) 15.2.1 20250808 (Red Hat 15.2.1-1) CentOS Stream 9 Kernel: 5.15 Compiler: gcc gcc (GCC) 11.5.0 20240719 (Red Hat 11.5.0-11) Debian GNU/Linux 12 Kernel: 5.15 Compiler: gcc gcc (Debian 12.2.0-14+deb12u1) 12.2.0 CentOS Stream 10 Kernel: 5.15 Compiler: gcc gcc (GCC) 14.2.1 20250110 (Red Hat 14.2.1-8) Red Hat Enterprise Linux 9.5 Kernel: 5.15 Compiler: gcc gcc (GCC) 11.5.0 20240719 (Red Hat 11.5.0-2) Red Hat Enterprise Linux 8.10 Kernel: 5.15 Compiler: gcc gcc (GCC) 8.5.0 20210514 (Red Hat 8.5.0-22) Ubuntu 24.04 Kernel: 5.15 Compiler: gcc gcc (Ubuntu 13.3.0-6ubuntu2~24.04) 13.3.0 Ubuntu 22.04 Kernel: 5.15 Compiler: gcc gcc (Ubuntu 11.4.0-1ubuntu1~22.04) 11.4.0 To view detailed results, visit: https://lab.dpdk.org/results/dashboard/patchsets/34333/ UNH-IOL DPDK Community Lab To manage your email subscriptions, visit: https://lab.dpdk.org/results/dashboard/preferences/subscriptions/