From mboxrd@z Thu Jan 1 00:00:00 1970 Return-Path: Received: from mails.dpdk.org (mails.dpdk.org [217.70.189.124]) by inbox.dpdk.org (Postfix) with ESMTP id 47ED94898D for ; Mon, 20 Oct 2025 19:39:25 +0200 (CEST) Received: from mails.dpdk.org (localhost [127.0.0.1]) by mails.dpdk.org (Postfix) with ESMTP id 4325540151; Mon, 20 Oct 2025 19:39:25 +0200 (CEST) Received: from mail-qv1-f97.google.com (mail-qv1-f97.google.com [209.85.219.97]) by mails.dpdk.org (Postfix) with ESMTP id B0D5340151 for ; Mon, 20 Oct 2025 19:39:23 +0200 (CEST) Received: by mail-qv1-f97.google.com with SMTP id 6a1803df08f44-87c13813464so85924416d6.1 for ; Mon, 20 Oct 2025 10:39:23 -0700 (PDT) DKIM-Signature: v=1; a=rsa-sha256; c=relaxed/relaxed; d=iol.unh.edu; s=unh-iol; t=1760981963; x=1761586763; darn=dpdk.org; h=references:in-reply-to:cc:to:from:subject:message-id:date:from:to :cc:subject:date:message-id:reply-to; bh=xFb13ltRQwClN8M+yepAkStk+TPRtCde5VEO2dPHGo0=; b=QRG76RX4B83jV3DUPIpIxglMJLt5TXuIU9m19G+lJjnhxNLkWlni9RuOxt5Fo07qla SY60rMytYHwyY7GXXfX3riatYqwI5KfvwZsAWaAzTifLLP5DxfEJ9lEx14PRUQKQNR/n 0GXi8ttOtHFgi7VcbXaQoTnr60yjMFL6aMiyA= X-Google-DKIM-Signature: v=1; a=rsa-sha256; c=relaxed/relaxed; d=1e100.net; s=20230601; t=1760981963; x=1761586763; h=references:in-reply-to:cc:to:from:subject:message-id:date :x-gm-message-state:from:to:cc:subject:date:message-id:reply-to; bh=xFb13ltRQwClN8M+yepAkStk+TPRtCde5VEO2dPHGo0=; b=Pc9kWYhgl+Sv30DXFPj9j9d5oAWHacS5pLBI59XDeBeT732QSZoRF8ljxHPHN8ORNl W4L7ByuGDI6iQY/gTyTkGiQYQzVK1URqorviMu8+rommfCil7E/lsZXPSkOylwBeC5BD 1p9WiWaXrMdz5+IxT7AG2bGrI5WV47suTyWilm1Fg0GRUGs9CljOZLf9/UMw+pa65eyq OtPJNUL31R4hOyhD3pPAGI7WNiUySZNQwY6ZFDDGRknumbBIYHPB7iLXsHbs2sxTjzOQ gGWxT5Aj8Eiy6lbJYiqjMFDDJBbDmCxxnsffEWkh6ZTSWkLM0GVl06ZrKqRfuuDAZ3rn DHHA== X-Gm-Message-State: AOJu0YyQ1IAdd4sSP2yV7DZD/te/SnPcC45qInrG1NBkKuW3tiSoPN9U 6IE3wmNko3U4yhIE5ngsVzXICn2nVIAjK0jgDknfAOsWRD+qbjIjUd+2KMBKP1ZXGm7n8/wTexb FtXbDG1he+L2r44QUDu1pRWIT3Z2CzLRIESteqTaYKq7Q1Y1STpf+yIMRkDuF X-Gm-Gg: ASbGncvprMBc8WkU5M9DAVTSqLPZBQ37reZWmywY+aoPdMJrjfwnRdJf/J8r3kktIFe Rr03Pp6kbSHvddLq3pBckMngCWkkSkbNKK2M2zq1/fw3RGEl62Al/O1Y2CWllXqhQNSVdu5b6JD nMkY2KA1kZotEju/YflkXC2gzIhPHdFAqvx14IpXTtAgm/GycKUrqlDfH8X1qXXusqd8HCdUmeF DMrdVxz6EKuxnEfTCxGEL85Y4utiXzqn3D8+p5c6+myhMjEcoIuCF8kAvvApnkPzo1ytWNTOlmr QSJQZhhK8+KkMgrGSLxo8M3nCkqNwmqo3bUoEEhGBmzYnE4TXZxOfB/gVID8MJ5DA4J4uCl5Q/A uF2gsjCwX X-Google-Smtp-Source: AGHT+IFED2ewsCS8fyaN2vfR/WekqaUy14611AzD4N0MsHts0Ngr1uCl4emvuvGszda++DtNsfPgcN509nO9 X-Received: by 2002:ac8:5816:0:b0:4e8:925e:d382 with SMTP id d75a77b69052e-4e89d2a261cmr137559661cf.34.1760981963034; Mon, 20 Oct 2025 10:39:23 -0700 (PDT) Received: from postal.iol.unh.edu (postal.iol.unh.edu. [2606:4100:3880:1234::84]) by smtp-relay.gmail.com with ESMTPS id af79cd13be357-891cfb58f23sm104361185a.7.2025.10.20.10.39.22 (version=TLS1_2 cipher=ECDHE-ECDSA-AES128-GCM-SHA256 bits=128/128); Mon, 20 Oct 2025 10:39:23 -0700 (PDT) X-Relaying-Domain: iol.unh.edu Date: Mon, 20 Oct 2025 10:39:23 -0700 (PDT) Message-ID: <68f673cb.050a0220.1c481b.1a91SMTPIN_ADDED_MISSING@mx.google.com> Received: from [172.21.0.4] (unknown [172.18.0.240]) by postal.iol.unh.edu (Postfix) with ESMTP id C152F6051830; Mon, 20 Oct 2025 13:39:22 -0400 (EDT) Subject: |SUCCESS| pw157884-157903 [PATCH] [v2,21/21] net/ntnic: fix potentia From: dpdklab@iol.unh.edu To: Test Report Cc: dpdk-test-reports@iol.unh.edu, Stephen Hemminger In-Reply-To: <20251020164336.283664-22-sil-plv@napatech.com> References: <20251020164336.283664-22-sil-plv@napatech.com> Content-Type: text/plain X-BeenThere: test-report@dpdk.org X-Mailman-Version: 2.1.29 Precedence: list List-Id: automatic DPDK test reports List-Unsubscribe: , List-Archive: List-Post: List-Help: List-Subscribe: , Errors-To: test-report-bounces@dpdk.org Test-Label: iol-compile-amd64-testing Test-Status: SUCCESS http://dpdk.org/patch/157903 _Testing PASS_ Submitter: Serhii Iliushyk Date: Monday, October 20 2025 16:43:30 DPDK git baseline: Repo:dpdk-next-net Branch: master CommitID:dce56012d806099005d3cf28a11a6cba140c0f31 157884-157903 --> testing pass Upstream job id: Windows-Compile-DPDK-Native#31780 Test environment and result as below: +---------------------+--------------------+-------------------------+-------------------+----------------------+ | Environment | dpdk_meson_compile | dpdk_llvm_clang_compile | dpdk_msvc_compile | dpdk_mingw64_compile | +=====================+====================+=========================+===================+======================+ | FreeBSD 14.2 | PASS | SKIPPED | SKIPPED | SKIPPED | +---------------------+--------------------+-------------------------+-------------------+----------------------+ | Ubuntu 20.04 | PASS | SKIPPED | SKIPPED | SKIPPED | +---------------------+--------------------+-------------------------+-------------------+----------------------+ | Windows Server 2022 | SKIPPED | PASS | PASS | PASS | +---------------------+--------------------+-------------------------+-------------------+----------------------+ FreeBSD 14.2 Kernel: 14.2-RELEASE Compiler: clang 18.1.6 Ubuntu 20.04 Kernel: 4.19 Compiler: gcc gcc (Ubuntu 9.4.0-1ubuntu1~20.04.2) 9.4.0 Windows Server 2022 Kernel: 10.0.20348.2031 Compiler: clang 15.0.7, gcc 14.1.0 (MinGW), and MSVC VS 19.39.33521 To view detailed results, visit: https://lab.dpdk.org/results/dashboard/patchsets/34335/ UNH-IOL DPDK Community Lab To manage your email subscriptions, visit: https://lab.dpdk.org/results/dashboard/preferences/subscriptions/