From mboxrd@z Thu Jan 1 00:00:00 1970 Return-Path: Received: from mails.dpdk.org (mails.dpdk.org [217.70.189.124]) by inbox.dpdk.org (Postfix) with ESMTP id 173F74898D for ; Mon, 20 Oct 2025 19:58:52 +0200 (CEST) Received: from mails.dpdk.org (localhost [127.0.0.1]) by mails.dpdk.org (Postfix) with ESMTP id E146F40262; Mon, 20 Oct 2025 19:58:51 +0200 (CEST) Received: from mail-pf1-f227.google.com (mail-pf1-f227.google.com [209.85.210.227]) by mails.dpdk.org (Postfix) with ESMTP id E1E3740151 for ; Mon, 20 Oct 2025 19:58:50 +0200 (CEST) Received: by mail-pf1-f227.google.com with SMTP id d2e1a72fcca58-791c287c10dso3606122b3a.1 for ; Mon, 20 Oct 2025 10:58:50 -0700 (PDT) DKIM-Signature: v=1; a=rsa-sha256; c=relaxed/relaxed; d=iol.unh.edu; s=unh-iol; t=1760983130; x=1761587930; darn=dpdk.org; h=references:in-reply-to:cc:to:from:subject:message-id:date:from:to :cc:subject:date:message-id:reply-to; bh=DlgNx3CSwNmuyAQLBmPGC6EN5EnTu6kinZ8V70mSxHs=; b=VU1hwuTTRJmRNkPHNRHD8tFF5y2X0/liSw5RlPq6QZiKuwYL5wGFsVgEJZzr7EKswP sM6WeomHu2uJZML81TRCzVMApy3VY2dvh56QW/sYL7udV39hkjkm7zMMlo87uXHzF9CY KCM/bg4sfYOQAElp+ZHoqXKCL0WctIYklfkq4= X-Google-DKIM-Signature: v=1; a=rsa-sha256; c=relaxed/relaxed; d=1e100.net; s=20230601; t=1760983130; x=1761587930; h=references:in-reply-to:cc:to:from:subject:message-id:date :x-gm-message-state:from:to:cc:subject:date:message-id:reply-to; bh=DlgNx3CSwNmuyAQLBmPGC6EN5EnTu6kinZ8V70mSxHs=; b=TCqsvz6Xl+Ii8hGVnznSVvG9jAwPDl1j7kx3yZ27eZhf8qNzNIqMhBrvnUojnmBGbO PDu9/7pCGW/sHkuAKpDSq6xw98aJmRtgE2vplm7JeT+S+KVgGNZiqAwVhhEgHRlXBvLQ E5+5JzP9YYgUPFzMumbYC8Gh3Lz2HZTZeFwJOcwrkCh8BLPK68eM24GjdINy8/IPrGeK lmw4T7O9ajQIuMHwAASEKGm+WP7aGippYqa8/Oa7jmJZhCNyTtlg6HB5YBWtvZXKImZy 7X4Qvn8ulh9iv2+rgkf/3clFAqfAzXylaq0pv9zvxVVIwy4aJIwdKu8GTeHAIgXWTwmT eL9A== X-Gm-Message-State: AOJu0YykTaV78E35VACCXIsgdDYuEhB8mwp0a2yFGR+2o/AFAIaQabNN HzHHNOWfJXFGpXYP808SSOiMslfMapg7nlkk/tfspGYUVLLL+arNWL06xJU5EnjS04unlfFgryQ h/+7vRAu6nJ8/soV1jw8VdyQPxpwjGUxYUBDlwrNyUuP3ApEiysxGtEUmAjHO X-Gm-Gg: ASbGncu+o+X25Yj//fv0Dp9fuKmC5MPAdhse0CE1in5aNyIe6z5DZkUhqsYVEUDiV/D vzk0+LpIyqAmhfiNz3eVR6VfxAVdS0NgSn0/mGpNHup1xALSG0vwL3NpVwkAPmnBytpITjIWCTw 2uTZTQMCMtwqZTn0zxGkjsfqCPMFvtz3dHLS2IcQKx/cmndKj0byTQufcugCa4QFp5t5/RDvxwI xoHC7O0b+09BM6q+/L4o9ELky5Y/rAjmxY6L9CrFRDkeUpXCIsDNl60kGl96V9qmhiGpZW0yPRV U/Uuts2osCr4quy34UYizvZQGrAXyfUgaLs93YTVfF71IhnP7T5+P7nmmwwAk+d1S3HX1zSK0We 8wOl2MvQp X-Google-Smtp-Source: AGHT+IHsx75hPcznaiEM19GvLmdyJzq6FUOLqanynquNN3sRX6SJIvTOmZj6MxrtY0c62EzyrWYwBGJ00S3S X-Received: by 2002:a17:902:e889:b0:25a:24f2:af00 with SMTP id d9443c01a7336-290c9c89799mr170838855ad.12.1760983129986; Mon, 20 Oct 2025 10:58:49 -0700 (PDT) Received: from postal.iol.unh.edu (postal.iol.unh.edu. [2606:4100:3880:1234::84]) by smtp-relay.gmail.com with ESMTPS id d9443c01a7336-292471c615csm9989785ad.39.2025.10.20.10.58.49 (version=TLS1_2 cipher=ECDHE-ECDSA-AES128-GCM-SHA256 bits=128/128); Mon, 20 Oct 2025 10:58:49 -0700 (PDT) X-Relaying-Domain: iol.unh.edu Date: Mon, 20 Oct 2025 10:58:49 -0700 (PDT) Message-ID: <68f67859.170a0220.1a8228.ec58SMTPIN_ADDED_MISSING@mx.google.com> Received: from [172.21.0.2] (unknown [172.18.0.240]) by postal.iol.unh.edu (Postfix) with ESMTP id 6D464604D420; Mon, 20 Oct 2025 13:58:49 -0400 (EDT) Subject: |SUCCESS| pw157883 [PATCH] Revert "net/ice: count drop-all filter in From: dpdklab@iol.unh.edu To: Test Report Cc: dpdk-test-reports@iol.unh.edu, Bruce Richardson In-Reply-To: <20251020164230.3724539-1-jeffrey.b.shaw@intel.com> References: <20251020164230.3724539-1-jeffrey.b.shaw@intel.com> Content-Type: text/plain X-BeenThere: test-report@dpdk.org X-Mailman-Version: 2.1.29 Precedence: list List-Id: automatic DPDK test reports List-Unsubscribe: , List-Archive: List-Post: List-Help: List-Subscribe: , Errors-To: test-report-bounces@dpdk.org Test-Label: iol-compile-amd64-testing Test-Status: SUCCESS http://dpdk.org/patch/157883 _Testing PASS_ Submitter: Jeff Shaw Date: Monday, October 20 2025 16:42:29 DPDK git baseline: Repo:dpdk-next-net-intel Branch: master CommitID:6b997d6b9ffdbb4f8ecd14d1f217da69cdc783af 157883 --> testing pass Upstream job id: Windows-Compile-DPDK-Native#31781 Test environment and result as below: +---------------------+--------------------+-------------------+-------------------------+ | Environment | dpdk_meson_compile | dpdk_msvc_compile | dpdk_llvm_clang_compile | +=====================+====================+===================+=========================+ | Ubuntu 20.04 | PASS | SKIPPED | SKIPPED | +---------------------+--------------------+-------------------+-------------------------+ | FreeBSD 14.2 | PASS | SKIPPED | SKIPPED | +---------------------+--------------------+-------------------+-------------------------+ | Windows Server 2022 | SKIPPED | PASS | PASS | +---------------------+--------------------+-------------------+-------------------------+ Ubuntu 20.04 Kernel: 4.19 Compiler: gcc gcc (Ubuntu 9.4.0-1ubuntu1~20.04.2) 9.4.0 FreeBSD 14.2 Kernel: 14.2-RELEASE Compiler: clang 18.1.6 Windows Server 2022 Kernel: 10.0.20348.2031 Compiler: clang 15.0.7, gcc 14.1.0 (MinGW), and MSVC VS 19.39.33521 To view detailed results, visit: https://lab.dpdk.org/results/dashboard/patchsets/34336/ UNH-IOL DPDK Community Lab To manage your email subscriptions, visit: https://lab.dpdk.org/results/dashboard/preferences/subscriptions/