From mboxrd@z Thu Jan 1 00:00:00 1970 Return-Path: Received: from mails.dpdk.org (mails.dpdk.org [217.70.189.124]) by inbox.dpdk.org (Postfix) with ESMTP id C23D64898E for ; Mon, 20 Oct 2025 20:05:06 +0200 (CEST) Received: from mails.dpdk.org (localhost [127.0.0.1]) by mails.dpdk.org (Postfix) with ESMTP id BC1A040151; Mon, 20 Oct 2025 20:05:06 +0200 (CEST) Received: from mail-pj1-f99.google.com (mail-pj1-f99.google.com [209.85.216.99]) by mails.dpdk.org (Postfix) with ESMTP id F1A5240151 for ; Mon, 20 Oct 2025 20:05:05 +0200 (CEST) Received: by mail-pj1-f99.google.com with SMTP id 98e67ed59e1d1-33bafd5d2adso4134692a91.3 for ; Mon, 20 Oct 2025 11:05:05 -0700 (PDT) DKIM-Signature: v=1; a=rsa-sha256; c=relaxed/relaxed; d=iol.unh.edu; s=unh-iol; t=1760983505; x=1761588305; darn=dpdk.org; h=references:in-reply-to:cc:to:from:subject:message-id:date:from:to :cc:subject:date:message-id:reply-to; bh=S/ttWeOjtquGACsiPBuHtCsTSHWt1t7vQtU6Zwl0f7k=; b=VizWY2ev20nFl7C0s38r4MKVCNKmV3ElHwGUz31SqcdhAXCiDltksBVg8C0QhalfHG 4WIH/PJZGj5CV3VNXxoCi1pCG89krs07MlkmWSIdfN9OAvGE04D39q2j5c/KncLBRwCx yZmK/lo+mtxvl4GTfV4bLao5k1wmlhr7yizXE= X-Google-DKIM-Signature: v=1; a=rsa-sha256; c=relaxed/relaxed; d=1e100.net; s=20230601; t=1760983505; x=1761588305; h=references:in-reply-to:cc:to:from:subject:message-id:date :x-gm-message-state:from:to:cc:subject:date:message-id:reply-to; bh=S/ttWeOjtquGACsiPBuHtCsTSHWt1t7vQtU6Zwl0f7k=; b=XgYXanPV9ApYDuZ9mp2mPvbg6PlXvaWOzBynsEisPy3Gf64/wmyw0mmRMp2hCsqOtK spiiJD6miyYl/ZWfpPfI2K0/omScZoZhwupfgudtqbwjw+6GTlFpU8jWktviGkbzAv6O 5xoI3rboDWeDR0Qld6RSTmpCgx7nPQ/ImSkRglEWSGGxH2bZDsJ4GejobBSuEMhbW2ys PZUjMyEUzMp52k6+BIq5w1plvR6/d9WypzcohQGDEQuZdtNVgezFMwbVa5BqqxpmBhHl lEzs17b363WHbu7sG60BvTD4aNrPn9myB3Rw0DHITbaB36pqcusYe1gRvC8Vpj51/mRG 85DA== X-Gm-Message-State: AOJu0Yzxj75CfKaAwIZVlzkT39Rcxv0iHrGU0CvO5uvAvjkBeBBWS03R j4h8ORnB5vfntbZbOsYnRKZPv0SgMZ+/gfunvW8FRJJ6QME0ZnE4f8kn95u3X3fRNNFdjOpSprr S2+rDDYbjNh8OYBsy18EeNgnLxEqF66krA6Mf2i+EbRJ/ X-Gm-Gg: ASbGnctW49ErEQPVQKztMoM9E/MdiYBr2xdsXBUT2Eang0qFJGPBi0Egw0gLNKF5Q5V 8XhUGGmUcQIGZCGgsYXGWwz/MotDX1ORPBMMS/EriSzbqTaHorSrelL1rb2ja2SAvnRoNHB0Bz0 9N/G4ImzXfHgqK8Kne9SnvRR1xhVe3QOqfV7N7ThCZ1k22G/DqRlHdsXfpfYtIwmgPKq4wgH9Ga 5ckX8DlA898q3H3+Eo12d4z1o3whVTG9h7GiMbYZpye7zOAluMcyhlOv7XPYvZQNJDSmBxPIRC8 AvEK5VSH2lSIO+FEbuMnj1tqUDvn+k5SHHgVtm89NM29h1p1B3pAJ9Nk7+FBJKNClJumh7iRczr auwirj6lygbHp3EzBM8j8enZ8UZU6gcc= X-Google-Smtp-Source: AGHT+IHW4yk29Tf4gfjDeTunzwrbhdArsbdXi8bTMhzst7a56PELkjiDHlbfck+3BGDWo/EjEiG7zrGT1bDJ X-Received: by 2002:a17:90b:5386:b0:329:cb75:fef2 with SMTP id 98e67ed59e1d1-33bcf85b45amr15122269a91.3.1760983505070; Mon, 20 Oct 2025 11:05:05 -0700 (PDT) Received: from postal.iol.unh.edu (postal.iol.unh.edu. [132.177.123.84]) by smtp-relay.gmail.com with ESMTPS id 98e67ed59e1d1-33d5de76ea7sm937183a91.5.2025.10.20.11.05.04 (version=TLS1_2 cipher=ECDHE-ECDSA-AES128-GCM-SHA256 bits=128/128); Mon, 20 Oct 2025 11:05:05 -0700 (PDT) X-Relaying-Domain: iol.unh.edu Date: Mon, 20 Oct 2025 11:05:05 -0700 (PDT) Message-ID: <68f679d1.170a0220.c15f5.d233SMTPIN_ADDED_MISSING@mx.google.com> Received: from [172.21.0.2] (unknown [172.18.0.240]) by postal.iol.unh.edu (Postfix) with ESMTP id 1F390604D420; Mon, 20 Oct 2025 14:05:04 -0400 (EDT) Subject: |SUCCESS| pw157884-157903 [PATCH] [v2,21/21] net/ntnic: fix potentia From: dpdklab@iol.unh.edu To: Test Report Cc: dpdk-test-reports@iol.unh.edu, Stephen Hemminger In-Reply-To: <20251020164336.283664-22-sil-plv@napatech.com> References: <20251020164336.283664-22-sil-plv@napatech.com> Content-Type: text/plain X-BeenThere: test-report@dpdk.org X-Mailman-Version: 2.1.29 Precedence: list List-Id: automatic DPDK test reports List-Unsubscribe: , List-Archive: List-Post: List-Help: List-Subscribe: , Errors-To: test-report-bounces@dpdk.org Test-Label: iol-unit-amd64-testing Test-Status: SUCCESS http://dpdk.org/patch/157903 _Testing PASS_ Submitter: Serhii Iliushyk Date: Monday, October 20 2025 16:43:30 DPDK git baseline: Repo:dpdk-next-net Branch: master CommitID:dce56012d806099005d3cf28a11a6cba140c0f31 157884-157903 --> testing pass Upstream job id: Generic-Unit-Test-DPDK#383695 Test environment and result as below: +-------------------------------+----------------+ | Environment | dpdk_unit_test | +===============================+================+ | Fedora Linux 40 | PASS | +-------------------------------+----------------+ | Fedora Linux 42 | PASS | +-------------------------------+----------------+ | Ubuntu 24.04 | PASS | +-------------------------------+----------------+ | Debian GNU/Linux 12 | PASS | +-------------------------------+----------------+ | Ubuntu 20.04 | PASS | +-------------------------------+----------------+ | Fedora Linux 41 | PASS | +-------------------------------+----------------+ | CentOS Stream 10 | PASS | +-------------------------------+----------------+ | Red Hat Enterprise Linux 9.5 | PASS | +-------------------------------+----------------+ | Red Hat Enterprise Linux 8.10 | PASS | +-------------------------------+----------------+ | Ubuntu 22.04 | PASS | +-------------------------------+----------------+ | CentOS Stream 9 | PASS | +-------------------------------+----------------+ | Windows Server 2022 | PASS | +-------------------------------+----------------+ Fedora Linux 40 Kernel: 5.15 Compiler: gcc gcc (GCC) 14.2.1 20240912 (Red Hat 14.2.1-3) Fedora Linux 42 Kernel: 5.15 Compiler: clang gcc (GCC) 15.2.1 20250808 (Red Hat 15.2.1-1) Ubuntu 24.04 Kernel: 5.15 Compiler: gcc gcc (Ubuntu 13.3.0-6ubuntu2~24.04) 13.3.0 Debian GNU/Linux 12 Kernel: 5.15 Compiler: gcc gcc (Debian 12.2.0-14+deb12u1) 12.2.0 Ubuntu 20.04 Kernel: 5.15 Compiler: gcc gcc (Ubuntu 9.4.0-1ubuntu1~20.04.2) 9.4.0 Fedora Linux 41 Kernel: 5.15 Compiler: gcc gcc (GCC) 14.3.1 20250523 (Red Hat 14.3.1-1) CentOS Stream 10 Kernel: 5.15 Compiler: gcc gcc (GCC) 14.2.1 20250110 (Red Hat 14.2.1-8) Red Hat Enterprise Linux 9.5 Kernel: 5.15 Compiler: gcc gcc (GCC) 11.5.0 20240719 (Red Hat 11.5.0-2) Red Hat Enterprise Linux 8.10 Kernel: 5.15 Compiler: gcc gcc (GCC) 8.5.0 20210514 (Red Hat 8.5.0-22) Ubuntu 22.04 Kernel: 5.15 Compiler: gcc gcc (Ubuntu 11.4.0-1ubuntu1~22.04) 11.4.0 CentOS Stream 9 Kernel: 5.15 Compiler: gcc gcc (GCC) 11.5.0 20240719 (Red Hat 11.5.0-11) Windows Server 2022 Kernel: 10.0.20348.2031 Compiler: clang 15.0.7, gcc 14.1.0 (MinGW), and MSVC VS 19.39.33521 To view detailed results, visit: https://lab.dpdk.org/results/dashboard/patchsets/34335/ UNH-IOL DPDK Community Lab To manage your email subscriptions, visit: https://lab.dpdk.org/results/dashboard/preferences/subscriptions/