From mboxrd@z Thu Jan 1 00:00:00 1970 Return-Path: Received: from mails.dpdk.org (mails.dpdk.org [217.70.189.124]) by inbox.dpdk.org (Postfix) with ESMTP id 168544898E for ; Mon, 20 Oct 2025 20:07:48 +0200 (CEST) Received: from mails.dpdk.org (localhost [127.0.0.1]) by mails.dpdk.org (Postfix) with ESMTP id 0F48140151; Mon, 20 Oct 2025 20:07:48 +0200 (CEST) Received: from mail-pf1-f228.google.com (mail-pf1-f228.google.com [209.85.210.228]) by mails.dpdk.org (Postfix) with ESMTP id 4FDC940151 for ; Mon, 20 Oct 2025 20:07:47 +0200 (CEST) Received: by mail-pf1-f228.google.com with SMTP id d2e1a72fcca58-794e300e20dso4561062b3a.1 for ; Mon, 20 Oct 2025 11:07:47 -0700 (PDT) DKIM-Signature: v=1; a=rsa-sha256; c=relaxed/relaxed; d=iol.unh.edu; s=unh-iol; t=1760983666; x=1761588466; darn=dpdk.org; h=references:in-reply-to:cc:to:from:subject:message-id:date:from:to :cc:subject:date:message-id:reply-to; bh=IB4tCgUS/KUg4Bb2BIMBgNu+fFR5buQL80iVay141QY=; b=NSOOum2UvEjePM50LF9N7TIcopnqKCA+4y3ws+b/JQajh5feaHzgvmx097+qUQvxjE HIgBfnwVyHBJ3bHo5jUmkTLlN0NBLgcM5qQ6gqhTp3PuOZuuVIkwZZkLKOD4JJjgpocq rQIcQuvVRf9RVpaFZr4Mw1buAs5K3fr8cObgc= X-Google-DKIM-Signature: v=1; a=rsa-sha256; c=relaxed/relaxed; d=1e100.net; s=20230601; t=1760983666; x=1761588466; h=references:in-reply-to:cc:to:from:subject:message-id:date :x-gm-message-state:from:to:cc:subject:date:message-id:reply-to; bh=IB4tCgUS/KUg4Bb2BIMBgNu+fFR5buQL80iVay141QY=; b=rLN8cPq4t+1jH42BsyGdzPmInWTYXGuBeqcjhRelOwcMNdNTKnMPctRySVoed/EIKC +V4rLTsnka5zKi+noJgbyq0sYV5SMZNnImwaz1evcsdfABRtSARbeAjKpzK6Je7J5Tws F+r0As+MbZlQJzmUAwx1M0vtl4oOGKkGDmnQ0cSUXRfp3m91oKXc2yNNXQxmIXXcJSyY i+L9jLycn9skY6W9wDhy2URo+Axo26VjPiNZqha0bQ5DzFFUS1sk9HNJtTZ3doswCpzl Yn2P4HG9n6a6xpWMx1sjVKOao6H0TBxqNk2D5XFpQIiXX+t6zDogY/nMJv9WOkWMTdI4 Pu+g== X-Gm-Message-State: AOJu0YzihUyF+lglIm0CjG0pHRg43hM8/IfZniHOJXTmcAEmqqvDmXig r3QIfbRoGaHGK38VtKWWUvSNJh8M3bxUY6zwBoLNvmoEk01Dmzs2TmdtVmtCrXTxTfTZgR5uGOd tOCJ40HKMl5e9m8gH0Jdct5fIJjJiCqROt0xFpaKcq0Uy X-Gm-Gg: ASbGncu3xxGWLTwtFNbMyqOYMEheE75rT6VwUrPgW9raU0/uUz1eZHnr0QUu6jMi6F0 AhD8pkk7BTyEfWeMm1uN9dq0PUkVUmLL9ceugD3ZG7mACc5v7A4gA5IJDiDcSt8wuC/szXh9TGn cyT0WYbhyT1NQuEHxt3QgfxWOcgg41oBi/EQ13/4TGupKvMyBLMgT85fhu8rc3U0r7OCUImMNcf do89DFqIjDSe1U8UGfM/MPmRJOKi95W5CosuBs4LdfzOHWbWVyQ4nV/4uuCaaBhubaYzZa9+bIv 7YcxP8jq8D9L24TTUuH5yCf4wH6wzX4UmFX/mHJUMapFoRRjNAgHiDUZXg8eLC5MjZeXPSKp7T+ HFbmDvVeyoBYZmAjHL10IkjvvuoKPD5k= X-Google-Smtp-Source: AGHT+IEtl9skE/3X2/jov4EVZgfjzMN4EBpp77Rn3EbBVzl/gzd8PBPzdJpjjz3JWtkmBlalYGObVfUjWP6W X-Received: by 2002:a17:903:2a86:b0:292:b0d0:2ef1 with SMTP id d9443c01a7336-292b0d0309amr37664895ad.18.1760983666305; Mon, 20 Oct 2025 11:07:46 -0700 (PDT) Received: from postal.iol.unh.edu (postal.iol.unh.edu. [132.177.123.84]) by smtp-relay.gmail.com with ESMTPS id d9443c01a7336-292471c5f9dsm10381685ad.35.2025.10.20.11.07.46 (version=TLS1_2 cipher=ECDHE-ECDSA-AES128-GCM-SHA256 bits=128/128); Mon, 20 Oct 2025 11:07:46 -0700 (PDT) X-Relaying-Domain: iol.unh.edu Date: Mon, 20 Oct 2025 11:07:46 -0700 (PDT) Message-ID: <68f67a72.170a0220.3c28f.f89bSMTPIN_ADDED_MISSING@mx.google.com> Received: from [172.21.0.2] (unknown [172.18.0.240]) by postal.iol.unh.edu (Postfix) with ESMTP id 5B30B604D420; Mon, 20 Oct 2025 14:07:45 -0400 (EDT) Subject: |SUCCESS| pw157883 [PATCH] Revert "net/ice: count drop-all filter in From: dpdklab@iol.unh.edu To: Test Report Cc: dpdk-test-reports@iol.unh.edu, Bruce Richardson In-Reply-To: <20251020164230.3724539-1-jeffrey.b.shaw@intel.com> References: <20251020164230.3724539-1-jeffrey.b.shaw@intel.com> Content-Type: text/plain X-BeenThere: test-report@dpdk.org X-Mailman-Version: 2.1.29 Precedence: list List-Id: automatic DPDK test reports List-Unsubscribe: , List-Archive: List-Post: List-Help: List-Subscribe: , Errors-To: test-report-bounces@dpdk.org Test-Label: iol-compile-amd64-testing Test-Status: SUCCESS http://dpdk.org/patch/157883 _Testing PASS_ Submitter: Jeff Shaw Date: Monday, October 20 2025 16:42:29 DPDK git baseline: Repo:dpdk-next-net-intel Branch: master CommitID:6b997d6b9ffdbb4f8ecd14d1f217da69cdc783af 157883 --> testing pass Upstream job id: Windows-Compile-DPDK-Native#31782 Test environment and result as below: +---------------------+--------------------+-------------------+-------------------------+----------------------+ | Environment | dpdk_meson_compile | dpdk_msvc_compile | dpdk_llvm_clang_compile | dpdk_mingw64_compile | +=====================+====================+===================+=========================+======================+ | Ubuntu 20.04 | PASS | SKIPPED | SKIPPED | SKIPPED | +---------------------+--------------------+-------------------+-------------------------+----------------------+ | FreeBSD 14.2 | PASS | SKIPPED | SKIPPED | SKIPPED | +---------------------+--------------------+-------------------+-------------------------+----------------------+ | Windows Server 2022 | SKIPPED | PASS | PASS | PASS | +---------------------+--------------------+-------------------+-------------------------+----------------------+ Ubuntu 20.04 Kernel: 4.19 Compiler: gcc gcc (Ubuntu 9.4.0-1ubuntu1~20.04.2) 9.4.0 FreeBSD 14.2 Kernel: 14.2-RELEASE Compiler: clang 18.1.6 Windows Server 2022 Kernel: 10.0.20348.2031 Compiler: clang 15.0.7, gcc 14.1.0 (MinGW), and MSVC VS 19.39.33521 To view detailed results, visit: https://lab.dpdk.org/results/dashboard/patchsets/34336/ UNH-IOL DPDK Community Lab To manage your email subscriptions, visit: https://lab.dpdk.org/results/dashboard/preferences/subscriptions/